BEGIN:VCALENDAR
VERSION:2.0
PRODID:-//Rink 44 - Millennium Skate World - ECPv6.15.20//NONSGML v1.0//EN
CALSCALE:GREGORIAN
METHOD:PUBLISH
X-WR-CALNAME:Rink 44 - Millennium Skate World
X-ORIGINAL-URL:https://www.unitedskates.com/millennium-skate-world
X-WR-CALDESC:Events for Rink 44 - Millennium Skate World
REFRESH-INTERVAL;VALUE=DURATION:PT1H
X-Robots-Tag:noindex
X-PUBLISHED-TTL:PT1H
BEGIN:VTIMEZONE
TZID:America/New_York
BEGIN:DAYLIGHT
TZOFFSETFROM:-0500
TZOFFSETTO:-0400
TZNAME:EDT
DTSTART:20240310T070000
END:DAYLIGHT
BEGIN:STANDARD
TZOFFSETFROM:-0400
TZOFFSETTO:-0500
TZNAME:EST
DTSTART:20241103T060000
END:STANDARD
BEGIN:DAYLIGHT
TZOFFSETFROM:-0500
TZOFFSETTO:-0400
TZNAME:EDT
DTSTART:20250309T070000
END:DAYLIGHT
BEGIN:STANDARD
TZOFFSETFROM:-0400
TZOFFSETTO:-0500
TZNAME:EST
DTSTART:20251102T060000
END:STANDARD
BEGIN:DAYLIGHT
TZOFFSETFROM:-0500
TZOFFSETTO:-0400
TZNAME:EDT
DTSTART:20260308T070000
END:DAYLIGHT
BEGIN:STANDARD
TZOFFSETFROM:-0400
TZOFFSETTO:-0500
TZNAME:EST
DTSTART:20261101T060000
END:STANDARD
END:VTIMEZONE
BEGIN:VEVENT
DTSTART;TZID=America/New_York:20250920T153000
DTEND;TZID=America/New_York:20250920T183000
DTSTAMP:20260421T190529
CREATED:20250707T020833Z
LAST-MODIFIED:20250827T195228Z
UID:26328-1758382200-1758393000@www.unitedskates.com
SUMMARY:Saturday FALL Family FUN Skate
DESCRIPTION:Saturday FALL Family FUN Skate  \n$11.00 Admission \n$5.00 Skate rental \n\nBirthday Parties\nMeetup with family and friends\nSpecial discounted prices for 20 people or more\nCostume character\n\nRaffle – Win a FREE Gold Birthday Party \n 
URL:https://www.unitedskates.com/millennium-skate-world/event/saturday-family-fun-skate-2025-09-20/
LOCATION:Millennium Skate World\, 1900 Carman St.\, Camden\, NJ\, 08105\, United States
CATEGORIES:Family Events,Public Skates,Special Events
ATTACH;FMTTYPE=image/png:https://unitedskates-assets.sfo3.digitaloceanspaces.com/wp-content/uploads/sites/17/2025/07/Fall-flyer-9.20.25.png
END:VEVENT
BEGIN:VEVENT
DTSTART;TZID=America/New_York:20250920T230000
DTEND;TZID=America/New_York:20250921T030000
DTSTAMP:20260421T190529
CREATED:20250803T003051Z
LAST-MODIFIED:20250807T212321Z
UID:26481-1758409200-1758423600@www.unitedskates.com
SUMMARY:All Swag Backward Skate Event
DESCRIPTION:All Swag Backward Skate Event \nSaturday\, Sept 20th \n11pm-3am \n\nContests\nTrophies\n\n$15 Admission with own skates \n$20 Admission with rental skates/Spectators \n 
URL:https://www.unitedskates.com/millennium-skate-world/event/all-swag-backward-skate-event/
LOCATION:Millennium Skate World\, 1900 Carman St.\, Camden\, NJ\, 08105\, United States
CATEGORIES:Adult Events,Public Skates,Special Events
ATTACH;FMTTYPE=image/jpeg:https://unitedskates-assets.sfo3.digitaloceanspaces.com/wp-content/uploads/sites/17/2025/08/Backwards-9.20.25.jpg
END:VEVENT
END:VCALENDAR