BEGIN:VCALENDAR
VERSION:2.0
PRODID:-//Rink 44 - Millennium Skate World - ECPv6.15.20//NONSGML v1.0//EN
CALSCALE:GREGORIAN
METHOD:PUBLISH
X-ORIGINAL-URL:https://www.unitedskates.com/millennium-skate-world
X-WR-CALDESC:Events for Rink 44 - Millennium Skate World
REFRESH-INTERVAL;VALUE=DURATION:PT1H
X-Robots-Tag:noindex
X-PUBLISHED-TTL:PT1H
BEGIN:VTIMEZONE
TZID:America/New_York
BEGIN:DAYLIGHT
TZOFFSETFROM:-0500
TZOFFSETTO:-0400
TZNAME:EDT
DTSTART:20240310T070000
END:DAYLIGHT
BEGIN:STANDARD
TZOFFSETFROM:-0400
TZOFFSETTO:-0500
TZNAME:EST
DTSTART:20241103T060000
END:STANDARD
BEGIN:DAYLIGHT
TZOFFSETFROM:-0500
TZOFFSETTO:-0400
TZNAME:EDT
DTSTART:20250309T070000
END:DAYLIGHT
BEGIN:STANDARD
TZOFFSETFROM:-0400
TZOFFSETTO:-0500
TZNAME:EST
DTSTART:20251102T060000
END:STANDARD
BEGIN:DAYLIGHT
TZOFFSETFROM:-0500
TZOFFSETTO:-0400
TZNAME:EDT
DTSTART:20260308T070000
END:DAYLIGHT
BEGIN:STANDARD
TZOFFSETFROM:-0400
TZOFFSETTO:-0500
TZNAME:EST
DTSTART:20261101T060000
END:STANDARD
END:VTIMEZONE
BEGIN:VEVENT
DTSTART;TZID=America/New_York:20250829T100000
DTEND;TZID=America/New_York:20250901T213000
DTSTAMP:20260421T221150
CREATED:20250808T181322Z
LAST-MODIFIED:20250808T181322Z
UID:26711-1756461600-1756762200@www.unitedskates.com
SUMMARY:Labor Day Weekend
DESCRIPTION:Labor Day Weekend Skate Pass – Only $69.99!\nCelebrate the long weekend with skating\, food\, games\, and major savings! \nThis $100 value includes:🛼 4 Admissions🛼 4 Skate Rentals🕹️ 1 Game Card with 40 Credits🍕 1 Whole Pizza🥤 1 Pitcher of Soda \nAll for just $69.99! \n📅 Valid August 29 – September 1📍 Millennium Skate WorldValid during family public skate sessions only. Not valid during adult night. Restrictions apply. \n🎟️ Don’t miss this limited-time offer! \n\nGet Tickets Here
URL:https://www.unitedskates.com/millennium-skate-world/event/labor-day-weekend/
LOCATION:NJ
CATEGORIES:Family Events,Public Skates,Special Events
ATTACH;FMTTYPE=image/jpeg:https://unitedskates-assets.sfo3.digitaloceanspaces.com/wp-content/uploads/sites/17/2025/08/44-Labor-Day-Weekend-Pass.jpg
END:VEVENT
BEGIN:VEVENT
DTSTART;TZID=America/New_York:20250831T150000
DTEND;TZID=America/New_York:20250831T183000
DTSTAMP:20260421T221150
CREATED:20240804T212310Z
LAST-MODIFIED:20250802T232656Z
UID:21170-1756652400-1756665000@www.unitedskates.com
SUMMARY:Labor Day Weekend Family FUN Skate
DESCRIPTION:Labor Day Weekend – Family Fun Roller Skating  \n3pm-6:30pm \nAdmission $11.00 \nAdvance tickets online $10.00 admission \nSkate rental $5.00 \n\nPerfect day or a Birthday party\nBook a Group of 20 people or more\n\n~~~~~~~~~~~~~~~~ \nFamily package for 4 people $74.99 \n(4) Admission\, (4) Skate rental\, (4) Slices of pizza and (4) 8oz drinks \n\nParents stay with your kids\, No drop-offs
URL:https://www.unitedskates.com/millennium-skate-world/event/family-fun-skate-16-2025-08-31/
LOCATION:Millennium Skate World\, 1900 Carman St.\, Camden\, NJ\, 08105\, United States
CATEGORIES:Family Events,Public Skates,Special Events
ATTACH;FMTTYPE=image/png:https://unitedskates-assets.sfo3.digitaloceanspaces.com/wp-content/uploads/sites/17/2025/03/Labor-weekend-2025-Icecream-.png
END:VEVENT
BEGIN:VEVENT
DTSTART;TZID=America/New_York:20250831T190000
DTEND;TZID=America/New_York:20250831T220000
DTSTAMP:20260421T221150
CREATED:20250521T191840Z
LAST-MODIFIED:20250802T230211Z
UID:25730-1756666800-1756677600@www.unitedskates.com
SUMMARY:Ice Cream Social - Family Skate
DESCRIPTION:Ice Cream Social – Public Skate  \nAll ages welcome \n7pm-10pm \n$11 Admission \n$5 Skate rental \n\nIce cream for everyone
URL:https://www.unitedskates.com/millennium-skate-world/event/private-party-92/
LOCATION:Millennium Skate World\, 1900 Carman St.\, Camden\, NJ\, 08105\, United States
CATEGORIES:Family Events,Public Skates,Special Events
ATTACH;FMTTYPE=image/jpeg:https://unitedskates-assets.sfo3.digitaloceanspaces.com/wp-content/uploads/sites/17/2023/04/Ice-cream-tile.jpg
END:VEVENT
END:VCALENDAR