BEGIN:VCALENDAR
VERSION:2.0
PRODID:-//Rink 44 - Millennium Skate World - ECPv6.15.20//NONSGML v1.0//EN
CALSCALE:GREGORIAN
METHOD:PUBLISH
X-ORIGINAL-URL:https://www.unitedskates.com/millennium-skate-world
X-WR-CALDESC:Events for Rink 44 - Millennium Skate World
REFRESH-INTERVAL;VALUE=DURATION:PT1H
X-Robots-Tag:noindex
X-PUBLISHED-TTL:PT1H
BEGIN:VTIMEZONE
TZID:America/New_York
BEGIN:DAYLIGHT
TZOFFSETFROM:-0500
TZOFFSETTO:-0400
TZNAME:EDT
DTSTART:20240310T070000
END:DAYLIGHT
BEGIN:STANDARD
TZOFFSETFROM:-0400
TZOFFSETTO:-0500
TZNAME:EST
DTSTART:20241103T060000
END:STANDARD
BEGIN:DAYLIGHT
TZOFFSETFROM:-0500
TZOFFSETTO:-0400
TZNAME:EDT
DTSTART:20250309T070000
END:DAYLIGHT
BEGIN:STANDARD
TZOFFSETFROM:-0400
TZOFFSETTO:-0500
TZNAME:EST
DTSTART:20251102T060000
END:STANDARD
BEGIN:DAYLIGHT
TZOFFSETFROM:-0500
TZOFFSETTO:-0400
TZNAME:EDT
DTSTART:20260308T070000
END:DAYLIGHT
BEGIN:STANDARD
TZOFFSETFROM:-0400
TZOFFSETTO:-0500
TZNAME:EST
DTSTART:20261101T060000
END:STANDARD
END:VTIMEZONE
BEGIN:VEVENT
DTSTART;TZID=America/New_York:20250801T100000
DTEND;TZID=America/New_York:20250801T150000
DTSTAMP:20260421T203713
CREATED:20241227T062716Z
LAST-MODIFIED:20241227T062716Z
UID:26174-1754042400-1754060400@www.unitedskates.com
SUMMARY:Open Public Skate
DESCRIPTION:Open Skate \n10am-3pm \n$6.00 Admission \n$5.00 Skate rental \nBook a group of 20 people or more – Call 856-757-9460  or  Email: millenniumskateworld@yahoo.com
URL:https://www.unitedskates.com/millennium-skate-world/event/open-skate/2025-08-01/
LOCATION:Millennium Skate World\, 1900 Carman St.\, Camden\, NJ\, 08105\, United States
CATEGORIES:Family Events,Public Skates,Special Events
ATTACH;FMTTYPE=image/png:https://unitedskates-assets.sfo3.digitaloceanspaces.com/wp-content/uploads/sites/17/2024/12/Kid-daytime-summer-2025.png
END:VEVENT
BEGIN:VEVENT
DTSTART;TZID=America/New_York:20250801T160000
DTEND;TZID=America/New_York:20250801T183000
DTSTAMP:20260421T203713
CREATED:20250325T053105Z
LAST-MODIFIED:20250325T053232Z
UID:24419-1754064000-1754073000@www.unitedskates.com
SUMMARY:Family FUN Skate
DESCRIPTION:Family FUN Skate \n4pm-6:30pm \n$6.00 Admission \n$5.00 Skate rental \n\nSchedule a Birthday Party\nMeetup with friends and family
URL:https://www.unitedskates.com/millennium-skate-world/event/family-fun-skate-12/2025-08-01/
LOCATION:Millennium Skate World\, 1900 Carman St.\, Camden\, NJ\, 08105\, United States
CATEGORIES:Family Events,Public Skates,Special Events
ATTACH;FMTTYPE=image/jpeg:https://unitedskates-assets.sfo3.digitaloceanspaces.com/wp-content/uploads/sites/17/2022/05/AFF-FAMILY-FUN-SKATE-1200x900-1.jpg
END:VEVENT
BEGIN:VEVENT
DTSTART;TZID=America/New_York:20250801T190000
DTEND;TZID=America/New_York:20250801T223000
DTSTAMP:20260421T203713
CREATED:20240308T065511Z
LAST-MODIFIED:20250725T063602Z
UID:20600-1754074800-1754087400@www.unitedskates.com
SUMMARY:Adult Night Skate
DESCRIPTION:Friday Adult Night Skate \n7pm-10:30pm \n\nHip Hop\, R&B and House music\nDJ Ed\n\n\n$12 admission with own skates \n$17 admission with rental skates/Spectators
URL:https://www.unitedskates.com/millennium-skate-world/event/adult-night-skate-8-2025-06-06-2025-08-01/
LOCATION:Millennium Skate World\, 1900 Carman St.\, Camden\, NJ\, 08105\, United States
CATEGORIES:Adult Events,Public Skates,Special Events
ATTACH;FMTTYPE=image/jpeg:https://unitedskates-assets.sfo3.digitaloceanspaces.com/wp-content/uploads/sites/17/2024/03/1st-Friday-Aug-7p-2025.jpg
END:VEVENT
BEGIN:VEVENT
DTSTART;TZID=America/New_York:20250801T230000
DTEND;TZID=America/New_York:20250802T030000
DTSTAMP:20260421T203713
CREATED:20250509T081611Z
LAST-MODIFIED:20250725T063707Z
UID:25687-1754089200-1754103600@www.unitedskates.com
SUMMARY:1st Friday Adult Night Skate
DESCRIPTION:1st Friday Adult Night Skate \nDJ Lil Redd \n\nSchedule a Birthday Party\nMeetup with friends and family\n\n$15.00 Admission with own skates \n$20.00 Admission with rental skates/Spectators
URL:https://www.unitedskates.com/millennium-skate-world/event/1st-friday-adult-night-skate-7/
LOCATION:Millennium Skate World\, 1900 Carman St.\, Camden\, NJ\, 08105\, United States
CATEGORIES:Adult Events,Public Skates,Special Events
ATTACH;FMTTYPE=image/jpeg:https://unitedskates-assets.sfo3.digitaloceanspaces.com/wp-content/uploads/sites/17/2024/03/1st-Friday-Aug-7p-2025.jpg
END:VEVENT
END:VCALENDAR