BEGIN:VCALENDAR
VERSION:2.0
PRODID:-//Rink 44 - Millennium Skate World - ECPv6.15.20//NONSGML v1.0//EN
CALSCALE:GREGORIAN
METHOD:PUBLISH
X-ORIGINAL-URL:https://www.unitedskates.com/millennium-skate-world
X-WR-CALDESC:Events for Rink 44 - Millennium Skate World
REFRESH-INTERVAL;VALUE=DURATION:PT1H
X-Robots-Tag:noindex
X-PUBLISHED-TTL:PT1H
BEGIN:VTIMEZONE
TZID:America/New_York
BEGIN:DAYLIGHT
TZOFFSETFROM:-0500
TZOFFSETTO:-0400
TZNAME:EDT
DTSTART:20240310T070000
END:DAYLIGHT
BEGIN:STANDARD
TZOFFSETFROM:-0400
TZOFFSETTO:-0500
TZNAME:EST
DTSTART:20241103T060000
END:STANDARD
BEGIN:DAYLIGHT
TZOFFSETFROM:-0500
TZOFFSETTO:-0400
TZNAME:EDT
DTSTART:20250309T070000
END:DAYLIGHT
BEGIN:STANDARD
TZOFFSETFROM:-0400
TZOFFSETTO:-0500
TZNAME:EST
DTSTART:20251102T060000
END:STANDARD
BEGIN:DAYLIGHT
TZOFFSETFROM:-0500
TZOFFSETTO:-0400
TZNAME:EDT
DTSTART:20260308T070000
END:DAYLIGHT
BEGIN:STANDARD
TZOFFSETFROM:-0400
TZOFFSETTO:-0500
TZNAME:EST
DTSTART:20261101T060000
END:STANDARD
END:VTIMEZONE
BEGIN:VEVENT
DTSTART;TZID=America/New_York:20250715T180000
DTEND;TZID=America/New_York:20250715T210000
DTSTAMP:20260422T043624
CREATED:20250321T201049Z
LAST-MODIFIED:20250706T181752Z
UID:24197-1752602400-1752613200@www.unitedskates.com
SUMMARY:Tuesday Family Night Skate
DESCRIPTION:Tuesday Family Skate – Special “Luther” slow set \nFeaturing DJ Lil Redd \n6pm-9pm \n$6.00 Admission \n$5.00 Skate rental \n\nSchedule a Birthday party\nMeetup with Family and Friends
URL:https://www.unitedskates.com/millennium-skate-world/event/tuesday-family-night-skate-2025-07-15/2025-07-15/
LOCATION:Millennium Skate World\, 1900 Carman St.\, Camden\, NJ\, 08105\, United States
CATEGORIES:Family Events,Public Skates,Special Events
ATTACH;FMTTYPE=image/png:https://unitedskates-assets.sfo3.digitaloceanspaces.com/wp-content/uploads/sites/17/2025/03/Summer-Tuesday-2025-Music-Special.png
END:VEVENT
END:VCALENDAR