BEGIN:VCALENDAR
VERSION:2.0
PRODID:-//Rink 44 - Millennium Skate World - ECPv6.15.20//NONSGML v1.0//EN
CALSCALE:GREGORIAN
METHOD:PUBLISH
X-ORIGINAL-URL:https://www.unitedskates.com/millennium-skate-world
X-WR-CALDESC:Events for Rink 44 - Millennium Skate World
REFRESH-INTERVAL;VALUE=DURATION:PT1H
X-Robots-Tag:noindex
X-PUBLISHED-TTL:PT1H
BEGIN:VTIMEZONE
TZID:America/New_York
BEGIN:DAYLIGHT
TZOFFSETFROM:-0500
TZOFFSETTO:-0400
TZNAME:EDT
DTSTART:20240310T070000
END:DAYLIGHT
BEGIN:STANDARD
TZOFFSETFROM:-0400
TZOFFSETTO:-0500
TZNAME:EST
DTSTART:20241103T060000
END:STANDARD
BEGIN:DAYLIGHT
TZOFFSETFROM:-0500
TZOFFSETTO:-0400
TZNAME:EDT
DTSTART:20250309T070000
END:DAYLIGHT
BEGIN:STANDARD
TZOFFSETFROM:-0400
TZOFFSETTO:-0500
TZNAME:EST
DTSTART:20251102T060000
END:STANDARD
BEGIN:DAYLIGHT
TZOFFSETFROM:-0500
TZOFFSETTO:-0400
TZNAME:EDT
DTSTART:20260308T070000
END:DAYLIGHT
BEGIN:STANDARD
TZOFFSETFROM:-0400
TZOFFSETTO:-0500
TZNAME:EST
DTSTART:20261101T060000
END:STANDARD
END:VTIMEZONE
BEGIN:VEVENT
DTSTART;TZID=America/New_York:20250712T103000
DTEND;TZID=America/New_York:20250712T150000
DTSTAMP:20260421T221129
CREATED:20250430T044015Z
LAST-MODIFIED:20250618T182340Z
UID:25552-1752316200-1752332400@www.unitedskates.com
SUMMARY:Line Dance Explosion - Day Party
DESCRIPTION:Sho-Tyme presents…. \nLine Dance Explosion – Day Party \nMusic by DJ Wash \nHosted by Coach Carter \n\nLine Dance Lesson 10:30am-11am by Coach Carter\nLine Dance Party 11am-3pm \nCafe Open and Available for sales \nLarge FREE Parking Lot \nSpecial GLOW Dance – FREE Glow stick for everyone \nNo Outside Food or Drinks permitted \n\nAdvance Tickets $15.00 Online   – www.millenniumskateworld.com – Top Left Corner – Get Tickets  \n$18.00 at the door
URL:https://www.unitedskates.com/millennium-skate-world/event/line-dance-event/
LOCATION:Millennium Skate World\, 1900 Carman St.\, Camden\, NJ\, 08105\, United States
CATEGORIES:Family Events,Special Events
ATTACH;FMTTYPE=image/jpeg:https://unitedskates-assets.sfo3.digitaloceanspaces.com/wp-content/uploads/sites/17/2025/04/IMG_20250618_130150_193-1.jpg
END:VEVENT
BEGIN:VEVENT
DTSTART;TZID=America/New_York:20250712T190000
DTEND;TZID=America/New_York:20250712T220000
DTSTAMP:20260421T221129
CREATED:20250415T055123Z
LAST-MODIFIED:20251219T164825Z
UID:24915-1752346800-1752357600@www.unitedskates.com
SUMMARY:Family NIGHT Skate
DESCRIPTION:Family FUN Night Skate \nHip Hop and R&B Music \n7pm-10pm \n$12 Admission at the door \nAdvance ticket sales $11.00 \n$5.00 skate rental \n\nSchedule a Birthday Party\nMeet with friends and family
URL:https://www.unitedskates.com/millennium-skate-world/event/family-night-skate-4-2025-07-12/
LOCATION:Millennium Skate World\, 1900 Carman St.\, Camden\, NJ\, 08105\, United States
CATEGORIES:Family Events,Public Skates,Special Events
ATTACH;FMTTYPE=image/png:https://unitedskates-assets.sfo3.digitaloceanspaces.com/wp-content/uploads/sites/17/2025/06/Sat-11-flyer.png
END:VEVENT
END:VCALENDAR