BEGIN:VCALENDAR
VERSION:2.0
PRODID:-//Rink 44 - Millennium Skate World - ECPv6.15.20//NONSGML v1.0//EN
CALSCALE:GREGORIAN
METHOD:PUBLISH
X-ORIGINAL-URL:https://www.unitedskates.com/millennium-skate-world
X-WR-CALDESC:Events for Rink 44 - Millennium Skate World
REFRESH-INTERVAL;VALUE=DURATION:PT1H
X-Robots-Tag:noindex
X-PUBLISHED-TTL:PT1H
BEGIN:VTIMEZONE
TZID:America/New_York
BEGIN:DAYLIGHT
TZOFFSETFROM:-0500
TZOFFSETTO:-0400
TZNAME:EDT
DTSTART:20240310T070000
END:DAYLIGHT
BEGIN:STANDARD
TZOFFSETFROM:-0400
TZOFFSETTO:-0500
TZNAME:EST
DTSTART:20241103T060000
END:STANDARD
BEGIN:DAYLIGHT
TZOFFSETFROM:-0500
TZOFFSETTO:-0400
TZNAME:EDT
DTSTART:20250309T070000
END:DAYLIGHT
BEGIN:STANDARD
TZOFFSETFROM:-0400
TZOFFSETTO:-0500
TZNAME:EST
DTSTART:20251102T060000
END:STANDARD
BEGIN:DAYLIGHT
TZOFFSETFROM:-0500
TZOFFSETTO:-0400
TZNAME:EDT
DTSTART:20260308T070000
END:DAYLIGHT
BEGIN:STANDARD
TZOFFSETFROM:-0400
TZOFFSETTO:-0500
TZNAME:EST
DTSTART:20261101T060000
END:STANDARD
END:VTIMEZONE
BEGIN:VEVENT
DTSTART;TZID=America/New_York:20250705T153000
DTEND;TZID=America/New_York:20250705T183000
DTSTAMP:20260421T221144
CREATED:20250415T045145Z
LAST-MODIFIED:20250619T160035Z
UID:24855-1751729400-1751740200@www.unitedskates.com
SUMMARY:"Mario" Family FUN Skate
DESCRIPTION:“Mario” Family FUN Skate \n$11 Admission at the door \nAdvance tickets Online – $10.00 \nSkate rental $5.00 \n\nBook a Birthday party\nMeetup with family and friends
URL:https://www.unitedskates.com/millennium-skate-world/event/family-fun-skate-20-2025-07-05/
LOCATION:Millennium Skate World\, 1900 Carman St.\, Camden\, NJ\, 08105\, United States
CATEGORIES:Family Events,Public Skates,Special Events
ATTACH;FMTTYPE=image/png:https://unitedskates-assets.sfo3.digitaloceanspaces.com/wp-content/uploads/sites/17/2024/08/4th-of-July-weekend-2025.png
END:VEVENT
BEGIN:VEVENT
DTSTART;TZID=America/New_York:20250705T190000
DTEND;TZID=America/New_York:20250705T220000
DTSTAMP:20260421T221144
CREATED:20250415T055123Z
LAST-MODIFIED:20250619T160621Z
UID:24914-1751742000-1751752800@www.unitedskates.com
SUMMARY:4th of July Weekend Family NIGHT Skate
DESCRIPTION:4th of July Weekend Family FUN Night Skate \nHip Hop and R&B Music \n7pm-10pm \n$11 Admission at the door \nAdvance ticket sales $10.00 \n$5.00 skate rental \n\nSchedule a Birthday Party\nMeet with friends and family
URL:https://www.unitedskates.com/millennium-skate-world/event/family-night-skate-4/
LOCATION:Millennium Skate World\, 1900 Carman St.\, Camden\, NJ\, 08105\, United States
CATEGORIES:Family Events,Public Skates,Special Events
ATTACH;FMTTYPE=image/png:https://unitedskates-assets.sfo3.digitaloceanspaces.com/wp-content/uploads/sites/17/2024/08/4th-of-July-weekend-2025.png
END:VEVENT
BEGIN:VEVENT
DTSTART;TZID=America/New_York:20250705T230000
DTEND;TZID=America/New_York:20250706T030000
DTSTAMP:20260421T221144
CREATED:20250325T052601Z
LAST-MODIFIED:20250611T041905Z
UID:24414-1751756400-1751770800@www.unitedskates.com
SUMMARY:All Gas No Breaks Weekend
DESCRIPTION:All Gas No Breaks Weekend \nSaturday\, July 5th \n11pm-3am \n\nDJ Lil Redd – Birthday Celebration\nDJ T-Nasty\nDJ Ree\n\n~~~~~~~~~~~ \n\n$20.00 Admission with Own Skates\n$25.00 Admission with Skate rental/Spectators
URL:https://www.unitedskates.com/millennium-skate-world/event/all-gas-no-breaks-weekend/
LOCATION:Millennium Skate World\, 1900 Carman St.\, Camden\, NJ\, 08105\, United States
CATEGORIES:Adult Events,Public Skates,Special Events
ATTACH;FMTTYPE=image/jpeg:https://unitedskates-assets.sfo3.digitaloceanspaces.com/wp-content/uploads/sites/17/2025/03/AGNB-7.4-and-7.5.25.jpg
END:VEVENT
END:VCALENDAR