BEGIN:VCALENDAR
VERSION:2.0
PRODID:-//Rink 44 - Millennium Skate World - ECPv6.15.20//NONSGML v1.0//EN
CALSCALE:GREGORIAN
METHOD:PUBLISH
X-ORIGINAL-URL:https://www.unitedskates.com/millennium-skate-world
X-WR-CALDESC:Events for Rink 44 - Millennium Skate World
REFRESH-INTERVAL;VALUE=DURATION:PT1H
X-Robots-Tag:noindex
X-PUBLISHED-TTL:PT1H
BEGIN:VTIMEZONE
TZID:America/New_York
BEGIN:DAYLIGHT
TZOFFSETFROM:-0500
TZOFFSETTO:-0400
TZNAME:EDT
DTSTART:20240310T070000
END:DAYLIGHT
BEGIN:STANDARD
TZOFFSETFROM:-0400
TZOFFSETTO:-0500
TZNAME:EST
DTSTART:20241103T060000
END:STANDARD
BEGIN:DAYLIGHT
TZOFFSETFROM:-0500
TZOFFSETTO:-0400
TZNAME:EDT
DTSTART:20250309T070000
END:DAYLIGHT
BEGIN:STANDARD
TZOFFSETFROM:-0400
TZOFFSETTO:-0500
TZNAME:EST
DTSTART:20251102T060000
END:STANDARD
BEGIN:DAYLIGHT
TZOFFSETFROM:-0500
TZOFFSETTO:-0400
TZNAME:EDT
DTSTART:20260308T070000
END:DAYLIGHT
BEGIN:STANDARD
TZOFFSETFROM:-0400
TZOFFSETTO:-0500
TZNAME:EST
DTSTART:20261101T060000
END:STANDARD
END:VTIMEZONE
BEGIN:VEVENT
DTSTART;TZID=America/New_York:20250510T120000
DTEND;TZID=America/New_York:20250510T150000
DTSTAMP:20260422T074949
CREATED:20240308T063014Z
LAST-MODIFIED:20250401T064039Z
UID:20646-1746878400-1746889200@www.unitedskates.com
SUMMARY:Mother's Weekend - Family Skate Session
DESCRIPTION:Mother’s Weekend – Family Skate Session \nAll ages welcome \n\nBook a Birthday party\nMeetup/Get Together\nPictures with Hello Kitty\n\n12pm-3pm \n$11 Admission \n$5 Skate rental
URL:https://www.unitedskates.com/millennium-skate-world/event/family-skate-session-2-2025-05-10/
LOCATION:Millennium Skate World\, 1900 Carman St.\, Camden\, NJ\, 08105\, United States
CATEGORIES:Family Events,Public Skates,Special Events
END:VEVENT
BEGIN:VEVENT
DTSTART;TZID=America/New_York:20250510T153000
DTEND;TZID=America/New_York:20250510T183000
DTSTAMP:20260422T074949
CREATED:20240804T213217Z
LAST-MODIFIED:20250401T064244Z
UID:20494-1746891000-1746901800@www.unitedskates.com
SUMMARY:Mother's Weekend Family FUN Skate
DESCRIPTION:Mother’s Weekend – Family Skate Session \n$11 Admission \n$5 Skate rental \n\nSchedule a Birthday party\nBook a Group for 20 people or more
URL:https://www.unitedskates.com/millennium-skate-world/event/family-fun-skate-17-2025-05-10/
LOCATION:Millennium Skate World\, 1900 Carman St.\, Camden\, NJ\, 08105\, United States
CATEGORIES:Family Events,Public Skates,Special Events
END:VEVENT
BEGIN:VEVENT
DTSTART;TZID=America/New_York:20250510T190000
DTEND;TZID=America/New_York:20250510T220000
DTSTAMP:20260422T074949
CREATED:20231026T051252Z
LAST-MODIFIED:20250401T064854Z
UID:20667-1746903600-1746914400@www.unitedskates.com
SUMMARY:Mother's Weekend - Family Night Skate
DESCRIPTION:Mother’s Weekend – Hip Hop Skate – Family Night \n7pm-10pm \n$11 Admission \n$5 Skate rental \nParents stay with your kids\, No drop-offs
URL:https://www.unitedskates.com/millennium-skate-world/event/family-night-skate-3-2025-05-10/
LOCATION:Millennium Skate World\, 1900 Carman St.\, Camden\, NJ\, 08105\, United States
CATEGORIES:Family Events,Public Skates,Special Events
END:VEVENT
END:VCALENDAR