BEGIN:VCALENDAR
VERSION:2.0
PRODID:-//Rink 44 - Millennium Skate World - ECPv6.15.20//NONSGML v1.0//EN
CALSCALE:GREGORIAN
METHOD:PUBLISH
X-ORIGINAL-URL:https://www.unitedskates.com/millennium-skate-world
X-WR-CALDESC:Events for Rink 44 - Millennium Skate World
REFRESH-INTERVAL;VALUE=DURATION:PT1H
X-Robots-Tag:noindex
X-PUBLISHED-TTL:PT1H
BEGIN:VTIMEZONE
TZID:America/New_York
BEGIN:DAYLIGHT
TZOFFSETFROM:-0500
TZOFFSETTO:-0400
TZNAME:EDT
DTSTART:20250309T070000
END:DAYLIGHT
BEGIN:STANDARD
TZOFFSETFROM:-0400
TZOFFSETTO:-0500
TZNAME:EST
DTSTART:20251102T060000
END:STANDARD
BEGIN:DAYLIGHT
TZOFFSETFROM:-0500
TZOFFSETTO:-0400
TZNAME:EDT
DTSTART:20260308T070000
END:DAYLIGHT
BEGIN:STANDARD
TZOFFSETFROM:-0400
TZOFFSETTO:-0500
TZNAME:EST
DTSTART:20261101T060000
END:STANDARD
BEGIN:DAYLIGHT
TZOFFSETFROM:-0500
TZOFFSETTO:-0400
TZNAME:EDT
DTSTART:20270314T070000
END:DAYLIGHT
BEGIN:STANDARD
TZOFFSETFROM:-0400
TZOFFSETTO:-0500
TZNAME:EST
DTSTART:20271107T060000
END:STANDARD
END:VTIMEZONE
BEGIN:VEVENT
DTSTART;TZID=America/New_York:20261101T150000
DTEND;TZID=America/New_York:20261101T183000
DTSTAMP:20260422T134509
CREATED:20250430T050819Z
LAST-MODIFIED:20260125T055928Z
UID:28582-1793545200-1793557800@www.unitedskates.com
SUMMARY:Sunday Family FUN Skate
DESCRIPTION:Sunday Family FUN Skate  \n3pm-6:30pm \n$12.00 Admission at the door \n$11.00 Admission – Tickets online \n$5.00 Skate rental \n\nSchedule a Birthday party\nMeetup with family and friends\n\n~~~~~~~~ \nFamily Package $74.99 for (4) people \n4 Admission\, 4 Skate rental\, 1 Whole Pizza and Pitcher of Soda
URL:https://www.unitedskates.com/millennium-skate-world/event/family-fun-skate-25-2025-12-21-2026-01-04/2026-11-01/
LOCATION:Millennium Skate World\, 1900 Carman St.\, Camden\, NJ\, 08105\, United States
CATEGORIES:Family Events,Public Skates,Special Events
ATTACH;FMTTYPE=image/png:https://unitedskates-assets.sfo3.digitaloceanspaces.com/wp-content/uploads/sites/17/2025/04/Sunday-Family-3pm-12-2026.png
END:VEVENT
BEGIN:VEVENT
DTSTART;TZID=America/New_York:20261102T180000
DTEND;TZID=America/New_York:20261102T220000
DTSTAMP:20260422T134509
CREATED:20251214T180027Z
LAST-MODIFIED:20260125T233137Z
UID:28024-1793642400-1793656800@www.unitedskates.com
SUMMARY:Monday Night Family Skate featuring DJ Mar
DESCRIPTION:Monday Night Family Skate featuring DJ Mar \nSession Time: 6pm-10pm \n$8.00 Admission \n$5.00 Skate rental \n\nSchedule a Birthday party\nMeetup with friends and family\nNote – This is an Advanced Skater session
URL:https://www.unitedskates.com/millennium-skate-world/event/monday-night-family-skate-featuring-dj-mar-2/2026-11-02/
LOCATION:Millennium Skate World\, 1900 Carman St.\, Camden\, NJ\, 08105\, United States
CATEGORIES:Family Events,Public Skates,Special Events
ATTACH;FMTTYPE=image/jpeg:https://unitedskates-assets.sfo3.digitaloceanspaces.com/wp-content/uploads/sites/17/2024/10/Monday-nights-8.00-Lamar.jpg
END:VEVENT
BEGIN:VEVENT
DTSTART;TZID=America/New_York:20261104T210000
DTEND;TZID=America/New_York:20261105T020000
DTSTAMP:20260422T134509
CREATED:20251219T173823Z
LAST-MODIFIED:20251219T173823Z
UID:28372-1793826000-1793844000@www.unitedskates.com
SUMMARY:Adult Night 1st Wednesday
DESCRIPTION:1st Wednesday Adult Night Skate \n9pm-2am \nGet your ROLL on to your favorite Hip Hop\, R&B and House music \n$15 Admission with own skates \n$20 Admission with Rental skates/Spectators
URL:https://www.unitedskates.com/millennium-skate-world/event/adult-night-1st-wednesday/2026-11-04/
LOCATION:Millennium Skate World\, 1900 Carman St.\, Camden\, NJ\, 08105\, United States
CATEGORIES:Adult Events,Public Skates,Special Events
ATTACH;FMTTYPE=image/jpeg:https://unitedskates-assets.sfo3.digitaloceanspaces.com/wp-content/uploads/sites/17/2022/05/1st-wed-adult-skate-2022-1200x900-1.jpg
END:VEVENT
BEGIN:VEVENT
DTSTART;TZID=America/New_York:20261106T190000
DTEND;TZID=America/New_York:20261106T223000
DTSTAMP:20260422T134509
CREATED:20251219T234854Z
LAST-MODIFIED:20251220T000112Z
UID:28509-1793991600-1794004200@www.unitedskates.com
SUMMARY:1st Friday Adult Skate
DESCRIPTION:1st Friday Adult Skate \n7pm-10:30pm \n$12 Admission with own skates \n$17 Admission with rental skates/Spectators \nfeaturing DJ Ed \n\nSchedule a Birthday party\nMeetup with friends and family
URL:https://www.unitedskates.com/millennium-skate-world/event/friday-night-adult-skate/2026-11-06/
LOCATION:Millennium Skate World\, 1900 Carman St.\, Camden\, NJ\, 08105\, United States
CATEGORIES:Adult Events,Public Skates,Special Events
ATTACH;FMTTYPE=image/jpeg:https://unitedskates-assets.sfo3.digitaloceanspaces.com/wp-content/uploads/sites/17/2022/05/1st-Friday-Adult-Skate-2022-1200x900-1.jpg
END:VEVENT
BEGIN:VEVENT
DTSTART;TZID=America/New_York:20261107T190000
DTEND;TZID=America/New_York:20261107T220000
DTSTAMP:20260422T134509
CREATED:20260313T054757Z
LAST-MODIFIED:20260313T054757Z
UID:29525-1794078000-1794088800@www.unitedskates.com
SUMMARY:Saturday Night Skate
DESCRIPTION:Saturday Night Skate \n7pm-10pm \n$12 Admission \n$5 Skate rental \n\nSchedule a Birthday party\nGroup Discount for 20 people or more\nMeetup with family and friends
URL:https://www.unitedskates.com/millennium-skate-world/event/saturday-night-skate/2026-11-07/
LOCATION:Millennium Skate World\, 1900 Carman St.\, Camden\, NJ\, 08105\, United States
CATEGORIES:Family Events,Public Skates,Special Events
ATTACH;FMTTYPE=image/png:https://unitedskates-assets.sfo3.digitaloceanspaces.com/wp-content/uploads/sites/17/2025/12/Saturday-7pm-10pm-12.png
END:VEVENT
BEGIN:VEVENT
DTSTART;TZID=America/New_York:20261108T150000
DTEND;TZID=America/New_York:20261108T183000
DTSTAMP:20260422T134509
CREATED:20250430T050819Z
LAST-MODIFIED:20260125T055929Z
UID:28583-1794150000-1794162600@www.unitedskates.com
SUMMARY:Sunday Family FUN Skate
DESCRIPTION:Sunday Family FUN Skate  \n3pm-6:30pm \n$12.00 Admission at the door \n$11.00 Admission – Tickets online \n$5.00 Skate rental \n\nSchedule a Birthday party\nMeetup with family and friends\n\n~~~~~~~~ \nFamily Package $74.99 for (4) people \n4 Admission\, 4 Skate rental\, 1 Whole Pizza and Pitcher of Soda
URL:https://www.unitedskates.com/millennium-skate-world/event/family-fun-skate-25-2025-12-21-2026-01-04/2026-11-08/
LOCATION:Millennium Skate World\, 1900 Carman St.\, Camden\, NJ\, 08105\, United States
CATEGORIES:Family Events,Public Skates,Special Events
ATTACH;FMTTYPE=image/png:https://unitedskates-assets.sfo3.digitaloceanspaces.com/wp-content/uploads/sites/17/2025/04/Sunday-Family-3pm-12-2026.png
END:VEVENT
BEGIN:VEVENT
DTSTART;TZID=America/New_York:20261109T180000
DTEND;TZID=America/New_York:20261109T220000
DTSTAMP:20260422T134509
CREATED:20251214T180027Z
LAST-MODIFIED:20260125T233138Z
UID:28025-1794247200-1794261600@www.unitedskates.com
SUMMARY:Monday Night Family Skate featuring DJ Mar
DESCRIPTION:Monday Night Family Skate featuring DJ Mar \nSession Time: 6pm-10pm \n$8.00 Admission \n$5.00 Skate rental \n\nSchedule a Birthday party\nMeetup with friends and family\nNote – This is an Advanced Skater session
URL:https://www.unitedskates.com/millennium-skate-world/event/monday-night-family-skate-featuring-dj-mar-2/2026-11-09/
LOCATION:Millennium Skate World\, 1900 Carman St.\, Camden\, NJ\, 08105\, United States
CATEGORIES:Family Events,Public Skates,Special Events
ATTACH;FMTTYPE=image/jpeg:https://unitedskates-assets.sfo3.digitaloceanspaces.com/wp-content/uploads/sites/17/2024/10/Monday-nights-8.00-Lamar.jpg
END:VEVENT
BEGIN:VEVENT
DTSTART;TZID=America/New_York:20261113T190000
DTEND;TZID=America/New_York:20261113T230000
DTSTAMP:20260422T134509
CREATED:20251219T234854Z
LAST-MODIFIED:20251219T235642Z
UID:28486-1794596400-1794610800@www.unitedskates.com
SUMMARY:Friday Night Adult Skate
DESCRIPTION:Friday Night Adult Skate \n7pm-11pm \n$12 Admission with own skates \n$17 Admission with rental skates/Spectators \nfeaturing DJ Reef \n\nSchedule a Birthday party\nMeetup with friends and family
URL:https://www.unitedskates.com/millennium-skate-world/event/friday-night-adult-skate-2026-08-14/2026-11-13/
LOCATION:Millennium Skate World\, 1900 Carman St.\, Camden\, NJ\, 08105\, United States
CATEGORIES:Adult Events,Public Skates,Special Events
ATTACH;FMTTYPE=image/jpeg:https://unitedskates-assets.sfo3.digitaloceanspaces.com/wp-content/uploads/sites/17/2024/10/Friday-Adult-Reef-2025.jpg
END:VEVENT
BEGIN:VEVENT
DTSTART;TZID=America/New_York:20261114T190000
DTEND;TZID=America/New_York:20261114T220000
DTSTAMP:20260422T134509
CREATED:20260313T054757Z
LAST-MODIFIED:20260313T054757Z
UID:29526-1794682800-1794693600@www.unitedskates.com
SUMMARY:Saturday Night Skate
DESCRIPTION:Saturday Night Skate \n7pm-10pm \n$12 Admission \n$5 Skate rental \n\nSchedule a Birthday party\nGroup Discount for 20 people or more\nMeetup with family and friends
URL:https://www.unitedskates.com/millennium-skate-world/event/saturday-night-skate/2026-11-14/
LOCATION:Millennium Skate World\, 1900 Carman St.\, Camden\, NJ\, 08105\, United States
CATEGORIES:Family Events,Public Skates,Special Events
ATTACH;FMTTYPE=image/png:https://unitedskates-assets.sfo3.digitaloceanspaces.com/wp-content/uploads/sites/17/2025/12/Saturday-7pm-10pm-12.png
END:VEVENT
BEGIN:VEVENT
DTSTART;TZID=America/New_York:20261115T150000
DTEND;TZID=America/New_York:20261115T183000
DTSTAMP:20260422T134509
CREATED:20250430T050819Z
LAST-MODIFIED:20260125T055930Z
UID:28584-1794754800-1794767400@www.unitedskates.com
SUMMARY:Sunday Family FUN Skate
DESCRIPTION:Sunday Family FUN Skate  \n3pm-6:30pm \n$12.00 Admission at the door \n$11.00 Admission – Tickets online \n$5.00 Skate rental \n\nSchedule a Birthday party\nMeetup with family and friends\n\n~~~~~~~~ \nFamily Package $74.99 for (4) people \n4 Admission\, 4 Skate rental\, 1 Whole Pizza and Pitcher of Soda
URL:https://www.unitedskates.com/millennium-skate-world/event/family-fun-skate-25-2025-12-21-2026-01-04/2026-11-15/
LOCATION:Millennium Skate World\, 1900 Carman St.\, Camden\, NJ\, 08105\, United States
CATEGORIES:Family Events,Public Skates,Special Events
ATTACH;FMTTYPE=image/png:https://unitedskates-assets.sfo3.digitaloceanspaces.com/wp-content/uploads/sites/17/2025/04/Sunday-Family-3pm-12-2026.png
END:VEVENT
BEGIN:VEVENT
DTSTART;TZID=America/New_York:20261116T180000
DTEND;TZID=America/New_York:20261116T220000
DTSTAMP:20260422T134509
CREATED:20251214T180027Z
LAST-MODIFIED:20260125T233138Z
UID:28026-1794852000-1794866400@www.unitedskates.com
SUMMARY:Monday Night Family Skate featuring DJ Mar
DESCRIPTION:Monday Night Family Skate featuring DJ Mar \nSession Time: 6pm-10pm \n$8.00 Admission \n$5.00 Skate rental \n\nSchedule a Birthday party\nMeetup with friends and family\nNote – This is an Advanced Skater session
URL:https://www.unitedskates.com/millennium-skate-world/event/monday-night-family-skate-featuring-dj-mar-2/2026-11-16/
LOCATION:Millennium Skate World\, 1900 Carman St.\, Camden\, NJ\, 08105\, United States
CATEGORIES:Family Events,Public Skates,Special Events
ATTACH;FMTTYPE=image/jpeg:https://unitedskates-assets.sfo3.digitaloceanspaces.com/wp-content/uploads/sites/17/2024/10/Monday-nights-8.00-Lamar.jpg
END:VEVENT
BEGIN:VEVENT
DTSTART;TZID=America/New_York:20261120T190000
DTEND;TZID=America/New_York:20261120T230000
DTSTAMP:20260422T134509
CREATED:20251219T234854Z
LAST-MODIFIED:20251219T235642Z
UID:28487-1795201200-1795215600@www.unitedskates.com
SUMMARY:Friday Night Adult Skate
DESCRIPTION:Friday Night Adult Skate \n7pm-11pm \n$12 Admission with own skates \n$17 Admission with rental skates/Spectators \nfeaturing DJ Reef \n\nSchedule a Birthday party\nMeetup with friends and family
URL:https://www.unitedskates.com/millennium-skate-world/event/friday-night-adult-skate-2026-08-14/2026-11-20/
LOCATION:Millennium Skate World\, 1900 Carman St.\, Camden\, NJ\, 08105\, United States
CATEGORIES:Adult Events,Public Skates,Special Events
ATTACH;FMTTYPE=image/jpeg:https://unitedskates-assets.sfo3.digitaloceanspaces.com/wp-content/uploads/sites/17/2024/10/Friday-Adult-Reef-2025.jpg
END:VEVENT
BEGIN:VEVENT
DTSTART;TZID=America/New_York:20261121T190000
DTEND;TZID=America/New_York:20261121T220000
DTSTAMP:20260422T134509
CREATED:20260313T054757Z
LAST-MODIFIED:20260313T054757Z
UID:29527-1795287600-1795298400@www.unitedskates.com
SUMMARY:Saturday Night Skate
DESCRIPTION:Saturday Night Skate \n7pm-10pm \n$12 Admission \n$5 Skate rental \n\nSchedule a Birthday party\nGroup Discount for 20 people or more\nMeetup with family and friends
URL:https://www.unitedskates.com/millennium-skate-world/event/saturday-night-skate/2026-11-21/
LOCATION:Millennium Skate World\, 1900 Carman St.\, Camden\, NJ\, 08105\, United States
CATEGORIES:Family Events,Public Skates,Special Events
ATTACH;FMTTYPE=image/png:https://unitedskates-assets.sfo3.digitaloceanspaces.com/wp-content/uploads/sites/17/2025/12/Saturday-7pm-10pm-12.png
END:VEVENT
BEGIN:VEVENT
DTSTART;TZID=America/New_York:20261122T150000
DTEND;TZID=America/New_York:20261122T183000
DTSTAMP:20260422T134509
CREATED:20250430T050819Z
LAST-MODIFIED:20260125T055930Z
UID:28585-1795359600-1795372200@www.unitedskates.com
SUMMARY:Sunday Family FUN Skate
DESCRIPTION:Sunday Family FUN Skate  \n3pm-6:30pm \n$12.00 Admission at the door \n$11.00 Admission – Tickets online \n$5.00 Skate rental \n\nSchedule a Birthday party\nMeetup with family and friends\n\n~~~~~~~~ \nFamily Package $74.99 for (4) people \n4 Admission\, 4 Skate rental\, 1 Whole Pizza and Pitcher of Soda
URL:https://www.unitedskates.com/millennium-skate-world/event/family-fun-skate-25-2025-12-21-2026-01-04/2026-11-22/
LOCATION:Millennium Skate World\, 1900 Carman St.\, Camden\, NJ\, 08105\, United States
CATEGORIES:Family Events,Public Skates,Special Events
ATTACH;FMTTYPE=image/png:https://unitedskates-assets.sfo3.digitaloceanspaces.com/wp-content/uploads/sites/17/2025/04/Sunday-Family-3pm-12-2026.png
END:VEVENT
BEGIN:VEVENT
DTSTART;TZID=America/New_York:20261123T180000
DTEND;TZID=America/New_York:20261123T220000
DTSTAMP:20260422T134509
CREATED:20251214T180027Z
LAST-MODIFIED:20260125T233138Z
UID:28027-1795456800-1795471200@www.unitedskates.com
SUMMARY:Monday Night Family Skate featuring DJ Mar
DESCRIPTION:Monday Night Family Skate featuring DJ Mar \nSession Time: 6pm-10pm \n$8.00 Admission \n$5.00 Skate rental \n\nSchedule a Birthday party\nMeetup with friends and family\nNote – This is an Advanced Skater session
URL:https://www.unitedskates.com/millennium-skate-world/event/monday-night-family-skate-featuring-dj-mar-2/2026-11-23/
LOCATION:Millennium Skate World\, 1900 Carman St.\, Camden\, NJ\, 08105\, United States
CATEGORIES:Family Events,Public Skates,Special Events
ATTACH;FMTTYPE=image/jpeg:https://unitedskates-assets.sfo3.digitaloceanspaces.com/wp-content/uploads/sites/17/2024/10/Monday-nights-8.00-Lamar.jpg
END:VEVENT
BEGIN:VEVENT
DTSTART;TZID=America/New_York:20261127T190000
DTEND;TZID=America/New_York:20261127T230000
DTSTAMP:20260422T134509
CREATED:20251219T234854Z
LAST-MODIFIED:20251219T235642Z
UID:28488-1795806000-1795820400@www.unitedskates.com
SUMMARY:Friday Night Adult Skate
DESCRIPTION:Friday Night Adult Skate \n7pm-11pm \n$12 Admission with own skates \n$17 Admission with rental skates/Spectators \nfeaturing DJ Reef \n\nSchedule a Birthday party\nMeetup with friends and family
URL:https://www.unitedskates.com/millennium-skate-world/event/friday-night-adult-skate-2026-08-14/2026-11-27/
LOCATION:Millennium Skate World\, 1900 Carman St.\, Camden\, NJ\, 08105\, United States
CATEGORIES:Adult Events,Public Skates,Special Events
ATTACH;FMTTYPE=image/jpeg:https://unitedskates-assets.sfo3.digitaloceanspaces.com/wp-content/uploads/sites/17/2024/10/Friday-Adult-Reef-2025.jpg
END:VEVENT
BEGIN:VEVENT
DTSTART;TZID=America/New_York:20261128T190000
DTEND;TZID=America/New_York:20261128T220000
DTSTAMP:20260422T134509
CREATED:20260313T054757Z
LAST-MODIFIED:20260313T054757Z
UID:29528-1795892400-1795903200@www.unitedskates.com
SUMMARY:Saturday Night Skate
DESCRIPTION:Saturday Night Skate \n7pm-10pm \n$12 Admission \n$5 Skate rental \n\nSchedule a Birthday party\nGroup Discount for 20 people or more\nMeetup with family and friends
URL:https://www.unitedskates.com/millennium-skate-world/event/saturday-night-skate/2026-11-28/
LOCATION:Millennium Skate World\, 1900 Carman St.\, Camden\, NJ\, 08105\, United States
CATEGORIES:Family Events,Public Skates,Special Events
ATTACH;FMTTYPE=image/png:https://unitedskates-assets.sfo3.digitaloceanspaces.com/wp-content/uploads/sites/17/2025/12/Saturday-7pm-10pm-12.png
END:VEVENT
BEGIN:VEVENT
DTSTART;TZID=America/New_York:20261129T150000
DTEND;TZID=America/New_York:20261129T183000
DTSTAMP:20260422T134509
CREATED:20250430T050819Z
LAST-MODIFIED:20260125T055930Z
UID:28586-1795964400-1795977000@www.unitedskates.com
SUMMARY:Sunday Family FUN Skate
DESCRIPTION:Sunday Family FUN Skate  \n3pm-6:30pm \n$12.00 Admission at the door \n$11.00 Admission – Tickets online \n$5.00 Skate rental \n\nSchedule a Birthday party\nMeetup with family and friends\n\n~~~~~~~~ \nFamily Package $74.99 for (4) people \n4 Admission\, 4 Skate rental\, 1 Whole Pizza and Pitcher of Soda
URL:https://www.unitedskates.com/millennium-skate-world/event/family-fun-skate-25-2025-12-21-2026-01-04/2026-11-29/
LOCATION:Millennium Skate World\, 1900 Carman St.\, Camden\, NJ\, 08105\, United States
CATEGORIES:Family Events,Public Skates,Special Events
ATTACH;FMTTYPE=image/png:https://unitedskates-assets.sfo3.digitaloceanspaces.com/wp-content/uploads/sites/17/2025/04/Sunday-Family-3pm-12-2026.png
END:VEVENT
BEGIN:VEVENT
DTSTART;TZID=America/New_York:20261130T180000
DTEND;TZID=America/New_York:20261130T220000
DTSTAMP:20260422T134509
CREATED:20251214T180027Z
LAST-MODIFIED:20260125T233138Z
UID:28028-1796061600-1796076000@www.unitedskates.com
SUMMARY:Monday Night Family Skate featuring DJ Mar
DESCRIPTION:Monday Night Family Skate featuring DJ Mar \nSession Time: 6pm-10pm \n$8.00 Admission \n$5.00 Skate rental \n\nSchedule a Birthday party\nMeetup with friends and family\nNote – This is an Advanced Skater session
URL:https://www.unitedskates.com/millennium-skate-world/event/monday-night-family-skate-featuring-dj-mar-2/2026-11-30/
LOCATION:Millennium Skate World\, 1900 Carman St.\, Camden\, NJ\, 08105\, United States
CATEGORIES:Family Events,Public Skates,Special Events
ATTACH;FMTTYPE=image/jpeg:https://unitedskates-assets.sfo3.digitaloceanspaces.com/wp-content/uploads/sites/17/2024/10/Monday-nights-8.00-Lamar.jpg
END:VEVENT
END:VCALENDAR