BEGIN:VCALENDAR
VERSION:2.0
PRODID:-//Rink 44 - Millennium Skate World - ECPv6.15.20//NONSGML v1.0//EN
CALSCALE:GREGORIAN
METHOD:PUBLISH
X-WR-CALNAME:Rink 44 - Millennium Skate World
X-ORIGINAL-URL:https://www.unitedskates.com/millennium-skate-world
X-WR-CALDESC:Events for Rink 44 - Millennium Skate World
REFRESH-INTERVAL;VALUE=DURATION:PT1H
X-Robots-Tag:noindex
X-PUBLISHED-TTL:PT1H
BEGIN:VTIMEZONE
TZID:America/New_York
BEGIN:DAYLIGHT
TZOFFSETFROM:-0500
TZOFFSETTO:-0400
TZNAME:EDT
DTSTART:20250309T070000
END:DAYLIGHT
BEGIN:STANDARD
TZOFFSETFROM:-0400
TZOFFSETTO:-0500
TZNAME:EST
DTSTART:20251102T060000
END:STANDARD
BEGIN:DAYLIGHT
TZOFFSETFROM:-0500
TZOFFSETTO:-0400
TZNAME:EDT
DTSTART:20260308T070000
END:DAYLIGHT
BEGIN:STANDARD
TZOFFSETFROM:-0400
TZOFFSETTO:-0500
TZNAME:EST
DTSTART:20261101T060000
END:STANDARD
BEGIN:DAYLIGHT
TZOFFSETFROM:-0500
TZOFFSETTO:-0400
TZNAME:EDT
DTSTART:20270314T070000
END:DAYLIGHT
BEGIN:STANDARD
TZOFFSETFROM:-0400
TZOFFSETTO:-0500
TZNAME:EST
DTSTART:20271107T060000
END:STANDARD
END:VTIMEZONE
BEGIN:VEVENT
DTSTART;TZID=America/New_York:20261002T190000
DTEND;TZID=America/New_York:20261002T223000
DTSTAMP:20260422T164507
CREATED:20251219T234854Z
LAST-MODIFIED:20251220T000112Z
UID:28508-1790967600-1790980200@www.unitedskates.com
SUMMARY:1st Friday Adult Skate
DESCRIPTION:1st Friday Adult Skate \n7pm-10:30pm \n$12 Admission with own skates \n$17 Admission with rental skates/Spectators \nfeaturing DJ Ed \n\nSchedule a Birthday party\nMeetup with friends and family
URL:https://www.unitedskates.com/millennium-skate-world/event/friday-night-adult-skate/2026-10-02/
LOCATION:Millennium Skate World\, 1900 Carman St.\, Camden\, NJ\, 08105\, United States
CATEGORIES:Adult Events,Public Skates,Special Events
ATTACH;FMTTYPE=image/jpeg:https://unitedskates-assets.sfo3.digitaloceanspaces.com/wp-content/uploads/sites/17/2022/05/1st-Friday-Adult-Skate-2022-1200x900-1.jpg
END:VEVENT
BEGIN:VEVENT
DTSTART;TZID=America/New_York:20261003T190000
DTEND;TZID=America/New_York:20261003T220000
DTSTAMP:20260422T164507
CREATED:20260313T054757Z
LAST-MODIFIED:20260313T054757Z
UID:29520-1791054000-1791064800@www.unitedskates.com
SUMMARY:Saturday Night Skate
DESCRIPTION:Saturday Night Skate \n7pm-10pm \n$12 Admission \n$5 Skate rental \n\nSchedule a Birthday party\nGroup Discount for 20 people or more\nMeetup with family and friends
URL:https://www.unitedskates.com/millennium-skate-world/event/saturday-night-skate/2026-10-03/
LOCATION:Millennium Skate World\, 1900 Carman St.\, Camden\, NJ\, 08105\, United States
CATEGORIES:Family Events,Public Skates,Special Events
ATTACH;FMTTYPE=image/png:https://unitedskates-assets.sfo3.digitaloceanspaces.com/wp-content/uploads/sites/17/2025/12/Saturday-7pm-10pm-12.png
END:VEVENT
BEGIN:VEVENT
DTSTART;TZID=America/New_York:20261004T150000
DTEND;TZID=America/New_York:20261004T183000
DTSTAMP:20260422T164507
CREATED:20250430T050819Z
LAST-MODIFIED:20260125T055927Z
UID:28578-1791126000-1791138600@www.unitedskates.com
SUMMARY:Sunday Family FUN Skate
DESCRIPTION:Sunday Family FUN Skate  \n3pm-6:30pm \n$12.00 Admission at the door \n$11.00 Admission – Tickets online \n$5.00 Skate rental \n\nSchedule a Birthday party\nMeetup with family and friends\n\n~~~~~~~~ \nFamily Package $74.99 for (4) people \n4 Admission\, 4 Skate rental\, 1 Whole Pizza and Pitcher of Soda
URL:https://www.unitedskates.com/millennium-skate-world/event/family-fun-skate-25-2025-12-21-2026-01-04/2026-10-04/
LOCATION:Millennium Skate World\, 1900 Carman St.\, Camden\, NJ\, 08105\, United States
CATEGORIES:Family Events,Public Skates,Special Events
ATTACH;FMTTYPE=image/png:https://unitedskates-assets.sfo3.digitaloceanspaces.com/wp-content/uploads/sites/17/2025/04/Sunday-Family-3pm-12-2026.png
END:VEVENT
BEGIN:VEVENT
DTSTART;TZID=America/New_York:20261005T180000
DTEND;TZID=America/New_York:20261005T220000
DTSTAMP:20260422T164507
CREATED:20251214T180027Z
LAST-MODIFIED:20260125T233136Z
UID:28020-1791223200-1791237600@www.unitedskates.com
SUMMARY:Monday Night Family Skate featuring DJ Mar
DESCRIPTION:Monday Night Family Skate featuring DJ Mar \nSession Time: 6pm-10pm \n$8.00 Admission \n$5.00 Skate rental \n\nSchedule a Birthday party\nMeetup with friends and family\nNote – This is an Advanced Skater session
URL:https://www.unitedskates.com/millennium-skate-world/event/monday-night-family-skate-featuring-dj-mar-2/2026-10-05/
LOCATION:Millennium Skate World\, 1900 Carman St.\, Camden\, NJ\, 08105\, United States
CATEGORIES:Family Events,Public Skates,Special Events
ATTACH;FMTTYPE=image/jpeg:https://unitedskates-assets.sfo3.digitaloceanspaces.com/wp-content/uploads/sites/17/2024/10/Monday-nights-8.00-Lamar.jpg
END:VEVENT
BEGIN:VEVENT
DTSTART;TZID=America/New_York:20261007T210000
DTEND;TZID=America/New_York:20261008T020000
DTSTAMP:20260422T164507
CREATED:20251219T173823Z
LAST-MODIFIED:20251219T173823Z
UID:28371-1791406800-1791424800@www.unitedskates.com
SUMMARY:Adult Night 1st Wednesday
DESCRIPTION:1st Wednesday Adult Night Skate \n9pm-2am \nGet your ROLL on to your favorite Hip Hop\, R&B and House music \n$15 Admission with own skates \n$20 Admission with Rental skates/Spectators
URL:https://www.unitedskates.com/millennium-skate-world/event/adult-night-1st-wednesday/2026-10-07/
LOCATION:Millennium Skate World\, 1900 Carman St.\, Camden\, NJ\, 08105\, United States
CATEGORIES:Adult Events,Public Skates,Special Events
ATTACH;FMTTYPE=image/jpeg:https://unitedskates-assets.sfo3.digitaloceanspaces.com/wp-content/uploads/sites/17/2022/05/1st-wed-adult-skate-2022-1200x900-1.jpg
END:VEVENT
BEGIN:VEVENT
DTSTART;TZID=America/New_York:20261009T190000
DTEND;TZID=America/New_York:20261009T230000
DTSTAMP:20260422T164507
CREATED:20251219T234854Z
LAST-MODIFIED:20251219T235641Z
UID:28482-1791572400-1791586800@www.unitedskates.com
SUMMARY:Friday Night Adult Skate
DESCRIPTION:Friday Night Adult Skate \n7pm-11pm \n$12 Admission with own skates \n$17 Admission with rental skates/Spectators \nfeaturing DJ Reef \n\nSchedule a Birthday party\nMeetup with friends and family
URL:https://www.unitedskates.com/millennium-skate-world/event/friday-night-adult-skate-2026-08-14/2026-10-09/
LOCATION:Millennium Skate World\, 1900 Carman St.\, Camden\, NJ\, 08105\, United States
CATEGORIES:Adult Events,Public Skates,Special Events
ATTACH;FMTTYPE=image/jpeg:https://unitedskates-assets.sfo3.digitaloceanspaces.com/wp-content/uploads/sites/17/2024/10/Friday-Adult-Reef-2025.jpg
END:VEVENT
BEGIN:VEVENT
DTSTART;TZID=America/New_York:20261010T190000
DTEND;TZID=America/New_York:20261010T220000
DTSTAMP:20260422T164507
CREATED:20260313T054757Z
LAST-MODIFIED:20260313T054757Z
UID:29521-1791658800-1791669600@www.unitedskates.com
SUMMARY:Saturday Night Skate
DESCRIPTION:Saturday Night Skate \n7pm-10pm \n$12 Admission \n$5 Skate rental \n\nSchedule a Birthday party\nGroup Discount for 20 people or more\nMeetup with family and friends
URL:https://www.unitedskates.com/millennium-skate-world/event/saturday-night-skate/2026-10-10/
LOCATION:Millennium Skate World\, 1900 Carman St.\, Camden\, NJ\, 08105\, United States
CATEGORIES:Family Events,Public Skates,Special Events
ATTACH;FMTTYPE=image/png:https://unitedskates-assets.sfo3.digitaloceanspaces.com/wp-content/uploads/sites/17/2025/12/Saturday-7pm-10pm-12.png
END:VEVENT
BEGIN:VEVENT
DTSTART;TZID=America/New_York:20261011T150000
DTEND;TZID=America/New_York:20261011T183000
DTSTAMP:20260422T164507
CREATED:20250430T050819Z
LAST-MODIFIED:20260125T055927Z
UID:28579-1791730800-1791743400@www.unitedskates.com
SUMMARY:Sunday Family FUN Skate
DESCRIPTION:Sunday Family FUN Skate  \n3pm-6:30pm \n$12.00 Admission at the door \n$11.00 Admission – Tickets online \n$5.00 Skate rental \n\nSchedule a Birthday party\nMeetup with family and friends\n\n~~~~~~~~ \nFamily Package $74.99 for (4) people \n4 Admission\, 4 Skate rental\, 1 Whole Pizza and Pitcher of Soda
URL:https://www.unitedskates.com/millennium-skate-world/event/family-fun-skate-25-2025-12-21-2026-01-04/2026-10-11/
LOCATION:Millennium Skate World\, 1900 Carman St.\, Camden\, NJ\, 08105\, United States
CATEGORIES:Family Events,Public Skates,Special Events
ATTACH;FMTTYPE=image/png:https://unitedskates-assets.sfo3.digitaloceanspaces.com/wp-content/uploads/sites/17/2025/04/Sunday-Family-3pm-12-2026.png
END:VEVENT
BEGIN:VEVENT
DTSTART;TZID=America/New_York:20261012T180000
DTEND;TZID=America/New_York:20261012T220000
DTSTAMP:20260422T164507
CREATED:20251214T180027Z
LAST-MODIFIED:20260125T233136Z
UID:28021-1791828000-1791842400@www.unitedskates.com
SUMMARY:Monday Night Family Skate featuring DJ Mar
DESCRIPTION:Monday Night Family Skate featuring DJ Mar \nSession Time: 6pm-10pm \n$8.00 Admission \n$5.00 Skate rental \n\nSchedule a Birthday party\nMeetup with friends and family\nNote – This is an Advanced Skater session
URL:https://www.unitedskates.com/millennium-skate-world/event/monday-night-family-skate-featuring-dj-mar-2/2026-10-12/
LOCATION:Millennium Skate World\, 1900 Carman St.\, Camden\, NJ\, 08105\, United States
CATEGORIES:Family Events,Public Skates,Special Events
ATTACH;FMTTYPE=image/jpeg:https://unitedskates-assets.sfo3.digitaloceanspaces.com/wp-content/uploads/sites/17/2024/10/Monday-nights-8.00-Lamar.jpg
END:VEVENT
BEGIN:VEVENT
DTSTART;TZID=America/New_York:20261016T190000
DTEND;TZID=America/New_York:20261016T230000
DTSTAMP:20260422T164507
CREATED:20251219T234854Z
LAST-MODIFIED:20251219T235641Z
UID:28483-1792177200-1792191600@www.unitedskates.com
SUMMARY:Friday Night Adult Skate
DESCRIPTION:Friday Night Adult Skate \n7pm-11pm \n$12 Admission with own skates \n$17 Admission with rental skates/Spectators \nfeaturing DJ Reef \n\nSchedule a Birthday party\nMeetup with friends and family
URL:https://www.unitedskates.com/millennium-skate-world/event/friday-night-adult-skate-2026-08-14/2026-10-16/
LOCATION:Millennium Skate World\, 1900 Carman St.\, Camden\, NJ\, 08105\, United States
CATEGORIES:Adult Events,Public Skates,Special Events
ATTACH;FMTTYPE=image/jpeg:https://unitedskates-assets.sfo3.digitaloceanspaces.com/wp-content/uploads/sites/17/2024/10/Friday-Adult-Reef-2025.jpg
END:VEVENT
BEGIN:VEVENT
DTSTART;TZID=America/New_York:20261017T190000
DTEND;TZID=America/New_York:20261017T220000
DTSTAMP:20260422T164507
CREATED:20260313T054757Z
LAST-MODIFIED:20260313T054757Z
UID:29522-1792263600-1792274400@www.unitedskates.com
SUMMARY:Saturday Night Skate
DESCRIPTION:Saturday Night Skate \n7pm-10pm \n$12 Admission \n$5 Skate rental \n\nSchedule a Birthday party\nGroup Discount for 20 people or more\nMeetup with family and friends
URL:https://www.unitedskates.com/millennium-skate-world/event/saturday-night-skate/2026-10-17/
LOCATION:Millennium Skate World\, 1900 Carman St.\, Camden\, NJ\, 08105\, United States
CATEGORIES:Family Events,Public Skates,Special Events
ATTACH;FMTTYPE=image/png:https://unitedskates-assets.sfo3.digitaloceanspaces.com/wp-content/uploads/sites/17/2025/12/Saturday-7pm-10pm-12.png
END:VEVENT
BEGIN:VEVENT
DTSTART;TZID=America/New_York:20261018T150000
DTEND;TZID=America/New_York:20261018T183000
DTSTAMP:20260422T164507
CREATED:20250430T050819Z
LAST-MODIFIED:20260125T055928Z
UID:28580-1792335600-1792348200@www.unitedskates.com
SUMMARY:Sunday Family FUN Skate
DESCRIPTION:Sunday Family FUN Skate  \n3pm-6:30pm \n$12.00 Admission at the door \n$11.00 Admission – Tickets online \n$5.00 Skate rental \n\nSchedule a Birthday party\nMeetup with family and friends\n\n~~~~~~~~ \nFamily Package $74.99 for (4) people \n4 Admission\, 4 Skate rental\, 1 Whole Pizza and Pitcher of Soda
URL:https://www.unitedskates.com/millennium-skate-world/event/family-fun-skate-25-2025-12-21-2026-01-04/2026-10-18/
LOCATION:Millennium Skate World\, 1900 Carman St.\, Camden\, NJ\, 08105\, United States
CATEGORIES:Family Events,Public Skates,Special Events
ATTACH;FMTTYPE=image/png:https://unitedskates-assets.sfo3.digitaloceanspaces.com/wp-content/uploads/sites/17/2025/04/Sunday-Family-3pm-12-2026.png
END:VEVENT
BEGIN:VEVENT
DTSTART;TZID=America/New_York:20261019T180000
DTEND;TZID=America/New_York:20261019T220000
DTSTAMP:20260422T164507
CREATED:20251214T180027Z
LAST-MODIFIED:20260125T233136Z
UID:28022-1792432800-1792447200@www.unitedskates.com
SUMMARY:Monday Night Family Skate featuring DJ Mar
DESCRIPTION:Monday Night Family Skate featuring DJ Mar \nSession Time: 6pm-10pm \n$8.00 Admission \n$5.00 Skate rental \n\nSchedule a Birthday party\nMeetup with friends and family\nNote – This is an Advanced Skater session
URL:https://www.unitedskates.com/millennium-skate-world/event/monday-night-family-skate-featuring-dj-mar-2/2026-10-19/
LOCATION:Millennium Skate World\, 1900 Carman St.\, Camden\, NJ\, 08105\, United States
CATEGORIES:Family Events,Public Skates,Special Events
ATTACH;FMTTYPE=image/jpeg:https://unitedskates-assets.sfo3.digitaloceanspaces.com/wp-content/uploads/sites/17/2024/10/Monday-nights-8.00-Lamar.jpg
END:VEVENT
BEGIN:VEVENT
DTSTART;TZID=America/New_York:20261023T190000
DTEND;TZID=America/New_York:20261023T230000
DTSTAMP:20260422T164507
CREATED:20251219T234854Z
LAST-MODIFIED:20251219T235642Z
UID:28484-1792782000-1792796400@www.unitedskates.com
SUMMARY:Friday Night Adult Skate
DESCRIPTION:Friday Night Adult Skate \n7pm-11pm \n$12 Admission with own skates \n$17 Admission with rental skates/Spectators \nfeaturing DJ Reef \n\nSchedule a Birthday party\nMeetup with friends and family
URL:https://www.unitedskates.com/millennium-skate-world/event/friday-night-adult-skate-2026-08-14/2026-10-23/
LOCATION:Millennium Skate World\, 1900 Carman St.\, Camden\, NJ\, 08105\, United States
CATEGORIES:Adult Events,Public Skates,Special Events
ATTACH;FMTTYPE=image/jpeg:https://unitedskates-assets.sfo3.digitaloceanspaces.com/wp-content/uploads/sites/17/2024/10/Friday-Adult-Reef-2025.jpg
END:VEVENT
BEGIN:VEVENT
DTSTART;TZID=America/New_York:20261024T190000
DTEND;TZID=America/New_York:20261024T220000
DTSTAMP:20260422T164507
CREATED:20260313T054757Z
LAST-MODIFIED:20260313T054757Z
UID:29523-1792868400-1792879200@www.unitedskates.com
SUMMARY:Saturday Night Skate
DESCRIPTION:Saturday Night Skate \n7pm-10pm \n$12 Admission \n$5 Skate rental \n\nSchedule a Birthday party\nGroup Discount for 20 people or more\nMeetup with family and friends
URL:https://www.unitedskates.com/millennium-skate-world/event/saturday-night-skate/2026-10-24/
LOCATION:Millennium Skate World\, 1900 Carman St.\, Camden\, NJ\, 08105\, United States
CATEGORIES:Family Events,Public Skates,Special Events
ATTACH;FMTTYPE=image/png:https://unitedskates-assets.sfo3.digitaloceanspaces.com/wp-content/uploads/sites/17/2025/12/Saturday-7pm-10pm-12.png
END:VEVENT
BEGIN:VEVENT
DTSTART;TZID=America/New_York:20261025T150000
DTEND;TZID=America/New_York:20261025T183000
DTSTAMP:20260422T164507
CREATED:20250430T050819Z
LAST-MODIFIED:20260125T055928Z
UID:28581-1792940400-1792953000@www.unitedskates.com
SUMMARY:Sunday Family FUN Skate
DESCRIPTION:Sunday Family FUN Skate  \n3pm-6:30pm \n$12.00 Admission at the door \n$11.00 Admission – Tickets online \n$5.00 Skate rental \n\nSchedule a Birthday party\nMeetup with family and friends\n\n~~~~~~~~ \nFamily Package $74.99 for (4) people \n4 Admission\, 4 Skate rental\, 1 Whole Pizza and Pitcher of Soda
URL:https://www.unitedskates.com/millennium-skate-world/event/family-fun-skate-25-2025-12-21-2026-01-04/2026-10-25/
LOCATION:Millennium Skate World\, 1900 Carman St.\, Camden\, NJ\, 08105\, United States
CATEGORIES:Family Events,Public Skates,Special Events
ATTACH;FMTTYPE=image/png:https://unitedskates-assets.sfo3.digitaloceanspaces.com/wp-content/uploads/sites/17/2025/04/Sunday-Family-3pm-12-2026.png
END:VEVENT
BEGIN:VEVENT
DTSTART;TZID=America/New_York:20261026T180000
DTEND;TZID=America/New_York:20261026T220000
DTSTAMP:20260422T164507
CREATED:20251214T180027Z
LAST-MODIFIED:20260125T233137Z
UID:28023-1793037600-1793052000@www.unitedskates.com
SUMMARY:Monday Night Family Skate featuring DJ Mar
DESCRIPTION:Monday Night Family Skate featuring DJ Mar \nSession Time: 6pm-10pm \n$8.00 Admission \n$5.00 Skate rental \n\nSchedule a Birthday party\nMeetup with friends and family\nNote – This is an Advanced Skater session
URL:https://www.unitedskates.com/millennium-skate-world/event/monday-night-family-skate-featuring-dj-mar-2/2026-10-26/
LOCATION:Millennium Skate World\, 1900 Carman St.\, Camden\, NJ\, 08105\, United States
CATEGORIES:Family Events,Public Skates,Special Events
ATTACH;FMTTYPE=image/jpeg:https://unitedskates-assets.sfo3.digitaloceanspaces.com/wp-content/uploads/sites/17/2024/10/Monday-nights-8.00-Lamar.jpg
END:VEVENT
BEGIN:VEVENT
DTSTART;TZID=America/New_York:20261030T190000
DTEND;TZID=America/New_York:20261030T230000
DTSTAMP:20260422T164507
CREATED:20251219T234854Z
LAST-MODIFIED:20251219T235642Z
UID:28485-1793386800-1793401200@www.unitedskates.com
SUMMARY:Friday Night Adult Skate
DESCRIPTION:Friday Night Adult Skate \n7pm-11pm \n$12 Admission with own skates \n$17 Admission with rental skates/Spectators \nfeaturing DJ Reef \n\nSchedule a Birthday party\nMeetup with friends and family
URL:https://www.unitedskates.com/millennium-skate-world/event/friday-night-adult-skate-2026-08-14/2026-10-30/
LOCATION:Millennium Skate World\, 1900 Carman St.\, Camden\, NJ\, 08105\, United States
CATEGORIES:Adult Events,Public Skates,Special Events
ATTACH;FMTTYPE=image/jpeg:https://unitedskates-assets.sfo3.digitaloceanspaces.com/wp-content/uploads/sites/17/2024/10/Friday-Adult-Reef-2025.jpg
END:VEVENT
BEGIN:VEVENT
DTSTART;TZID=America/New_York:20261031T190000
DTEND;TZID=America/New_York:20261031T220000
DTSTAMP:20260422T164507
CREATED:20260313T054757Z
LAST-MODIFIED:20260313T054757Z
UID:29524-1793473200-1793484000@www.unitedskates.com
SUMMARY:Saturday Night Skate
DESCRIPTION:Saturday Night Skate \n7pm-10pm \n$12 Admission \n$5 Skate rental \n\nSchedule a Birthday party\nGroup Discount for 20 people or more\nMeetup with family and friends
URL:https://www.unitedskates.com/millennium-skate-world/event/saturday-night-skate/2026-10-31/
LOCATION:Millennium Skate World\, 1900 Carman St.\, Camden\, NJ\, 08105\, United States
CATEGORIES:Family Events,Public Skates,Special Events
ATTACH;FMTTYPE=image/png:https://unitedskates-assets.sfo3.digitaloceanspaces.com/wp-content/uploads/sites/17/2025/12/Saturday-7pm-10pm-12.png
END:VEVENT
END:VCALENDAR