BEGIN:VCALENDAR
VERSION:2.0
PRODID:-//Rink 44 - Millennium Skate World - ECPv6.15.20//NONSGML v1.0//EN
CALSCALE:GREGORIAN
METHOD:PUBLISH
X-WR-CALNAME:Rink 44 - Millennium Skate World
X-ORIGINAL-URL:https://www.unitedskates.com/millennium-skate-world
X-WR-CALDESC:Events for Rink 44 - Millennium Skate World
REFRESH-INTERVAL;VALUE=DURATION:PT1H
X-Robots-Tag:noindex
X-PUBLISHED-TTL:PT1H
BEGIN:VTIMEZONE
TZID:America/New_York
BEGIN:DAYLIGHT
TZOFFSETFROM:-0500
TZOFFSETTO:-0400
TZNAME:EDT
DTSTART:20250309T070000
END:DAYLIGHT
BEGIN:STANDARD
TZOFFSETFROM:-0400
TZOFFSETTO:-0500
TZNAME:EST
DTSTART:20251102T060000
END:STANDARD
BEGIN:DAYLIGHT
TZOFFSETFROM:-0500
TZOFFSETTO:-0400
TZNAME:EDT
DTSTART:20260308T070000
END:DAYLIGHT
BEGIN:STANDARD
TZOFFSETFROM:-0400
TZOFFSETTO:-0500
TZNAME:EST
DTSTART:20261101T060000
END:STANDARD
BEGIN:DAYLIGHT
TZOFFSETFROM:-0500
TZOFFSETTO:-0400
TZNAME:EDT
DTSTART:20270314T070000
END:DAYLIGHT
BEGIN:STANDARD
TZOFFSETFROM:-0400
TZOFFSETTO:-0500
TZNAME:EST
DTSTART:20271107T060000
END:STANDARD
END:VTIMEZONE
BEGIN:VEVENT
DTSTART;TZID=America/New_York:20260701T100000
DTEND;TZID=America/New_York:20260701T150000
DTSTAMP:20260421T171922
CREATED:20260313T055554Z
LAST-MODIFIED:20260414T194506Z
UID:29537-1782900000-1782918000@www.unitedskates.com
SUMMARY:Summertime FUN Skate
DESCRIPTION:Summertime FUN Skate \n10am-3pm \n$7.00 Admission \n$5.00 Skate rental \n\nFamilies\, Summer Camps\, Groups\, Organizations are welcome\nGroup Discount for 20 people or more\nCall 856-757-9438 to make a reservation\nSchedule a Birthday party from 12pm-3pm
URL:https://www.unitedskates.com/millennium-skate-world/event/summertime-fun-skate/2026-07-01/
LOCATION:Millennium Skate World\, 1900 Carman St.\, Camden\, NJ\, 08105\, United States
CATEGORIES:Family Events,Public Skates,Special Events
ATTACH;FMTTYPE=image/jpeg:https://unitedskates-assets.sfo3.digitaloceanspaces.com/wp-content/uploads/sites/17/2026/03/Schedule-Summer-2026-44-scaled.jpg
END:VEVENT
BEGIN:VEVENT
DTSTART;TZID=America/New_York:20260701T210000
DTEND;TZID=America/New_York:20260702T020000
DTSTAMP:20260421T171922
CREATED:20251219T173823Z
LAST-MODIFIED:20251219T174051Z
UID:28366-1782939600-1782957600@www.unitedskates.com
SUMMARY:Adult Night 1st Wednesday
DESCRIPTION:1st Wednesday Adult Night Skate \n9pm-2am \nGet your ROLL on to your favorite Hip Hop\, R&B and House music \n$15 Admission with own skates \n$20 Admission with Rental skates/Spectators
URL:https://www.unitedskates.com/millennium-skate-world/event/adult-night-1st-wednesday/2026-07-01/
LOCATION:Millennium Skate World\, 1900 Carman St.\, Camden\, NJ\, 08105\, United States
CATEGORIES:Adult Events,Public Skates,Special Events
ATTACH;FMTTYPE=image/jpeg:https://unitedskates-assets.sfo3.digitaloceanspaces.com/wp-content/uploads/sites/17/2022/05/1st-wed-adult-skate-2022-1200x900-1.jpg
END:VEVENT
BEGIN:VEVENT
DTSTART;TZID=America/New_York:20260702T100000
DTEND;TZID=America/New_York:20260702T150000
DTSTAMP:20260421T171922
CREATED:20260313T055554Z
LAST-MODIFIED:20260414T194506Z
UID:29538-1782986400-1783004400@www.unitedskates.com
SUMMARY:Summertime FUN Skate
DESCRIPTION:Summertime FUN Skate \n10am-3pm \n$7.00 Admission \n$5.00 Skate rental \n\nFamilies\, Summer Camps\, Groups\, Organizations are welcome\nGroup Discount for 20 people or more\nCall 856-757-9438 to make a reservation\nSchedule a Birthday party from 12pm-3pm
URL:https://www.unitedskates.com/millennium-skate-world/event/summertime-fun-skate/2026-07-02/
LOCATION:Millennium Skate World\, 1900 Carman St.\, Camden\, NJ\, 08105\, United States
CATEGORIES:Family Events,Public Skates,Special Events
ATTACH;FMTTYPE=image/jpeg:https://unitedskates-assets.sfo3.digitaloceanspaces.com/wp-content/uploads/sites/17/2026/03/Schedule-Summer-2026-44-scaled.jpg
END:VEVENT
BEGIN:VEVENT
DTSTART;TZID=America/New_York:20260703T100000
DTEND;TZID=America/New_York:20260703T150000
DTSTAMP:20260421T171922
CREATED:20260313T055554Z
LAST-MODIFIED:20260414T194506Z
UID:29539-1783072800-1783090800@www.unitedskates.com
SUMMARY:Summertime FUN Skate
DESCRIPTION:Summertime FUN Skate \n10am-3pm \n$7.00 Admission \n$5.00 Skate rental \n\nFamilies\, Summer Camps\, Groups\, Organizations are welcome\nGroup Discount for 20 people or more\nCall 856-757-9438 to make a reservation\nSchedule a Birthday party from 12pm-3pm
URL:https://www.unitedskates.com/millennium-skate-world/event/summertime-fun-skate/2026-07-03/
LOCATION:Millennium Skate World\, 1900 Carman St.\, Camden\, NJ\, 08105\, United States
CATEGORIES:Family Events,Public Skates,Special Events
ATTACH;FMTTYPE=image/jpeg:https://unitedskates-assets.sfo3.digitaloceanspaces.com/wp-content/uploads/sites/17/2026/03/Schedule-Summer-2026-44-scaled.jpg
END:VEVENT
BEGIN:VEVENT
DTSTART;TZID=America/New_York:20260703T190000
DTEND;TZID=America/New_York:20260703T230000
DTSTAMP:20260421T171922
CREATED:20250803T213418Z
LAST-MODIFIED:20251217T151751Z
UID:27468-1783105200-1783119600@www.unitedskates.com
SUMMARY:Friday Adult Night Skate
DESCRIPTION:Friday Night Adult Skate \n7pm-11pm \n$12 Admission with own skates \n$17 Admission with rental skates/Spectators \nfeaturing DJ Reef
URL:https://www.unitedskates.com/millennium-skate-world/event/friday-adult-night-skate-10-2026-01-30/2026-07-03/
LOCATION:Millennium Skate World\, 1900 Carman St.\, Camden\, NJ\, 08105\, United States
CATEGORIES:Adult Events,Public Skates,Special Events
ATTACH;FMTTYPE=image/jpeg:https://unitedskates-assets.sfo3.digitaloceanspaces.com/wp-content/uploads/sites/17/2024/10/Friday-Adult-Reef-2025.jpg
END:VEVENT
BEGIN:VEVENT
DTSTART;TZID=America/New_York:20260704T190000
DTEND;TZID=America/New_York:20260704T220000
DTSTAMP:20260421T171922
CREATED:20260313T054757Z
LAST-MODIFIED:20260313T054902Z
UID:29505-1783191600-1783202400@www.unitedskates.com
SUMMARY:Saturday Night Skate
DESCRIPTION:Saturday Night Skate \n7pm-10pm \n$12 Admission \n$5 Skate rental \n\nSchedule a Birthday party\nGroup Discount for 20 people or more\nMeetup with family and friends
URL:https://www.unitedskates.com/millennium-skate-world/event/saturday-night-skate/2026-07-04/
LOCATION:Millennium Skate World\, 1900 Carman St.\, Camden\, NJ\, 08105\, United States
CATEGORIES:Family Events,Public Skates,Special Events
ATTACH;FMTTYPE=image/png:https://unitedskates-assets.sfo3.digitaloceanspaces.com/wp-content/uploads/sites/17/2025/12/Saturday-7pm-10pm-12.png
END:VEVENT
BEGIN:VEVENT
DTSTART;TZID=America/New_York:20260705T150000
DTEND;TZID=America/New_York:20260705T183000
DTSTAMP:20260421T171922
CREATED:20250430T050819Z
LAST-MODIFIED:20260125T055923Z
UID:28565-1783263600-1783276200@www.unitedskates.com
SUMMARY:Sunday Family FUN Skate
DESCRIPTION:Sunday Family FUN Skate  \n3pm-6:30pm \n$12.00 Admission at the door \n$11.00 Admission – Tickets online \n$5.00 Skate rental \n\nSchedule a Birthday party\nMeetup with family and friends\n\n~~~~~~~~ \nFamily Package $74.99 for (4) people \n4 Admission\, 4 Skate rental\, 1 Whole Pizza and Pitcher of Soda
URL:https://www.unitedskates.com/millennium-skate-world/event/family-fun-skate-25-2025-12-21-2026-01-04/2026-07-05/
LOCATION:Millennium Skate World\, 1900 Carman St.\, Camden\, NJ\, 08105\, United States
CATEGORIES:Family Events,Public Skates,Special Events
ATTACH;FMTTYPE=image/png:https://unitedskates-assets.sfo3.digitaloceanspaces.com/wp-content/uploads/sites/17/2025/04/Sunday-Family-3pm-12-2026.png
END:VEVENT
BEGIN:VEVENT
DTSTART;TZID=America/New_York:20260706T100000
DTEND;TZID=America/New_York:20260706T150000
DTSTAMP:20260421T171922
CREATED:20260313T055554Z
LAST-MODIFIED:20260414T194506Z
UID:29540-1783332000-1783350000@www.unitedskates.com
SUMMARY:Summertime FUN Skate
DESCRIPTION:Summertime FUN Skate \n10am-3pm \n$7.00 Admission \n$5.00 Skate rental \n\nFamilies\, Summer Camps\, Groups\, Organizations are welcome\nGroup Discount for 20 people or more\nCall 856-757-9438 to make a reservation\nSchedule a Birthday party from 12pm-3pm
URL:https://www.unitedskates.com/millennium-skate-world/event/summertime-fun-skate/2026-07-06/
LOCATION:Millennium Skate World\, 1900 Carman St.\, Camden\, NJ\, 08105\, United States
CATEGORIES:Family Events,Public Skates,Special Events
ATTACH;FMTTYPE=image/jpeg:https://unitedskates-assets.sfo3.digitaloceanspaces.com/wp-content/uploads/sites/17/2026/03/Schedule-Summer-2026-44-scaled.jpg
END:VEVENT
BEGIN:VEVENT
DTSTART;TZID=America/New_York:20260706T180000
DTEND;TZID=America/New_York:20260706T220000
DTSTAMP:20260421T171922
CREATED:20251214T180027Z
LAST-MODIFIED:20260125T233131Z
UID:28007-1783360800-1783375200@www.unitedskates.com
SUMMARY:Monday Night Family Skate featuring DJ Mar
DESCRIPTION:Monday Night Family Skate featuring DJ Mar \nSession Time: 6pm-10pm \n$8.00 Admission \n$5.00 Skate rental \n\nSchedule a Birthday party\nMeetup with friends and family\nNote – This is an Advanced Skater session
URL:https://www.unitedskates.com/millennium-skate-world/event/monday-night-family-skate-featuring-dj-mar-2/2026-07-06/
LOCATION:Millennium Skate World\, 1900 Carman St.\, Camden\, NJ\, 08105\, United States
CATEGORIES:Family Events,Public Skates,Special Events
ATTACH;FMTTYPE=image/jpeg:https://unitedskates-assets.sfo3.digitaloceanspaces.com/wp-content/uploads/sites/17/2024/10/Monday-nights-8.00-Lamar.jpg
END:VEVENT
BEGIN:VEVENT
DTSTART;TZID=America/New_York:20260707T100000
DTEND;TZID=America/New_York:20260707T150000
DTSTAMP:20260421T171922
CREATED:20260313T055554Z
LAST-MODIFIED:20260414T194506Z
UID:29541-1783418400-1783436400@www.unitedskates.com
SUMMARY:Summertime FUN Skate
DESCRIPTION:Summertime FUN Skate \n10am-3pm \n$7.00 Admission \n$5.00 Skate rental \n\nFamilies\, Summer Camps\, Groups\, Organizations are welcome\nGroup Discount for 20 people or more\nCall 856-757-9438 to make a reservation\nSchedule a Birthday party from 12pm-3pm
URL:https://www.unitedskates.com/millennium-skate-world/event/summertime-fun-skate/2026-07-07/
LOCATION:Millennium Skate World\, 1900 Carman St.\, Camden\, NJ\, 08105\, United States
CATEGORIES:Family Events,Public Skates,Special Events
ATTACH;FMTTYPE=image/jpeg:https://unitedskates-assets.sfo3.digitaloceanspaces.com/wp-content/uploads/sites/17/2026/03/Schedule-Summer-2026-44-scaled.jpg
END:VEVENT
BEGIN:VEVENT
DTSTART;TZID=America/New_York:20260708T100000
DTEND;TZID=America/New_York:20260708T150000
DTSTAMP:20260421T171922
CREATED:20260313T055554Z
LAST-MODIFIED:20260414T194507Z
UID:29542-1783504800-1783522800@www.unitedskates.com
SUMMARY:Summertime FUN Skate
DESCRIPTION:Summertime FUN Skate \n10am-3pm \n$7.00 Admission \n$5.00 Skate rental \n\nFamilies\, Summer Camps\, Groups\, Organizations are welcome\nGroup Discount for 20 people or more\nCall 856-757-9438 to make a reservation\nSchedule a Birthday party from 12pm-3pm
URL:https://www.unitedskates.com/millennium-skate-world/event/summertime-fun-skate/2026-07-08/
LOCATION:Millennium Skate World\, 1900 Carman St.\, Camden\, NJ\, 08105\, United States
CATEGORIES:Family Events,Public Skates,Special Events
ATTACH;FMTTYPE=image/jpeg:https://unitedskates-assets.sfo3.digitaloceanspaces.com/wp-content/uploads/sites/17/2026/03/Schedule-Summer-2026-44-scaled.jpg
END:VEVENT
BEGIN:VEVENT
DTSTART;TZID=America/New_York:20260709T100000
DTEND;TZID=America/New_York:20260709T150000
DTSTAMP:20260421T171922
CREATED:20260313T055554Z
LAST-MODIFIED:20260414T194507Z
UID:29543-1783591200-1783609200@www.unitedskates.com
SUMMARY:Summertime FUN Skate
DESCRIPTION:Summertime FUN Skate \n10am-3pm \n$7.00 Admission \n$5.00 Skate rental \n\nFamilies\, Summer Camps\, Groups\, Organizations are welcome\nGroup Discount for 20 people or more\nCall 856-757-9438 to make a reservation\nSchedule a Birthday party from 12pm-3pm
URL:https://www.unitedskates.com/millennium-skate-world/event/summertime-fun-skate/2026-07-09/
LOCATION:Millennium Skate World\, 1900 Carman St.\, Camden\, NJ\, 08105\, United States
CATEGORIES:Family Events,Public Skates,Special Events
ATTACH;FMTTYPE=image/jpeg:https://unitedskates-assets.sfo3.digitaloceanspaces.com/wp-content/uploads/sites/17/2026/03/Schedule-Summer-2026-44-scaled.jpg
END:VEVENT
BEGIN:VEVENT
DTSTART;TZID=America/New_York:20260710T100000
DTEND;TZID=America/New_York:20260710T150000
DTSTAMP:20260421T171922
CREATED:20260313T055554Z
LAST-MODIFIED:20260414T194507Z
UID:29544-1783677600-1783695600@www.unitedskates.com
SUMMARY:Summertime FUN Skate
DESCRIPTION:Summertime FUN Skate \n10am-3pm \n$7.00 Admission \n$5.00 Skate rental \n\nFamilies\, Summer Camps\, Groups\, Organizations are welcome\nGroup Discount for 20 people or more\nCall 856-757-9438 to make a reservation\nSchedule a Birthday party from 12pm-3pm
URL:https://www.unitedskates.com/millennium-skate-world/event/summertime-fun-skate/2026-07-10/
LOCATION:Millennium Skate World\, 1900 Carman St.\, Camden\, NJ\, 08105\, United States
CATEGORIES:Family Events,Public Skates,Special Events
ATTACH;FMTTYPE=image/jpeg:https://unitedskates-assets.sfo3.digitaloceanspaces.com/wp-content/uploads/sites/17/2026/03/Schedule-Summer-2026-44-scaled.jpg
END:VEVENT
BEGIN:VEVENT
DTSTART;TZID=America/New_York:20260710T190000
DTEND;TZID=America/New_York:20260710T230000
DTSTAMP:20260421T171922
CREATED:20250803T213418Z
LAST-MODIFIED:20251217T151751Z
UID:27469-1783710000-1783724400@www.unitedskates.com
SUMMARY:Friday Adult Night Skate
DESCRIPTION:Friday Night Adult Skate \n7pm-11pm \n$12 Admission with own skates \n$17 Admission with rental skates/Spectators \nfeaturing DJ Reef
URL:https://www.unitedskates.com/millennium-skate-world/event/friday-adult-night-skate-10-2026-01-30/2026-07-10/
LOCATION:Millennium Skate World\, 1900 Carman St.\, Camden\, NJ\, 08105\, United States
CATEGORIES:Adult Events,Public Skates,Special Events
ATTACH;FMTTYPE=image/jpeg:https://unitedskates-assets.sfo3.digitaloceanspaces.com/wp-content/uploads/sites/17/2024/10/Friday-Adult-Reef-2025.jpg
END:VEVENT
BEGIN:VEVENT
DTSTART;TZID=America/New_York:20260711T190000
DTEND;TZID=America/New_York:20260711T220000
DTSTAMP:20260421T171922
CREATED:20260313T054757Z
LAST-MODIFIED:20260313T054757Z
UID:29508-1783796400-1783807200@www.unitedskates.com
SUMMARY:Saturday Night Skate
DESCRIPTION:Saturday Night Skate \n7pm-10pm \n$12 Admission \n$5 Skate rental \n\nSchedule a Birthday party\nGroup Discount for 20 people or more\nMeetup with family and friends
URL:https://www.unitedskates.com/millennium-skate-world/event/saturday-night-skate/2026-07-11/
LOCATION:Millennium Skate World\, 1900 Carman St.\, Camden\, NJ\, 08105\, United States
CATEGORIES:Family Events,Public Skates,Special Events
ATTACH;FMTTYPE=image/png:https://unitedskates-assets.sfo3.digitaloceanspaces.com/wp-content/uploads/sites/17/2025/12/Saturday-7pm-10pm-12.png
END:VEVENT
BEGIN:VEVENT
DTSTART;TZID=America/New_York:20260712T150000
DTEND;TZID=America/New_York:20260712T183000
DTSTAMP:20260421T171922
CREATED:20250430T050819Z
LAST-MODIFIED:20260125T055923Z
UID:28566-1783868400-1783881000@www.unitedskates.com
SUMMARY:Sunday Family FUN Skate
DESCRIPTION:Sunday Family FUN Skate  \n3pm-6:30pm \n$12.00 Admission at the door \n$11.00 Admission – Tickets online \n$5.00 Skate rental \n\nSchedule a Birthday party\nMeetup with family and friends\n\n~~~~~~~~ \nFamily Package $74.99 for (4) people \n4 Admission\, 4 Skate rental\, 1 Whole Pizza and Pitcher of Soda
URL:https://www.unitedskates.com/millennium-skate-world/event/family-fun-skate-25-2025-12-21-2026-01-04/2026-07-12/
LOCATION:Millennium Skate World\, 1900 Carman St.\, Camden\, NJ\, 08105\, United States
CATEGORIES:Family Events,Public Skates,Special Events
ATTACH;FMTTYPE=image/png:https://unitedskates-assets.sfo3.digitaloceanspaces.com/wp-content/uploads/sites/17/2025/04/Sunday-Family-3pm-12-2026.png
END:VEVENT
BEGIN:VEVENT
DTSTART;TZID=America/New_York:20260713T100000
DTEND;TZID=America/New_York:20260713T150000
DTSTAMP:20260421T171922
CREATED:20260313T055554Z
LAST-MODIFIED:20260414T194507Z
UID:29545-1783936800-1783954800@www.unitedskates.com
SUMMARY:Summertime FUN Skate
DESCRIPTION:Summertime FUN Skate \n10am-3pm \n$7.00 Admission \n$5.00 Skate rental \n\nFamilies\, Summer Camps\, Groups\, Organizations are welcome\nGroup Discount for 20 people or more\nCall 856-757-9438 to make a reservation\nSchedule a Birthday party from 12pm-3pm
URL:https://www.unitedskates.com/millennium-skate-world/event/summertime-fun-skate/2026-07-13/
LOCATION:Millennium Skate World\, 1900 Carman St.\, Camden\, NJ\, 08105\, United States
CATEGORIES:Family Events,Public Skates,Special Events
ATTACH;FMTTYPE=image/jpeg:https://unitedskates-assets.sfo3.digitaloceanspaces.com/wp-content/uploads/sites/17/2026/03/Schedule-Summer-2026-44-scaled.jpg
END:VEVENT
BEGIN:VEVENT
DTSTART;TZID=America/New_York:20260713T180000
DTEND;TZID=America/New_York:20260713T220000
DTSTAMP:20260421T171922
CREATED:20251214T180027Z
LAST-MODIFIED:20260125T233132Z
UID:28008-1783965600-1783980000@www.unitedskates.com
SUMMARY:Monday Night Family Skate featuring DJ Mar
DESCRIPTION:Monday Night Family Skate featuring DJ Mar \nSession Time: 6pm-10pm \n$8.00 Admission \n$5.00 Skate rental \n\nSchedule a Birthday party\nMeetup with friends and family\nNote – This is an Advanced Skater session
URL:https://www.unitedskates.com/millennium-skate-world/event/monday-night-family-skate-featuring-dj-mar-2/2026-07-13/
LOCATION:Millennium Skate World\, 1900 Carman St.\, Camden\, NJ\, 08105\, United States
CATEGORIES:Family Events,Public Skates,Special Events
ATTACH;FMTTYPE=image/jpeg:https://unitedskates-assets.sfo3.digitaloceanspaces.com/wp-content/uploads/sites/17/2024/10/Monday-nights-8.00-Lamar.jpg
END:VEVENT
BEGIN:VEVENT
DTSTART;TZID=America/New_York:20260714T100000
DTEND;TZID=America/New_York:20260714T150000
DTSTAMP:20260421T171922
CREATED:20260313T055554Z
LAST-MODIFIED:20260414T194514Z
UID:29546-1784023200-1784041200@www.unitedskates.com
SUMMARY:Summertime FUN Skate
DESCRIPTION:Summertime FUN Skate \n10am-3pm \n$7.00 Admission \n$5.00 Skate rental \n\nFamilies\, Summer Camps\, Groups\, Organizations are welcome\nGroup Discount for 20 people or more\nCall 856-757-9438 to make a reservation\nSchedule a Birthday party from 12pm-3pm
URL:https://www.unitedskates.com/millennium-skate-world/event/summertime-fun-skate/2026-07-14/
LOCATION:Millennium Skate World\, 1900 Carman St.\, Camden\, NJ\, 08105\, United States
CATEGORIES:Family Events,Public Skates,Special Events
ATTACH;FMTTYPE=image/jpeg:https://unitedskates-assets.sfo3.digitaloceanspaces.com/wp-content/uploads/sites/17/2026/03/Schedule-Summer-2026-44-scaled.jpg
END:VEVENT
BEGIN:VEVENT
DTSTART;TZID=America/New_York:20260714T180000
DTEND;TZID=America/New_York:20260714T210000
DTSTAMP:20260421T171922
CREATED:20260410T051455Z
LAST-MODIFIED:20260410T051455Z
UID:29778-1784052000-1784062800@www.unitedskates.com
SUMMARY:2nd Tuesday - Camden City Night
DESCRIPTION:2nd Tuesday – Camden City Night  \n6pm-9pm \nFREE Admission for Camden City residents * Show ID for proof of residency valid for up to 4 people \n$5.00 Skate rental \n\nSchedule a Birthday party\nMeetup with family and friends\nPictures with Hello Kitty\n\nNon-Camden City residents $10 Admission
URL:https://www.unitedskates.com/millennium-skate-world/event/2nd-tuesday-camden-city-night/
LOCATION:Millennium Skate World\, 1900 Carman St.\, Camden\, NJ\, 08105\, United States
CATEGORIES:Family Events,Public Skates,Special Events
ATTACH;FMTTYPE=image/jpeg:https://unitedskates-assets.sfo3.digitaloceanspaces.com/wp-content/uploads/sites/17/2026/01/Camden-City-Skate-Night-2025-3.jpg
END:VEVENT
BEGIN:VEVENT
DTSTART;TZID=America/New_York:20260715T100000
DTEND;TZID=America/New_York:20260715T150000
DTSTAMP:20260421T171922
CREATED:20260313T055554Z
LAST-MODIFIED:20260414T194514Z
UID:29547-1784109600-1784127600@www.unitedskates.com
SUMMARY:Summertime FUN Skate
DESCRIPTION:Summertime FUN Skate \n10am-3pm \n$7.00 Admission \n$5.00 Skate rental \n\nFamilies\, Summer Camps\, Groups\, Organizations are welcome\nGroup Discount for 20 people or more\nCall 856-757-9438 to make a reservation\nSchedule a Birthday party from 12pm-3pm
URL:https://www.unitedskates.com/millennium-skate-world/event/summertime-fun-skate/2026-07-15/
LOCATION:Millennium Skate World\, 1900 Carman St.\, Camden\, NJ\, 08105\, United States
CATEGORIES:Family Events,Public Skates,Special Events
ATTACH;FMTTYPE=image/jpeg:https://unitedskates-assets.sfo3.digitaloceanspaces.com/wp-content/uploads/sites/17/2026/03/Schedule-Summer-2026-44-scaled.jpg
END:VEVENT
BEGIN:VEVENT
DTSTART;TZID=America/New_York:20260716T100000
DTEND;TZID=America/New_York:20260716T150000
DTSTAMP:20260421T171922
CREATED:20260313T055554Z
LAST-MODIFIED:20260414T194514Z
UID:29548-1784196000-1784214000@www.unitedskates.com
SUMMARY:Summertime FUN Skate
DESCRIPTION:Summertime FUN Skate \n10am-3pm \n$7.00 Admission \n$5.00 Skate rental \n\nFamilies\, Summer Camps\, Groups\, Organizations are welcome\nGroup Discount for 20 people or more\nCall 856-757-9438 to make a reservation\nSchedule a Birthday party from 12pm-3pm
URL:https://www.unitedskates.com/millennium-skate-world/event/summertime-fun-skate/2026-07-16/
LOCATION:Millennium Skate World\, 1900 Carman St.\, Camden\, NJ\, 08105\, United States
CATEGORIES:Family Events,Public Skates,Special Events
ATTACH;FMTTYPE=image/jpeg:https://unitedskates-assets.sfo3.digitaloceanspaces.com/wp-content/uploads/sites/17/2026/03/Schedule-Summer-2026-44-scaled.jpg
END:VEVENT
BEGIN:VEVENT
DTSTART;TZID=America/New_York:20260717T100000
DTEND;TZID=America/New_York:20260717T150000
DTSTAMP:20260421T171922
CREATED:20260313T055554Z
LAST-MODIFIED:20260414T194514Z
UID:29549-1784282400-1784300400@www.unitedskates.com
SUMMARY:Summertime FUN Skate
DESCRIPTION:Summertime FUN Skate \n10am-3pm \n$7.00 Admission \n$5.00 Skate rental \n\nFamilies\, Summer Camps\, Groups\, Organizations are welcome\nGroup Discount for 20 people or more\nCall 856-757-9438 to make a reservation\nSchedule a Birthday party from 12pm-3pm
URL:https://www.unitedskates.com/millennium-skate-world/event/summertime-fun-skate/2026-07-17/
LOCATION:Millennium Skate World\, 1900 Carman St.\, Camden\, NJ\, 08105\, United States
CATEGORIES:Family Events,Public Skates,Special Events
ATTACH;FMTTYPE=image/jpeg:https://unitedskates-assets.sfo3.digitaloceanspaces.com/wp-content/uploads/sites/17/2026/03/Schedule-Summer-2026-44-scaled.jpg
END:VEVENT
BEGIN:VEVENT
DTSTART;TZID=America/New_York:20260717T190000
DTEND;TZID=America/New_York:20260717T230000
DTSTAMP:20260421T171922
CREATED:20250803T213418Z
LAST-MODIFIED:20251217T151752Z
UID:27470-1784314800-1784329200@www.unitedskates.com
SUMMARY:Friday Adult Night Skate
DESCRIPTION:Friday Night Adult Skate \n7pm-11pm \n$12 Admission with own skates \n$17 Admission with rental skates/Spectators \nfeaturing DJ Reef
URL:https://www.unitedskates.com/millennium-skate-world/event/friday-adult-night-skate-10-2026-01-30/2026-07-17/
LOCATION:Millennium Skate World\, 1900 Carman St.\, Camden\, NJ\, 08105\, United States
CATEGORIES:Adult Events,Public Skates,Special Events
ATTACH;FMTTYPE=image/jpeg:https://unitedskates-assets.sfo3.digitaloceanspaces.com/wp-content/uploads/sites/17/2024/10/Friday-Adult-Reef-2025.jpg
END:VEVENT
BEGIN:VEVENT
DTSTART;TZID=America/New_York:20260718T190000
DTEND;TZID=America/New_York:20260718T220000
DTSTAMP:20260421T171922
CREATED:20260313T054757Z
LAST-MODIFIED:20260313T054757Z
UID:29509-1784401200-1784412000@www.unitedskates.com
SUMMARY:Saturday Night Skate
DESCRIPTION:Saturday Night Skate \n7pm-10pm \n$12 Admission \n$5 Skate rental \n\nSchedule a Birthday party\nGroup Discount for 20 people or more\nMeetup with family and friends
URL:https://www.unitedskates.com/millennium-skate-world/event/saturday-night-skate/2026-07-18/
LOCATION:Millennium Skate World\, 1900 Carman St.\, Camden\, NJ\, 08105\, United States
CATEGORIES:Family Events,Public Skates,Special Events
ATTACH;FMTTYPE=image/png:https://unitedskates-assets.sfo3.digitaloceanspaces.com/wp-content/uploads/sites/17/2025/12/Saturday-7pm-10pm-12.png
END:VEVENT
BEGIN:VEVENT
DTSTART;TZID=America/New_York:20260719T150000
DTEND;TZID=America/New_York:20260719T183000
DTSTAMP:20260421T171922
CREATED:20250430T050819Z
LAST-MODIFIED:20260125T055923Z
UID:28567-1784473200-1784485800@www.unitedskates.com
SUMMARY:Sunday Family FUN Skate
DESCRIPTION:Sunday Family FUN Skate  \n3pm-6:30pm \n$12.00 Admission at the door \n$11.00 Admission – Tickets online \n$5.00 Skate rental \n\nSchedule a Birthday party\nMeetup with family and friends\n\n~~~~~~~~ \nFamily Package $74.99 for (4) people \n4 Admission\, 4 Skate rental\, 1 Whole Pizza and Pitcher of Soda
URL:https://www.unitedskates.com/millennium-skate-world/event/family-fun-skate-25-2025-12-21-2026-01-04/2026-07-19/
LOCATION:Millennium Skate World\, 1900 Carman St.\, Camden\, NJ\, 08105\, United States
CATEGORIES:Family Events,Public Skates,Special Events
ATTACH;FMTTYPE=image/png:https://unitedskates-assets.sfo3.digitaloceanspaces.com/wp-content/uploads/sites/17/2025/04/Sunday-Family-3pm-12-2026.png
END:VEVENT
BEGIN:VEVENT
DTSTART;TZID=America/New_York:20260720T100000
DTEND;TZID=America/New_York:20260720T150000
DTSTAMP:20260421T171922
CREATED:20260313T055554Z
LAST-MODIFIED:20260414T194514Z
UID:29550-1784541600-1784559600@www.unitedskates.com
SUMMARY:Summertime FUN Skate
DESCRIPTION:Summertime FUN Skate \n10am-3pm \n$7.00 Admission \n$5.00 Skate rental \n\nFamilies\, Summer Camps\, Groups\, Organizations are welcome\nGroup Discount for 20 people or more\nCall 856-757-9438 to make a reservation\nSchedule a Birthday party from 12pm-3pm
URL:https://www.unitedskates.com/millennium-skate-world/event/summertime-fun-skate/2026-07-20/
LOCATION:Millennium Skate World\, 1900 Carman St.\, Camden\, NJ\, 08105\, United States
CATEGORIES:Family Events,Public Skates,Special Events
ATTACH;FMTTYPE=image/jpeg:https://unitedskates-assets.sfo3.digitaloceanspaces.com/wp-content/uploads/sites/17/2026/03/Schedule-Summer-2026-44-scaled.jpg
END:VEVENT
BEGIN:VEVENT
DTSTART;TZID=America/New_York:20260720T180000
DTEND;TZID=America/New_York:20260720T220000
DTSTAMP:20260421T171922
CREATED:20251214T180027Z
LAST-MODIFIED:20260125T233132Z
UID:28009-1784570400-1784584800@www.unitedskates.com
SUMMARY:Monday Night Family Skate featuring DJ Mar
DESCRIPTION:Monday Night Family Skate featuring DJ Mar \nSession Time: 6pm-10pm \n$8.00 Admission \n$5.00 Skate rental \n\nSchedule a Birthday party\nMeetup with friends and family\nNote – This is an Advanced Skater session
URL:https://www.unitedskates.com/millennium-skate-world/event/monday-night-family-skate-featuring-dj-mar-2/2026-07-20/
LOCATION:Millennium Skate World\, 1900 Carman St.\, Camden\, NJ\, 08105\, United States
CATEGORIES:Family Events,Public Skates,Special Events
ATTACH;FMTTYPE=image/jpeg:https://unitedskates-assets.sfo3.digitaloceanspaces.com/wp-content/uploads/sites/17/2024/10/Monday-nights-8.00-Lamar.jpg
END:VEVENT
BEGIN:VEVENT
DTSTART;TZID=America/New_York:20260721T100000
DTEND;TZID=America/New_York:20260721T150000
DTSTAMP:20260421T171922
CREATED:20260313T055554Z
LAST-MODIFIED:20260414T194514Z
UID:29551-1784628000-1784646000@www.unitedskates.com
SUMMARY:Summertime FUN Skate
DESCRIPTION:Summertime FUN Skate \n10am-3pm \n$7.00 Admission \n$5.00 Skate rental \n\nFamilies\, Summer Camps\, Groups\, Organizations are welcome\nGroup Discount for 20 people or more\nCall 856-757-9438 to make a reservation\nSchedule a Birthday party from 12pm-3pm
URL:https://www.unitedskates.com/millennium-skate-world/event/summertime-fun-skate/2026-07-21/
LOCATION:Millennium Skate World\, 1900 Carman St.\, Camden\, NJ\, 08105\, United States
CATEGORIES:Family Events,Public Skates,Special Events
ATTACH;FMTTYPE=image/jpeg:https://unitedskates-assets.sfo3.digitaloceanspaces.com/wp-content/uploads/sites/17/2026/03/Schedule-Summer-2026-44-scaled.jpg
END:VEVENT
BEGIN:VEVENT
DTSTART;TZID=America/New_York:20260722T100000
DTEND;TZID=America/New_York:20260722T150000
DTSTAMP:20260421T171922
CREATED:20260313T055554Z
LAST-MODIFIED:20260414T194515Z
UID:29552-1784714400-1784732400@www.unitedskates.com
SUMMARY:Summertime FUN Skate
DESCRIPTION:Summertime FUN Skate \n10am-3pm \n$7.00 Admission \n$5.00 Skate rental \n\nFamilies\, Summer Camps\, Groups\, Organizations are welcome\nGroup Discount for 20 people or more\nCall 856-757-9438 to make a reservation\nSchedule a Birthday party from 12pm-3pm
URL:https://www.unitedskates.com/millennium-skate-world/event/summertime-fun-skate/2026-07-22/
LOCATION:Millennium Skate World\, 1900 Carman St.\, Camden\, NJ\, 08105\, United States
CATEGORIES:Family Events,Public Skates,Special Events
ATTACH;FMTTYPE=image/jpeg:https://unitedskates-assets.sfo3.digitaloceanspaces.com/wp-content/uploads/sites/17/2026/03/Schedule-Summer-2026-44-scaled.jpg
END:VEVENT
END:VCALENDAR