BEGIN:VCALENDAR
VERSION:2.0
PRODID:-//Rink 44 - Millennium Skate World - ECPv6.15.20//NONSGML v1.0//EN
CALSCALE:GREGORIAN
METHOD:PUBLISH
X-WR-CALNAME:Rink 44 - Millennium Skate World
X-ORIGINAL-URL:https://www.unitedskates.com/millennium-skate-world
X-WR-CALDESC:Events for Rink 44 - Millennium Skate World
REFRESH-INTERVAL;VALUE=DURATION:PT1H
X-Robots-Tag:noindex
X-PUBLISHED-TTL:PT1H
BEGIN:VTIMEZONE
TZID:America/New_York
BEGIN:DAYLIGHT
TZOFFSETFROM:-0500
TZOFFSETTO:-0400
TZNAME:EDT
DTSTART:20240310T070000
END:DAYLIGHT
BEGIN:STANDARD
TZOFFSETFROM:-0400
TZOFFSETTO:-0500
TZNAME:EST
DTSTART:20241103T060000
END:STANDARD
BEGIN:DAYLIGHT
TZOFFSETFROM:-0500
TZOFFSETTO:-0400
TZNAME:EDT
DTSTART:20250309T070000
END:DAYLIGHT
BEGIN:STANDARD
TZOFFSETFROM:-0400
TZOFFSETTO:-0500
TZNAME:EST
DTSTART:20251102T060000
END:STANDARD
BEGIN:DAYLIGHT
TZOFFSETFROM:-0500
TZOFFSETTO:-0400
TZNAME:EDT
DTSTART:20260308T070000
END:DAYLIGHT
BEGIN:STANDARD
TZOFFSETFROM:-0400
TZOFFSETTO:-0500
TZNAME:EST
DTSTART:20261101T060000
END:STANDARD
END:VTIMEZONE
BEGIN:VEVENT
DTSTART;TZID=America/New_York:20251001T210000
DTEND;TZID=America/New_York:20251002T020000
DTSTAMP:20260420T215526
CREATED:20250706T165750Z
LAST-MODIFIED:20250814T041604Z
UID:26283-1759352400-1759370400@www.unitedskates.com
SUMMARY:1st Wednesday Adult Night
DESCRIPTION:1st Wednesday Adult Night Skate \n9pm-2am \n\nDJ Vez\nDJ Syncere\n\n$15 with own skates \n$20 with rental skates/Spectators
URL:https://www.unitedskates.com/millennium-skate-world/event/1st-wednesday-adult-night-2/
LOCATION:Millennium Skate World\, 1900 Carman St.\, Camden\, NJ\, 08105\, United States
CATEGORIES:Adult Events,Public Skates,Special Events
ATTACH;FMTTYPE=image/jpeg:https://unitedskates-assets.sfo3.digitaloceanspaces.com/wp-content/uploads/sites/17/2025/07/1st-Wed-Oct-1st.jpg
END:VEVENT
BEGIN:VEVENT
DTSTART;TZID=America/New_York:20251002T180000
DTEND;TZID=America/New_York:20251002T210000
DTSTAMP:20260420T215526
CREATED:20240308T060138Z
LAST-MODIFIED:20250829T040635Z
UID:24512-1759428000-1759438800@www.unitedskates.com
SUMMARY:Whitman Park Cheerleaders Family FUN Skate
DESCRIPTION:Whitman Park Cheerleaders Family FUN Skate \nFundraiser Skate party \n\nAll ages; Everyone is welcome\nPerfect night for a Birthday party\nMeetups / Get togethers\n\n6pm-9pm \n$10.00 per person includes admission and skate rental \n 
URL:https://www.unitedskates.com/millennium-skate-world/event/family-fun-skate-12-2025-05-01-2025-10-02/
LOCATION:Millennium Skate World\, 1900 Carman St.\, Camden\, NJ\, 08105\, United States
CATEGORIES:Family Events,Public Skates,Special Events
ATTACH;FMTTYPE=image/jpeg:https://unitedskates-assets.sfo3.digitaloceanspaces.com/wp-content/uploads/sites/17/2024/03/Whitman-park-10.2.25.jpg
END:VEVENT
BEGIN:VEVENT
DTSTART;TZID=America/New_York:20251003T160000
DTEND;TZID=America/New_York:20251003T183000
DTSTAMP:20260420T215526
CREATED:20250325T053105Z
LAST-MODIFIED:20250325T053105Z
UID:24429-1759507200-1759516200@www.unitedskates.com
SUMMARY:Family FUN Skate
DESCRIPTION:Family FUN Skate \n4pm-6:30pm \n$6.00 Admission \n$5.00 Skate rental \n\nSchedule a Birthday Party\nMeetup with friends and family
URL:https://www.unitedskates.com/millennium-skate-world/event/family-fun-skate-12/2025-10-03/
LOCATION:Millennium Skate World\, 1900 Carman St.\, Camden\, NJ\, 08105\, United States
CATEGORIES:Family Events,Public Skates,Special Events
ATTACH;FMTTYPE=image/jpeg:https://unitedskates-assets.sfo3.digitaloceanspaces.com/wp-content/uploads/sites/17/2022/05/AFF-FAMILY-FUN-SKATE-1200x900-1.jpg
END:VEVENT
BEGIN:VEVENT
DTSTART;TZID=America/New_York:20251003T190000
DTEND;TZID=America/New_York:20251003T223000
DTSTAMP:20260420T215526
CREATED:20250803T202018Z
LAST-MODIFIED:20250914T155606Z
UID:26599-1759518000-1759530600@www.unitedskates.com
SUMMARY:1st Friday Adult Night Skate
DESCRIPTION:1st Friday Adult Night Skate  \n7pm-10:30pm \nfeaturing DJ Ed \n$12 Admission with own skates \n$17 Admission with rental skates/Spectators \n\nMeetup with friends\nSchedule a Birthday Party\n\n 
URL:https://www.unitedskates.com/millennium-skate-world/event/1st-friday-adult-night-skate-8/
LOCATION:Millennium Skate World\, 1900 Carman St.\, Camden\, NJ\, 08105\, United States
CATEGORIES:Adult Events,Public Skates,Special Events
ATTACH;FMTTYPE=image/jpeg:https://unitedskates-assets.sfo3.digitaloceanspaces.com/wp-content/uploads/sites/17/2025/08/1st-Friday-10.3.25.jpg
END:VEVENT
BEGIN:VEVENT
DTSTART;TZID=America/New_York:20251003T230000
DTEND;TZID=America/New_York:20251004T030000
DTSTAMP:20260420T215526
CREATED:20250803T203109Z
LAST-MODIFIED:20250914T155128Z
UID:26604-1759532400-1759546800@www.unitedskates.com
SUMMARY:1st Friday Adult LATE Skate
DESCRIPTION:1st Friday Adult LATE Skate \n11pm – 3am \nfeaturing DJ Jir \n$12 Admission with own skates \n$17 Admission with rental skates/Spectators \n\nBirthday parties\nMeetup with friends and family\n\n 
URL:https://www.unitedskates.com/millennium-skate-world/event/1st-friday-adult-late-skate-8/
LOCATION:Millennium Skate World\, 1900 Carman St.\, Camden\, NJ\, 08105\, United States
CATEGORIES:Adult Events,Public Skates,Special Events
ATTACH;FMTTYPE=image/jpeg:https://unitedskates-assets.sfo3.digitaloceanspaces.com/wp-content/uploads/sites/17/2025/08/1st-Friday-10.3.25.jpg
END:VEVENT
BEGIN:VEVENT
DTSTART;TZID=America/New_York:20251004T153000
DTEND;TZID=America/New_York:20251004T183000
DTSTAMP:20260420T215526
CREATED:20250707T020833Z
LAST-MODIFIED:20250803T031244Z
UID:26330-1759591800-1759602600@www.unitedskates.com
SUMMARY:Barbie Pink Out - Family FUN Skate
DESCRIPTION:Barbie Pink out – Family FUN Skate  \n$11.00 Admission \n$5.00 Skate rental \n\nBirthday Parties\nMeetup with family and friends\nSpecial discounted prices for 20 people or more\nWear Pink – receive a Pink Cotton Candy\n\n 
URL:https://www.unitedskates.com/millennium-skate-world/event/saturday-family-fun-skate-2025-10-04/
LOCATION:Millennium Skate World\, 1900 Carman St.\, Camden\, NJ\, 08105\, United States
CATEGORIES:Family Events,Public Skates,Special Events
ATTACH;FMTTYPE=image/png:https://unitedskates-assets.sfo3.digitaloceanspaces.com/wp-content/uploads/sites/17/2025/04/Barbie-10.4.25.png
END:VEVENT
BEGIN:VEVENT
DTSTART;TZID=America/New_York:20251004T190000
DTEND;TZID=America/New_York:20251004T220000
DTSTAMP:20260420T215526
CREATED:20250415T055123Z
LAST-MODIFIED:20250803T032419Z
UID:24928-1759604400-1759615200@www.unitedskates.com
SUMMARY:Barbie's 80's gear - Family NIGHT Skate
DESCRIPTION:Barbie 80’s gear Family FUN Night Skate \nHip Hop and R&B Music – 80’s to Current music \n7pm-10pm \n$11 Admission at the door \nAdvance ticket sales $10.00 \n$5.00 skate rental \n\nSchedule a Birthday Party\nMeet with friends and family
URL:https://www.unitedskates.com/millennium-skate-world/event/family-night-skate-4-2025-07-12-2025-10-04/
LOCATION:Millennium Skate World\, 1900 Carman St.\, Camden\, NJ\, 08105\, United States
CATEGORIES:Family Events,Public Skates,Special Events
ATTACH;FMTTYPE=image/png:https://unitedskates-assets.sfo3.digitaloceanspaces.com/wp-content/uploads/sites/17/2025/04/Barbie-10.4.25.png
END:VEVENT
BEGIN:VEVENT
DTSTART;TZID=America/New_York:20251004T230000
DTEND;TZID=America/New_York:20251005T030000
DTSTAMP:20260420T215526
CREATED:20251004T163157Z
LAST-MODIFIED:20251004T163243Z
UID:27245-1759618800-1759633200@www.unitedskates.com
SUMMARY:To.Sheed and Vybe Birthday Bash
DESCRIPTION:To.Sheed and Vybe Birthday Bash \nSaturday\, October 4th \n11pm-3am \nFeaturing DJ Vez \n$20 Admission with own skates \n$25 Admission with rental skates/Spectators
URL:https://www.unitedskates.com/millennium-skate-world/event/to-sheed-and-vybe-birthday-bash/
LOCATION:Millennium Skate World\, 1900 Carman St.\, Camden\, NJ\, 08105\, United States
CATEGORIES:Adult Events,Public Skates,Special Events
ATTACH;FMTTYPE=image/jpeg:https://unitedskates-assets.sfo3.digitaloceanspaces.com/wp-content/uploads/sites/17/2025/10/Sheed-10.4.25.jpg
END:VEVENT
BEGIN:VEVENT
DTSTART;TZID=America/New_York:20251006T160000
DTEND;TZID=America/New_York:20251006T180000
DTSTAMP:20260420T215526
CREATED:20251003T195541Z
LAST-MODIFIED:20251003T195907Z
UID:27089-1759766400-1759773600@www.unitedskates.com
SUMMARY:Rent the Rink - Private
DESCRIPTION:Rent Millennium Skate World for 2 hours  \n\nFamily FUN Gathering\nMeetup with friends\nBusiness Meeting and Skate\nCelebrate a Special Occasion\nAll ages welcome\n\n4pm-6pm \nOnly $400 for up to 25 people – includes Admission and Skate rental \n~~~~~~~~~~~~~ \nOption: \nAdd a slice of Pizza and Drink – $5 per person \nAdd a Whole Pizza and Pitcher – Only $17.95 \nAdd a Wing Platter – Only $45.00 \nWant to bring in a Cake and Ice cream? Add a Birthday Setup for $50
URL:https://www.unitedskates.com/millennium-skate-world/event/rent-the-rink-private/2025-10-06/
LOCATION:Millennium Skate World\, 1900 Carman St.\, Camden\, NJ\, 08105\, United States
CATEGORIES:Private Party,Special Events
ATTACH;FMTTYPE=image/jpeg:https://unitedskates-assets.sfo3.digitaloceanspaces.com/wp-content/uploads/sites/17/2024/08/Rent-the-rink.jpg
END:VEVENT
BEGIN:VEVENT
DTSTART;TZID=America/New_York:20251007T160000
DTEND;TZID=America/New_York:20251007T180000
DTSTAMP:20260420T215526
CREATED:20251003T195541Z
LAST-MODIFIED:20251003T195916Z
UID:27091-1759852800-1759860000@www.unitedskates.com
SUMMARY:Rent the Rink - Private
DESCRIPTION:Rent Millennium Skate World for 2 hours  \n\nFamily FUN Gathering\nMeetup with friends\nBusiness Meeting and Skate\nCelebrate a Special Occasion\nAll ages welcome\n\n4pm-6pm \nOnly $400 for up to 25 people – includes Admission and Skate rental \n~~~~~~~~~~~~~ \nOption: \nAdd a slice of Pizza and Drink – $5 per person \nAdd a Whole Pizza and Pitcher – Only $17.95 \nAdd a Wing Platter – Only $45.00 \nWant to bring in a Cake and Ice cream? Add a Birthday Setup for $50
URL:https://www.unitedskates.com/millennium-skate-world/event/rent-the-rink-private/2025-10-07/
LOCATION:Millennium Skate World\, 1900 Carman St.\, Camden\, NJ\, 08105\, United States
CATEGORIES:Private Party,Special Events
ATTACH;FMTTYPE=image/jpeg:https://unitedskates-assets.sfo3.digitaloceanspaces.com/wp-content/uploads/sites/17/2024/08/Rent-the-rink.jpg
END:VEVENT
BEGIN:VEVENT
DTSTART;TZID=America/New_York:20251009T160000
DTEND;TZID=America/New_York:20251009T180000
DTSTAMP:20260420T215526
CREATED:20251003T195541Z
LAST-MODIFIED:20251003T195541Z
UID:27125-1760025600-1760032800@www.unitedskates.com
SUMMARY:Rent the Rink - Private
DESCRIPTION:Rent Millennium Skate World for 2 hours  \n\nFamily FUN Gathering\nMeetup with friends\nBusiness Meeting and Skate\nCelebrate a Special Occasion\nAll ages welcome\n\n4pm-6pm \nOnly $400 for up to 25 people – includes Admission and Skate rental \n~~~~~~~~~~~~~ \nOption: \nAdd a slice of Pizza and Drink – $5 per person \nAdd a Whole Pizza and Pitcher – Only $17.95 \nAdd a Wing Platter – Only $45.00 \nWant to bring in a Cake and Ice cream? Add a Birthday Setup for $50
URL:https://www.unitedskates.com/millennium-skate-world/event/rent-the-rink-private/2025-10-09/
LOCATION:Millennium Skate World\, 1900 Carman St.\, Camden\, NJ\, 08105\, United States
CATEGORIES:Private Party,Special Events
ATTACH;FMTTYPE=image/jpeg:https://unitedskates-assets.sfo3.digitaloceanspaces.com/wp-content/uploads/sites/17/2024/08/Rent-the-rink.jpg
END:VEVENT
BEGIN:VEVENT
DTSTART;TZID=America/New_York:20251009T180000
DTEND;TZID=America/New_York:20251009T210000
DTSTAMP:20260420T215526
CREATED:20240308T060138Z
LAST-MODIFIED:20250829T041152Z
UID:24513-1760032800-1760043600@www.unitedskates.com
SUMMARY:Get Better Everyday Step Team Fundraiser - Family FUN Skate
DESCRIPTION:Get Better Everyday Step Team Fundraiser – Family FUN Skate \n\nPerfect night for a Birthday party\nMeetups / Get togethers\n\n6pm-9pm \n$10.00 includes Admission and Skate rental \n 
URL:https://www.unitedskates.com/millennium-skate-world/event/family-fun-skate-12-2025-05-01-2025-10-09/
LOCATION:Millennium Skate World\, 1900 Carman St.\, Camden\, NJ\, 08105\, United States
CATEGORIES:Family Events,Public Skates,Special Events
ATTACH;FMTTYPE=image/jpeg:https://unitedskates-assets.sfo3.digitaloceanspaces.com/wp-content/uploads/sites/17/2024/03/GBE-10.9.25.jpg
END:VEVENT
BEGIN:VEVENT
DTSTART;TZID=America/New_York:20251010T160000
DTEND;TZID=America/New_York:20251010T183000
DTSTAMP:20260420T215526
CREATED:20250325T053105Z
LAST-MODIFIED:20251009T031555Z
UID:24430-1760112000-1760121000@www.unitedskates.com
SUMMARY:Columbus Weekend Family FUN Skate
DESCRIPTION:Family FUN Skate \n4pm-6:30pm \n$6.00 Admission \n$5.00 Skate rental \n\nSchedule a Birthday Party\nMeetup with friends and family
URL:https://www.unitedskates.com/millennium-skate-world/event/family-fun-skate-12-2025-10-10/
LOCATION:Millennium Skate World\, 1900 Carman St.\, Camden\, NJ\, 08105\, United States
CATEGORIES:Family Events,Public Skates,Special Events
ATTACH;FMTTYPE=image/jpeg:https://unitedskates-assets.sfo3.digitaloceanspaces.com/wp-content/uploads/sites/17/2025/10/44-Columbus-Day-Roller-Skate-2025-8.5-x-11-in.jpg
END:VEVENT
BEGIN:VEVENT
DTSTART;TZID=America/New_York:20251010T190000
DTEND;TZID=America/New_York:20251010T230000
DTSTAMP:20260420T215526
CREATED:20250803T211914Z
LAST-MODIFIED:20250922T223749Z
UID:26621-1760122800-1760137200@www.unitedskates.com
SUMMARY:Adult Night Skate
DESCRIPTION:Friday Adult Night Skate \n7pm-11:00pm \n$12 Admission with own skates \n$17 Admission with rental skates/Spectators
URL:https://www.unitedskates.com/millennium-skate-world/event/adult-night-skate-24/
LOCATION:Millennium Skate World\, 1900 Carman St.\, Camden\, NJ\, 08105\, United States
CATEGORIES:Adult Events,Public Skates,Special Events
ATTACH;FMTTYPE=image/jpeg:https://unitedskates-assets.sfo3.digitaloceanspaces.com/wp-content/uploads/sites/17/2024/10/Friday-Adult-Reef-2025.jpg
END:VEVENT
BEGIN:VEVENT
DTSTART;TZID=America/New_York:20251011T100000
DTEND;TZID=America/New_York:20251011T114500
DTSTAMP:20260420T215526
CREATED:20250415T063745Z
LAST-MODIFIED:20251003T183450Z
UID:25185-1760176800-1760183100@www.unitedskates.com
SUMMARY:Skating Lessons
DESCRIPTION:Skating Lessons for all Ages \n$15.00 per person   $5.00 Skate rental \n10am-11:45am \nStay over – practice what you learned 12pm-3pm; Only $5.00 per person \n\nBeginners\nIntermediate\nAdvanced
URL:https://www.unitedskates.com/millennium-skate-world/event/skating-lessons-9/2025-10-11/
LOCATION:Millennium Skate World\, 1900 Carman St.\, Camden\, NJ\, 08105\, United States
CATEGORIES:Family Events,Lessons,Public Skates,Special Events
ATTACH;FMTTYPE=image/jpeg:https://unitedskates-assets.sfo3.digitaloceanspaces.com/wp-content/uploads/sites/17/2025/04/Lessons-10.11.25-to-6.27.26.jpg
END:VEVENT
BEGIN:VEVENT
DTSTART;TZID=America/New_York:20251011T120000
DTEND;TZID=America/New_York:20251011T150000
DTSTAMP:20260420T215526
CREATED:20250803T214557Z
LAST-MODIFIED:20251009T031530Z
UID:26645-1760184000-1760194800@www.unitedskates.com
SUMMARY:Columbus Weekend - Family Fun Skate
DESCRIPTION:Columbus Weekend – Family Fun Skate  \n$11 Admission \n$5 Skate rental \n\nSchedule a Birthday Party\nMeetup with family and friends\nGroup discount of 20 people or more
URL:https://www.unitedskates.com/millennium-skate-world/event/family-fun-skate-26/
LOCATION:Millennium Skate World\, 1900 Carman St.\, Camden\, NJ\, 08105\, United States
CATEGORIES:Family Events,Public Skates,Special Events
ATTACH;FMTTYPE=image/jpeg:https://unitedskates-assets.sfo3.digitaloceanspaces.com/wp-content/uploads/sites/17/2025/10/44-Columbus-Day-Roller-Skate-2025-8.5-x-11-in.jpg
END:VEVENT
BEGIN:VEVENT
DTSTART;TZID=America/New_York:20251011T153000
DTEND;TZID=America/New_York:20251011T183000
DTSTAMP:20260420T215526
CREATED:20250707T020833Z
LAST-MODIFIED:20251009T031702Z
UID:26331-1760196600-1760207400@www.unitedskates.com
SUMMARY:Columbus Weekend - Saturday Family FUN Skate
DESCRIPTION:Columbus Weekend – Saturday Family FUN Skate  \n$11.00 Admission \n$5.00 Skate rental \n\nBirthday Parties\nMeetup with family and friends\nSpecial discounted prices for 20 people or more\n\n 
URL:https://www.unitedskates.com/millennium-skate-world/event/saturday-family-fun-skate-2025-10-11/
LOCATION:Millennium Skate World\, 1900 Carman St.\, Camden\, NJ\, 08105\, United States
CATEGORIES:Family Events,Public Skates,Special Events
ATTACH;FMTTYPE=image/jpeg:https://unitedskates-assets.sfo3.digitaloceanspaces.com/wp-content/uploads/sites/17/2025/10/44-Columbus-Day-Roller-Skate-2025-8.5-x-11-in.jpg
END:VEVENT
BEGIN:VEVENT
DTSTART;TZID=America/New_York:20251011T230000
DTEND;TZID=America/New_York:20251012T045900
DTSTAMP:20260420T215526
CREATED:20250620T191315Z
LAST-MODIFIED:20250922T222858Z
UID:26229-1760223600-1760245140@www.unitedskates.com
SUMMARY:Sunrise Weekend Adult Night Skate
DESCRIPTION:Sunrise Weekend Adult Night LATE Skate – Game Night  \nSaturday. October 11th \n11pm-5am \n$20.00 Admission with own skates \n$25 Admission with rental skates/Spectators \n\nDJ Vez\nDJ Dream\nDJ Jir
URL:https://www.unitedskates.com/millennium-skate-world/event/sunrise-weekend-adult-night-skate/
LOCATION:Millennium Skate World\, 1900 Carman St.\, Camden\, NJ\, 08105\, United States
CATEGORIES:Adult Events,Public Skates,Special Events
ATTACH;FMTTYPE=image/jpeg:https://unitedskates-assets.sfo3.digitaloceanspaces.com/wp-content/uploads/sites/17/2025/06/Sunrise-10.11.25-3-DJs.jpg
END:VEVENT
BEGIN:VEVENT
DTSTART;TZID=America/New_York:20251012T190000
DTEND;TZID=America/New_York:20251012T220000
DTSTAMP:20260420T215526
CREATED:20250803T194819Z
LAST-MODIFIED:20251009T031727Z
UID:26553-1760295600-1760306400@www.unitedskates.com
SUMMARY:No School - Go Skating - Family FUN Public Skate
DESCRIPTION:Columbus Day  – No School – Go Skating \nFamily FUN Public Skate \nSunday October 12th \n7pm-10pm \n\nSchedule a Birthday Party\nGroup discount for 20 people or more\nMeetup with family and friends\n\n 
URL:https://www.unitedskates.com/millennium-skate-world/event/no-school-go-skating-family-fun-public-skate/
LOCATION:Millennium Skate World\, 1900 Carman St.\, Camden\, NJ\, 08105\, United States
CATEGORIES:Family Events,Public Skates,Special Events
ATTACH;FMTTYPE=image/jpeg:https://unitedskates-assets.sfo3.digitaloceanspaces.com/wp-content/uploads/sites/17/2025/10/44-Columbus-Day-Roller-Skate-2025-8.5-x-11-in.jpg
END:VEVENT
BEGIN:VEVENT
DTSTART;TZID=America/New_York:20251013T110000
DTEND;TZID=America/New_York:20251013T140000
DTSTAMP:20260420T215526
CREATED:20250415T064300Z
LAST-MODIFIED:20251009T031821Z
UID:25254-1760353200-1760364000@www.unitedskates.com
SUMMARY:Columbus Day - Open Skate
DESCRIPTION:Columbus Day – Open Skate  \nMonday\, October 13th   11am-2pm \nNo School – Go Skating \n\nCall 856-757-9438 to schedule a group of 20 people or more\nBirthday Parties available\nFamily FUN Get together\nAll ages welcome\n\n$6 Admission \n$5 Skate rental
URL:https://www.unitedskates.com/millennium-skate-world/event/daytime-schools-stem-organizations-2025-10-13/
LOCATION:Millennium Skate World\, 1900 Carman St.\, Camden\, NJ\, 08105\, United States
CATEGORIES:Family Events,Public Skates,Special Events
ATTACH;FMTTYPE=image/jpeg:https://unitedskates-assets.sfo3.digitaloceanspaces.com/wp-content/uploads/sites/17/2025/10/44-Columbus-Day-Roller-Skate-2025-8.5-x-11-in.jpg
END:VEVENT
BEGIN:VEVENT
DTSTART;TZID=America/New_York:20251013T143000
DTEND;TZID=America/New_York:20251013T173000
DTSTAMP:20260420T215526
CREATED:20250803T195700Z
LAST-MODIFIED:20251009T031756Z
UID:26558-1760365800-1760376600@www.unitedskates.com
SUMMARY:Columbus Day - No School\, Go Skating
DESCRIPTION:Columbus Day – Open Skate  \nMonday\, October 13th   2:30m-5:30pm \nNo School – Go Skating \n\nCall 856-757-9438 to schedule a group of 20 people or more\nBirthday Parties available\nFamily FUN Get together\nAll ages welcome\n\n$6.00 Admission \n$5.00 Skate rental
URL:https://www.unitedskates.com/millennium-skate-world/event/columbus-day-no-school-go-skating/
LOCATION:Millennium Skate World\, 1900 Carman St.\, Camden\, NJ\, 08105\, United States
CATEGORIES:Family Events,Public Skates,Special Events
ATTACH;FMTTYPE=image/jpeg:https://unitedskates-assets.sfo3.digitaloceanspaces.com/wp-content/uploads/sites/17/2025/10/44-Columbus-Day-Roller-Skate-2025-8.5-x-11-in.jpg
END:VEVENT
BEGIN:VEVENT
DTSTART;TZID=America/New_York:20251014T160000
DTEND;TZID=America/New_York:20251014T180000
DTSTAMP:20260420T215526
CREATED:20251003T195541Z
LAST-MODIFIED:20251003T195916Z
UID:27093-1760457600-1760464800@www.unitedskates.com
SUMMARY:Rent the Rink - Private
DESCRIPTION:Rent Millennium Skate World for 2 hours  \n\nFamily FUN Gathering\nMeetup with friends\nBusiness Meeting and Skate\nCelebrate a Special Occasion\nAll ages welcome\n\n4pm-6pm \nOnly $400 for up to 25 people – includes Admission and Skate rental \n~~~~~~~~~~~~~ \nOption: \nAdd a slice of Pizza and Drink – $5 per person \nAdd a Whole Pizza and Pitcher – Only $17.95 \nAdd a Wing Platter – Only $45.00 \nWant to bring in a Cake and Ice cream? Add a Birthday Setup for $50
URL:https://www.unitedskates.com/millennium-skate-world/event/rent-the-rink-private/2025-10-14/
LOCATION:Millennium Skate World\, 1900 Carman St.\, Camden\, NJ\, 08105\, United States
CATEGORIES:Private Party,Special Events
ATTACH;FMTTYPE=image/jpeg:https://unitedskates-assets.sfo3.digitaloceanspaces.com/wp-content/uploads/sites/17/2024/08/Rent-the-rink.jpg
END:VEVENT
BEGIN:VEVENT
DTSTART;TZID=America/New_York:20251014T180000
DTEND;TZID=America/New_York:20251014T210000
DTSTAMP:20260420T215526
CREATED:20250321T201049Z
LAST-MODIFIED:20250814T163450Z
UID:26803-1760464800-1760475600@www.unitedskates.com
SUMMARY:Camden City Night - Family  Skate
DESCRIPTION:Camden City Night – Family Skate \nFeaturing DJ Lil Redd \n6pm-9pm \nFREE Admission for Camden City residents\, show ID for up to 4 people  \nSkate rental $5.00 \nParents stay with your kids\, no drop-offs \nSpecial Appearance by Stitch \n~~~~~~~ \n$10.00 Admission for Non- Camden residents \n\nSchedule a Birthday party\nMeetup with Family and Friends
URL:https://www.unitedskates.com/millennium-skate-world/event/tuesday-family-night-skate-2025-09-09-2025-10-14/
LOCATION:Millennium Skate World\, 1900 Carman St.\, Camden\, NJ\, 08105\, United States
CATEGORIES:Family Events,Public Skates,Special Events
ATTACH;FMTTYPE=image/jpeg:https://unitedskates-assets.sfo3.digitaloceanspaces.com/wp-content/uploads/sites/17/2025/03/Camden-City-nights-9.25-to-12.25.jpg
END:VEVENT
BEGIN:VEVENT
DTSTART;TZID=America/New_York:20251016T160000
DTEND;TZID=America/New_York:20251016T180000
DTSTAMP:20260420T215526
CREATED:20251003T195541Z
LAST-MODIFIED:20251003T195541Z
UID:27126-1760630400-1760637600@www.unitedskates.com
SUMMARY:Rent the Rink - Private
DESCRIPTION:Rent Millennium Skate World for 2 hours  \n\nFamily FUN Gathering\nMeetup with friends\nBusiness Meeting and Skate\nCelebrate a Special Occasion\nAll ages welcome\n\n4pm-6pm \nOnly $400 for up to 25 people – includes Admission and Skate rental \n~~~~~~~~~~~~~ \nOption: \nAdd a slice of Pizza and Drink – $5 per person \nAdd a Whole Pizza and Pitcher – Only $17.95 \nAdd a Wing Platter – Only $45.00 \nWant to bring in a Cake and Ice cream? Add a Birthday Setup for $50
URL:https://www.unitedskates.com/millennium-skate-world/event/rent-the-rink-private/2025-10-16/
LOCATION:Millennium Skate World\, 1900 Carman St.\, Camden\, NJ\, 08105\, United States
CATEGORIES:Private Party,Special Events
ATTACH;FMTTYPE=image/jpeg:https://unitedskates-assets.sfo3.digitaloceanspaces.com/wp-content/uploads/sites/17/2024/08/Rent-the-rink.jpg
END:VEVENT
BEGIN:VEVENT
DTSTART;TZID=America/New_York:20251016T180000
DTEND;TZID=America/New_York:20251016T210000
DTSTAMP:20260420T215526
CREATED:20240308T060138Z
LAST-MODIFIED:20250904T170130Z
UID:24514-1760637600-1760648400@www.unitedskates.com
SUMMARY:Mummy Wrap Family FUN Skate
DESCRIPTION:Mummy Wrap Family FUN Skate \n\nPerfect night for a Birthday party\nMeetups / Get togethers\nWrap up with TP to look like a Mummy\n\n6pm-9pm \n$6.00 Admission \n$5.00 Skate rental \n 
URL:https://www.unitedskates.com/millennium-skate-world/event/family-fun-skate-12-2025-05-01-2025-10-16/
LOCATION:Millennium Skate World\, 1900 Carman St.\, Camden\, NJ\, 08105\, United States
CATEGORIES:Family Events,Public Skates,Special Events
ATTACH;FMTTYPE=image/jpeg:https://unitedskates-assets.sfo3.digitaloceanspaces.com/wp-content/uploads/sites/17/2024/03/Copy-of-Square-Mummy-Wrap-Skate-1080-x-1080-px.jpg
END:VEVENT
BEGIN:VEVENT
DTSTART;TZID=America/New_York:20251017T160000
DTEND;TZID=America/New_York:20251017T183000
DTSTAMP:20260420T215526
CREATED:20250325T053105Z
LAST-MODIFIED:20250325T053105Z
UID:24431-1760716800-1760725800@www.unitedskates.com
SUMMARY:Family FUN Skate
DESCRIPTION:Family FUN Skate \n4pm-6:30pm \n$6.00 Admission \n$5.00 Skate rental \n\nSchedule a Birthday Party\nMeetup with friends and family
URL:https://www.unitedskates.com/millennium-skate-world/event/family-fun-skate-12/2025-10-17/
LOCATION:Millennium Skate World\, 1900 Carman St.\, Camden\, NJ\, 08105\, United States
CATEGORIES:Family Events,Public Skates,Special Events
ATTACH;FMTTYPE=image/jpeg:https://unitedskates-assets.sfo3.digitaloceanspaces.com/wp-content/uploads/sites/17/2022/05/AFF-FAMILY-FUN-SKATE-1200x900-1.jpg
END:VEVENT
BEGIN:VEVENT
DTSTART;TZID=America/New_York:20251017T190000
DTEND;TZID=America/New_York:20251017T223000
DTSTAMP:20260420T215526
CREATED:20250803T211333Z
LAST-MODIFIED:20250930T225644Z
UID:26617-1760727600-1760740200@www.unitedskates.com
SUMMARY:Adult Night Skate
DESCRIPTION:Friday Night Adult Skate \n7pm-10:30pm \n$12 Admission with own skates \n$17 Admission with rental skates/Spectators \nfeaturing DJ Reef
URL:https://www.unitedskates.com/millennium-skate-world/event/adult-night-skate-21/
LOCATION:Millennium Skate World\, 1900 Carman St.\, Camden\, NJ\, 08105\, United States
CATEGORIES:Adult Events,Public Skates,Special Events
ATTACH;FMTTYPE=image/jpeg:https://unitedskates-assets.sfo3.digitaloceanspaces.com/wp-content/uploads/sites/17/2024/10/Friday-Adult-Reef-2025.jpg
END:VEVENT
BEGIN:VEVENT
DTSTART;TZID=America/New_York:20251017T223000
DTEND;TZID=America/New_York:20251018T020000
DTSTAMP:20260420T215526
CREATED:20250930T230015Z
LAST-MODIFIED:20251003T202550Z
UID:26986-1760740200-1760752800@www.unitedskates.com
SUMMARY:DJ Ju and Friends presents.... Homecoming Skate Party
DESCRIPTION:DJ Ju and Friends presents…. \nThe Homecoming Skate Party \nFriday\, October 17th \n10:30pm-2am \n\nThrowback Y2K\nSports team Jerseys\n\n$20 Admission with own skates \n$25 Admission with rental skates \n*Special discount for GREEK members – $15 Admission; show proof of membership for discount \n\nTicket link www.millenniumskateworld.com – Get Tickets 
URL:https://www.unitedskates.com/millennium-skate-world/event/dj-ju-and-friends-presents/
LOCATION:Millennium Skate World\, 1900 Carman St.\, Camden\, NJ\, 08105\, United States
CATEGORIES:Adult Events,Public Skates,Special Events
ATTACH;FMTTYPE=image/jpeg:https://unitedskates-assets.sfo3.digitaloceanspaces.com/wp-content/uploads/sites/17/2025/09/Rowan-DJ-Ju-10.17.25.jpg
END:VEVENT
BEGIN:VEVENT
DTSTART;TZID=America/New_York:20251018T100000
DTEND;TZID=America/New_York:20251018T114500
DTSTAMP:20260420T215526
CREATED:20250415T063745Z
LAST-MODIFIED:20250415T063745Z
UID:27008-1760781600-1760787900@www.unitedskates.com
SUMMARY:Skating Lessons
DESCRIPTION:Skating Lessons for all Ages \n$15.00 per person   $5.00 Skate rental \n10am-11:45am \nStay over – practice what you learned 12pm-3pm; Only $5.00 per person \n\nBeginners\nIntermediate\nAdvanced
URL:https://www.unitedskates.com/millennium-skate-world/event/skating-lessons-9/2025-10-18/
LOCATION:Millennium Skate World\, 1900 Carman St.\, Camden\, NJ\, 08105\, United States
CATEGORIES:Family Events,Lessons,Public Skates,Special Events
ATTACH;FMTTYPE=image/jpeg:https://unitedskates-assets.sfo3.digitaloceanspaces.com/wp-content/uploads/sites/17/2025/04/Lessons-10.11.25-to-6.27.26.jpg
END:VEVENT
BEGIN:VEVENT
DTSTART;TZID=America/New_York:20251020T160000
DTEND;TZID=America/New_York:20251020T180000
DTSTAMP:20260420T215526
CREATED:20251003T195541Z
LAST-MODIFIED:20251003T195917Z
UID:27094-1760976000-1760983200@www.unitedskates.com
SUMMARY:Rent the Rink - Private
DESCRIPTION:Rent Millennium Skate World for 2 hours  \n\nFamily FUN Gathering\nMeetup with friends\nBusiness Meeting and Skate\nCelebrate a Special Occasion\nAll ages welcome\n\n4pm-6pm \nOnly $400 for up to 25 people – includes Admission and Skate rental \n~~~~~~~~~~~~~ \nOption: \nAdd a slice of Pizza and Drink – $5 per person \nAdd a Whole Pizza and Pitcher – Only $17.95 \nAdd a Wing Platter – Only $45.00 \nWant to bring in a Cake and Ice cream? Add a Birthday Setup for $50
URL:https://www.unitedskates.com/millennium-skate-world/event/rent-the-rink-private/2025-10-20/
LOCATION:Millennium Skate World\, 1900 Carman St.\, Camden\, NJ\, 08105\, United States
CATEGORIES:Private Party,Special Events
ATTACH;FMTTYPE=image/jpeg:https://unitedskates-assets.sfo3.digitaloceanspaces.com/wp-content/uploads/sites/17/2024/08/Rent-the-rink.jpg
END:VEVENT
END:VCALENDAR