BEGIN:VCALENDAR
VERSION:2.0
PRODID:-//Rink 44 - Millennium Skate World - ECPv6.15.20//NONSGML v1.0//EN
CALSCALE:GREGORIAN
METHOD:PUBLISH
X-ORIGINAL-URL:https://www.unitedskates.com/millennium-skate-world
X-WR-CALDESC:Events for Rink 44 - Millennium Skate World
REFRESH-INTERVAL;VALUE=DURATION:PT1H
X-Robots-Tag:noindex
X-PUBLISHED-TTL:PT1H
BEGIN:VTIMEZONE
TZID:America/New_York
BEGIN:DAYLIGHT
TZOFFSETFROM:-0500
TZOFFSETTO:-0400
TZNAME:EDT
DTSTART:20240310T070000
END:DAYLIGHT
BEGIN:STANDARD
TZOFFSETFROM:-0400
TZOFFSETTO:-0500
TZNAME:EST
DTSTART:20241103T060000
END:STANDARD
BEGIN:DAYLIGHT
TZOFFSETFROM:-0500
TZOFFSETTO:-0400
TZNAME:EDT
DTSTART:20250309T070000
END:DAYLIGHT
BEGIN:STANDARD
TZOFFSETFROM:-0400
TZOFFSETTO:-0500
TZNAME:EST
DTSTART:20251102T060000
END:STANDARD
BEGIN:DAYLIGHT
TZOFFSETFROM:-0500
TZOFFSETTO:-0400
TZNAME:EDT
DTSTART:20260308T070000
END:DAYLIGHT
BEGIN:STANDARD
TZOFFSETFROM:-0400
TZOFFSETTO:-0500
TZNAME:EST
DTSTART:20261101T060000
END:STANDARD
END:VTIMEZONE
BEGIN:VEVENT
DTSTART;TZID=America/New_York:20250829T100000
DTEND;TZID=America/New_York:20250901T213000
DTSTAMP:20260421T154512
CREATED:20250808T181322Z
LAST-MODIFIED:20250808T181322Z
UID:26711-1756461600-1756762200@www.unitedskates.com
SUMMARY:Labor Day Weekend
DESCRIPTION:Labor Day Weekend Skate Pass – Only $69.99!\nCelebrate the long weekend with skating\, food\, games\, and major savings! \nThis $100 value includes:🛼 4 Admissions🛼 4 Skate Rentals🕹️ 1 Game Card with 40 Credits🍕 1 Whole Pizza🥤 1 Pitcher of Soda \nAll for just $69.99! \n📅 Valid August 29 – September 1📍 Millennium Skate WorldValid during family public skate sessions only. Not valid during adult night. Restrictions apply. \n🎟️ Don’t miss this limited-time offer! \n\nGet Tickets Here
URL:https://www.unitedskates.com/millennium-skate-world/event/labor-day-weekend/
LOCATION:NJ
CATEGORIES:Family Events,Public Skates,Special Events
ATTACH;FMTTYPE=image/jpeg:https://unitedskates-assets.sfo3.digitaloceanspaces.com/wp-content/uploads/sites/17/2025/08/44-Labor-Day-Weekend-Pass.jpg
END:VEVENT
BEGIN:VEVENT
DTSTART;TZID=America/New_York:20250901T110000
DTEND;TZID=America/New_York:20250901T140000
DTSTAMP:20260421T154512
CREATED:20250415T064743Z
LAST-MODIFIED:20250707T015754Z
UID:25386-1756724400-1756735200@www.unitedskates.com
SUMMARY:Labor Day Skate
DESCRIPTION:Labor Day Skate \n$6.00 Admission \n$5.00 Skate rental \n\nAll ages welcome\nSchedule a Birthday Party\nMeetup with friends and family
URL:https://www.unitedskates.com/millennium-skate-world/event/labor-day-skate-3/
LOCATION:Millennium Skate World\, 1900 Carman St.\, Camden\, NJ\, 08105\, United States
CATEGORIES:Family Events,Public Skates,Special Events
ATTACH;FMTTYPE=image/png:https://unitedskates-assets.sfo3.digitaloceanspaces.com/wp-content/uploads/sites/17/2025/03/Labor-day-weekend-2025.png
END:VEVENT
BEGIN:VEVENT
DTSTART;TZID=America/New_York:20250901T143000
DTEND;TZID=America/New_York:20250901T173000
DTSTAMP:20260421T154512
CREATED:20250415T064932Z
LAST-MODIFIED:20250706T215341Z
UID:25388-1756737000-1756747800@www.unitedskates.com
SUMMARY:Labor Day Family Skate
DESCRIPTION:Labor Day Skate \n$6.00 Admission \n$5.00 Skate rental \n\nAll ages welcome\nSchedule a Birthday Party\nMeetup with friends and family
URL:https://www.unitedskates.com/millennium-skate-world/event/labor-day/
LOCATION:Millennium Skate World\, 1900 Carman St.\, Camden\, NJ\, 08105\, United States
CATEGORIES:Family Events,Public Skates,Special Events
ATTACH;FMTTYPE=image/png:https://unitedskates-assets.sfo3.digitaloceanspaces.com/wp-content/uploads/sites/17/2025/03/Labor-day-weekend-2025.png
END:VEVENT
BEGIN:VEVENT
DTSTART;TZID=America/New_York:20250902T180000
DTEND;TZID=America/New_York:20250902T210000
DTSTAMP:20260421T154512
CREATED:20250321T201049Z
LAST-MODIFIED:20250706T182712Z
UID:24531-1756836000-1756846800@www.unitedskates.com
SUMMARY:Tuesday Family Night Skate
DESCRIPTION:Tuesday Family Skate \nFeaturing DJ Lil Redd \n6pm-9pm \n$6.00 Admission \n$5.00 Skate rental \n\nSchedule a Birthday party\nMeetup with Family and Friends
URL:https://www.unitedskates.com/millennium-skate-world/event/tuesday-family-night-skate-2025-09-02/
LOCATION:Millennium Skate World\, 1900 Carman St.\, Camden\, NJ\, 08105\, United States
CATEGORIES:Family Events,Public Skates,Special Events
ATTACH;FMTTYPE=image/png:https://unitedskates-assets.sfo3.digitaloceanspaces.com/wp-content/uploads/sites/17/2025/03/Summer-Tuesday-2025-Music-Special.png
END:VEVENT
BEGIN:VEVENT
DTSTART;TZID=America/New_York:20250903T210000
DTEND;TZID=America/New_York:20250904T020000
DTSTAMP:20260421T154512
CREATED:20241009T053940Z
LAST-MODIFIED:20250706T164241Z
UID:21891-1756933200-1756951200@www.unitedskates.com
SUMMARY:1st Wednesday Adult Night Skate
DESCRIPTION:1st Wednesday Adult Night Skate  \n9pm-2am \nfeaturing DJ Vez and DJ T-Nasty \n$15.00 Admission with own skates \n$20.00 Admission with rental skates/Spectators
URL:https://www.unitedskates.com/millennium-skate-world/event/1st-wednesday-adult-night-skate-5-2025-08-06/
LOCATION:Millennium Skate World\, 1900 Carman St.\, Camden\, NJ\, 08105\, United States
CATEGORIES:Adult Events,Public Skates,Special Events
ATTACH;FMTTYPE=image/jpeg:https://unitedskates-assets.sfo3.digitaloceanspaces.com/wp-content/uploads/sites/17/2024/10/1st-Wed-Sept-2025.jpg
END:VEVENT
BEGIN:VEVENT
DTSTART;TZID=America/New_York:20250904T180000
DTEND;TZID=America/New_York:20250904T210000
DTSTAMP:20260421T154513
CREATED:20240308T060138Z
LAST-MODIFIED:20250803T023021Z
UID:24508-1757008800-1757019600@www.unitedskates.com
SUMMARY:Back to School Mickey and Minnie - Family FUN Skate
DESCRIPTION:Back to School – Family FUN Skate \nMickey and Minnie  \n\nPerfect night for a Birthday party\nMeetups / Get togethers\n\n6pm-9pm \n$6 Admission \n$5 Skate rental
URL:https://www.unitedskates.com/millennium-skate-world/event/family-fun-skate-12-2025-05-01-2025-09-04/
LOCATION:Millennium Skate World\, 1900 Carman St.\, Camden\, NJ\, 08105\, United States
CATEGORIES:Family Events,Public Skates,Special Events
ATTACH;FMTTYPE=image/png:https://unitedskates-assets.sfo3.digitaloceanspaces.com/wp-content/uploads/sites/17/2024/03/Mickey-Minnie-9.4.25.png
END:VEVENT
BEGIN:VEVENT
DTSTART;TZID=America/New_York:20250905T160000
DTEND;TZID=America/New_York:20250905T183000
DTSTAMP:20260421T154513
CREATED:20250325T053105Z
LAST-MODIFIED:20250325T053234Z
UID:24424-1757088000-1757097000@www.unitedskates.com
SUMMARY:Family FUN Skate
DESCRIPTION:Family FUN Skate \n4pm-6:30pm \n$6.00 Admission \n$5.00 Skate rental \n\nSchedule a Birthday Party\nMeetup with friends and family
URL:https://www.unitedskates.com/millennium-skate-world/event/family-fun-skate-12/2025-09-05/
LOCATION:Millennium Skate World\, 1900 Carman St.\, Camden\, NJ\, 08105\, United States
CATEGORIES:Family Events,Public Skates,Special Events
ATTACH;FMTTYPE=image/jpeg:https://unitedskates-assets.sfo3.digitaloceanspaces.com/wp-content/uploads/sites/17/2022/05/AFF-FAMILY-FUN-SKATE-1200x900-1.jpg
END:VEVENT
BEGIN:VEVENT
DTSTART;TZID=America/New_York:20250905T190000
DTEND;TZID=America/New_York:20250905T223000
DTSTAMP:20260421T154513
CREATED:20250803T211002Z
LAST-MODIFIED:20250814T032424Z
UID:26615-1757098800-1757111400@www.unitedskates.com
SUMMARY:1st Friday Adult Night Skate
DESCRIPTION:1st Friday Adult Night Skate \n7pm-10:30pm \nfeaturing DJ Ed \n$12 Admission with own skates \n$17 Admission with rental skates/Spectators
URL:https://www.unitedskates.com/millennium-skate-world/event/1st-friday-adult-night-skate-9/
LOCATION:Millennium Skate World\, 1900 Carman St.\, Camden\, NJ\, 08105\, United States
CATEGORIES:Adult Events,Public Skates,Special Events
ATTACH;FMTTYPE=image/jpeg:https://unitedskates-assets.sfo3.digitaloceanspaces.com/wp-content/uploads/sites/17/2025/06/1st-Friday-Sept-2025.jpg
END:VEVENT
BEGIN:VEVENT
DTSTART;TZID=America/New_York:20250905T230000
DTEND;TZID=America/New_York:20250906T030000
DTSTAMP:20260421T154513
CREATED:20250619T161849Z
LAST-MODIFIED:20250906T020557Z
UID:25972-1757113200-1757127600@www.unitedskates.com
SUMMARY:1st Friday Adult Late Skate
DESCRIPTION:1st Friday Adult Late Skate \nHosted by Just Sk8 \n11pm-3am \nfeaturing DJ T-Nice \n$15 Admission with own skates \n$20 Admission with rental skates/Spectators
URL:https://www.unitedskates.com/millennium-skate-world/event/1st-friday-adult-late-skate-7/
LOCATION:Millennium Skate World\, 1900 Carman St.\, Camden\, NJ\, 08105\, United States
CATEGORIES:Adult Events,Public Skates,Special Events
ATTACH;FMTTYPE=image/jpeg:https://unitedskates-assets.sfo3.digitaloceanspaces.com/wp-content/uploads/sites/17/2025/06/1st-Friday-9.25.jpg
END:VEVENT
BEGIN:VEVENT
DTSTART;TZID=America/New_York:20250906T153000
DTEND;TZID=America/New_York:20250906T183000
DTSTAMP:20260421T154513
CREATED:20250707T020833Z
LAST-MODIFIED:20250803T014630Z
UID:26326-1757172600-1757183400@www.unitedskates.com
SUMMARY:Wednesday - Family FUN Skate
DESCRIPTION:Wednesday – Family FUN Skate  \n$11.00 Admission \n$5.00 Skate rental \n\nBirthday Parties\nMeetup with family and friends\nSpecial discounted prices for 20 people or more\nDress up like Wednesday characters – Special prize\n\n 
URL:https://www.unitedskates.com/millennium-skate-world/event/saturday-family-fun-skate/
LOCATION:Millennium Skate World\, 1900 Carman St.\, Camden\, NJ\, 08105\, United States
CATEGORIES:Family Events,Public Skates,Special Events
ATTACH;FMTTYPE=image/png:https://unitedskates-assets.sfo3.digitaloceanspaces.com/wp-content/uploads/sites/17/2025/07/Wednesday-Sept-6th-2025.png
END:VEVENT
BEGIN:VEVENT
DTSTART;TZID=America/New_York:20250909T180000
DTEND;TZID=America/New_York:20250909T210000
DTSTAMP:20260421T154513
CREATED:20250321T201049Z
LAST-MODIFIED:20250814T163113Z
UID:24532-1757440800-1757451600@www.unitedskates.com
SUMMARY:Camden City Night - Family  Skate
DESCRIPTION:Camden City Night – Family Skate \nFeaturing DJ Lil Redd \n6pm-9pm \nFREE Admission for Camden City residents\, show ID for up to 4 people  \nSkate rental $5.00 \nParents stay with your kids\, no drop-offs \nSpecial Appearance by Sonic \n~~~~~~~ \n$10.00 Admission for Non- Camden residents \n\nSchedule a Birthday party\nMeetup with Family and Friends
URL:https://www.unitedskates.com/millennium-skate-world/event/tuesday-family-night-skate-2025-09-09/2025-09-09/
LOCATION:Millennium Skate World\, 1900 Carman St.\, Camden\, NJ\, 08105\, United States
CATEGORIES:Family Events,Public Skates,Special Events
ATTACH;FMTTYPE=image/jpeg:https://unitedskates-assets.sfo3.digitaloceanspaces.com/wp-content/uploads/sites/17/2025/03/Camden-City-nights-9.25-to-12.25.jpg
END:VEVENT
BEGIN:VEVENT
DTSTART;TZID=America/New_York:20250910T210000
DTEND;TZID=America/New_York:20250911T013000
DTSTAMP:20260421T154513
CREATED:20250415T061955Z
LAST-MODIFIED:20250814T040043Z
UID:25143-1757538000-1757554200@www.unitedskates.com
SUMMARY:Adult Night Skate
DESCRIPTION:Adult Night Skate \n$12 admission with own skates \n$17 admission with rental skates/Spectators \n\nSchedule a Birthday party\nMeetup with family and friends
URL:https://www.unitedskates.com/millennium-skate-world/event/adult-night-skate-18/
LOCATION:Millennium Skate World\, 1900 Carman St.\, Camden\, NJ\, 08105\, United States
CATEGORIES:Adult Events,Public Skates,Special Events
ATTACH;FMTTYPE=image/jpeg:https://unitedskates-assets.sfo3.digitaloceanspaces.com/wp-content/uploads/sites/17/2025/04/Wed-Adult-Sept-2025-1.jpg
END:VEVENT
BEGIN:VEVENT
DTSTART;TZID=America/New_York:20250911T180000
DTEND;TZID=America/New_York:20250911T210000
DTSTAMP:20260421T154513
CREATED:20240308T060138Z
LAST-MODIFIED:20250828T153838Z
UID:24509-1757613600-1757624400@www.unitedskates.com
SUMMARY:K-Pop Glow Family FUN Skate
DESCRIPTION:K-Pop Glow Family FUN Skate \n\nPerfect night for a Birthday party\nMeetups / Get togethers\n\n6pm-9pm \n\n$6.00 Admission\n$5.00 Skate rental\n$1.00 Glow stick
URL:https://www.unitedskates.com/millennium-skate-world/event/family-fun-skate-12-2025-05-01-2025-09-11/
LOCATION:Millennium Skate World\, 1900 Carman St.\, Camden\, NJ\, 08105\, United States
CATEGORIES:Family Events,Public Skates,Special Events
ATTACH;FMTTYPE=image/jpeg:https://unitedskates-assets.sfo3.digitaloceanspaces.com/wp-content/uploads/sites/17/2024/03/KPop-9.11.25.jpg
END:VEVENT
BEGIN:VEVENT
DTSTART;TZID=America/New_York:20250912T160000
DTEND;TZID=America/New_York:20250912T183000
DTSTAMP:20260421T154513
CREATED:20250325T053105Z
LAST-MODIFIED:20250325T053234Z
UID:24425-1757692800-1757701800@www.unitedskates.com
SUMMARY:Family FUN Skate
DESCRIPTION:Family FUN Skate \n4pm-6:30pm \n$6.00 Admission \n$5.00 Skate rental \n\nSchedule a Birthday Party\nMeetup with friends and family
URL:https://www.unitedskates.com/millennium-skate-world/event/family-fun-skate-12/2025-09-12/
LOCATION:Millennium Skate World\, 1900 Carman St.\, Camden\, NJ\, 08105\, United States
CATEGORIES:Family Events,Public Skates,Special Events
ATTACH;FMTTYPE=image/jpeg:https://unitedskates-assets.sfo3.digitaloceanspaces.com/wp-content/uploads/sites/17/2022/05/AFF-FAMILY-FUN-SKATE-1200x900-1.jpg
END:VEVENT
BEGIN:VEVENT
DTSTART;TZID=America/New_York:20250912T190000
DTEND;TZID=America/New_York:20250912T230000
DTSTAMP:20260421T154513
CREATED:20240308T065511Z
LAST-MODIFIED:20250620T181536Z
UID:25122-1757703600-1757718000@www.unitedskates.com
SUMMARY:Adult Night Skate
DESCRIPTION:Friday Adult Night Skate \n7pm-11pm \n\nHip Hop\, R&B and House music\nLIVE DJ\n\n$12 admission with own skates \n$17 admission with rental skates/Spectators
URL:https://www.unitedskates.com/millennium-skate-world/event/adult-night-skate-8-2025-06-06-2025-09-12/
LOCATION:Millennium Skate World\, 1900 Carman St.\, Camden\, NJ\, 08105\, United States
CATEGORIES:Adult Events,Public Skates,Special Events
ATTACH;FMTTYPE=image/jpeg:https://unitedskates-assets.sfo3.digitaloceanspaces.com/wp-content/uploads/sites/17/2024/10/Friday-Adult-Reef-2025.jpg
END:VEVENT
BEGIN:VEVENT
DTSTART;TZID=America/New_York:20250913T153000
DTEND;TZID=America/New_York:20250913T183000
DTSTAMP:20260421T154513
CREATED:20250707T020833Z
LAST-MODIFIED:20250803T020428Z
UID:26327-1757777400-1757788200@www.unitedskates.com
SUMMARY:Back to School - Saturday Family FUN Skate
DESCRIPTION:Back to School – Saturday Family FUN Skate  \n  Costume Character appearances  \n$11.00 Admission \n$5.00 Skate rental \n\nBirthday Parties\nMeetup with family and friends\nSpecial discounted prices for 20 people or more\nAdd a Slice of Pizza and Drink – $5.00 per person\n\n 
URL:https://www.unitedskates.com/millennium-skate-world/event/saturday-family-fun-skate-2025-09-13/
LOCATION:Millennium Skate World\, 1900 Carman St.\, Camden\, NJ\, 08105\, United States
CATEGORIES:Family Events,Public Skates,Special Events
ATTACH;FMTTYPE=image/png:https://unitedskates-assets.sfo3.digitaloceanspaces.com/wp-content/uploads/sites/17/2025/07/Back-to-school-characters-9.13.25.png
END:VEVENT
BEGIN:VEVENT
DTSTART;TZID=America/New_York:20250917T210000
DTEND;TZID=America/New_York:20250918T013000
DTSTAMP:20260421T154513
CREATED:20250415T061955Z
LAST-MODIFIED:20250814T040411Z
UID:25144-1758142800-1758159000@www.unitedskates.com
SUMMARY:Adult Night Skate
DESCRIPTION:Adult Night Skate \n$12 admission with own skates \n$17 admission with rental skates/Spectators \n\nSchedule a Birthday party
URL:https://www.unitedskates.com/millennium-skate-world/event/adult-night-skate-18-2025-09-17/
LOCATION:Millennium Skate World\, 1900 Carman St.\, Camden\, NJ\, 08105\, United States
CATEGORIES:Adult Events,Public Skates,Special Events
ATTACH;FMTTYPE=image/jpeg:https://unitedskates-assets.sfo3.digitaloceanspaces.com/wp-content/uploads/sites/17/2025/04/Wed-Adult-Sept-2025-1.jpg
END:VEVENT
BEGIN:VEVENT
DTSTART;TZID=America/New_York:20250918T180000
DTEND;TZID=America/New_York:20250918T210000
DTSTAMP:20260421T154513
CREATED:20240308T060138Z
LAST-MODIFIED:20250803T193950Z
UID:24510-1758218400-1758229200@www.unitedskates.com
SUMMARY:Family FUN - Cookie Skate
DESCRIPTION:Family FUN – Cookie Skate \n\nPerfect night for a Birthday party\nMeetups / Get togethers\n\n6pm-9pm \n$6 Admission \n$5 Skate rental
URL:https://www.unitedskates.com/millennium-skate-world/event/family-fun-skate-12-2025-05-01-2025-09-18/
LOCATION:Millennium Skate World\, 1900 Carman St.\, Camden\, NJ\, 08105\, United States
CATEGORIES:Family Events,Public Skates,Special Events
ATTACH;FMTTYPE=image/png:https://unitedskates-assets.sfo3.digitaloceanspaces.com/wp-content/uploads/sites/17/2024/03/Cookie-9.18.25.png
END:VEVENT
BEGIN:VEVENT
DTSTART;TZID=America/New_York:20250919T160000
DTEND;TZID=America/New_York:20250919T183000
DTSTAMP:20260421T154513
CREATED:20250325T053105Z
LAST-MODIFIED:20250325T053234Z
UID:24426-1758297600-1758306600@www.unitedskates.com
SUMMARY:Family FUN Skate
DESCRIPTION:Family FUN Skate \n4pm-6:30pm \n$6.00 Admission \n$5.00 Skate rental \n\nSchedule a Birthday Party\nMeetup with friends and family
URL:https://www.unitedskates.com/millennium-skate-world/event/family-fun-skate-12/2025-09-19/
LOCATION:Millennium Skate World\, 1900 Carman St.\, Camden\, NJ\, 08105\, United States
CATEGORIES:Family Events,Public Skates,Special Events
ATTACH;FMTTYPE=image/jpeg:https://unitedskates-assets.sfo3.digitaloceanspaces.com/wp-content/uploads/sites/17/2022/05/AFF-FAMILY-FUN-SKATE-1200x900-1.jpg
END:VEVENT
BEGIN:VEVENT
DTSTART;TZID=America/New_York:20250919T190000
DTEND;TZID=America/New_York:20250919T223000
DTSTAMP:20260421T154513
CREATED:20240308T065511Z
LAST-MODIFIED:20250620T182313Z
UID:25123-1758308400-1758321000@www.unitedskates.com
SUMMARY:Adult Night Skate
DESCRIPTION:Friday Adult Night Skate \n7pm-10:30pm \n\nHip Hop\, R&B and House music\nLIVE DJ\n\n$12 admission with own skates \n$17 admission with rental skates/Spectators
URL:https://www.unitedskates.com/millennium-skate-world/event/adult-night-skate-8-2025-06-06-2025-09-19/
LOCATION:Millennium Skate World\, 1900 Carman St.\, Camden\, NJ\, 08105\, United States
CATEGORIES:Adult Events,Public Skates,Special Events
ATTACH;FMTTYPE=image/jpeg:https://unitedskates-assets.sfo3.digitaloceanspaces.com/wp-content/uploads/sites/17/2024/10/Friday-Adult-Reef-2025.jpg
END:VEVENT
BEGIN:VEVENT
DTSTART;TZID=America/New_York:20250920T153000
DTEND;TZID=America/New_York:20250920T183000
DTSTAMP:20260421T154513
CREATED:20250707T020833Z
LAST-MODIFIED:20250827T195228Z
UID:26328-1758382200-1758393000@www.unitedskates.com
SUMMARY:Saturday FALL Family FUN Skate
DESCRIPTION:Saturday FALL Family FUN Skate  \n$11.00 Admission \n$5.00 Skate rental \n\nBirthday Parties\nMeetup with family and friends\nSpecial discounted prices for 20 people or more\nCostume character\n\nRaffle – Win a FREE Gold Birthday Party \n 
URL:https://www.unitedskates.com/millennium-skate-world/event/saturday-family-fun-skate-2025-09-20/
LOCATION:Millennium Skate World\, 1900 Carman St.\, Camden\, NJ\, 08105\, United States
CATEGORIES:Family Events,Public Skates,Special Events
ATTACH;FMTTYPE=image/png:https://unitedskates-assets.sfo3.digitaloceanspaces.com/wp-content/uploads/sites/17/2025/07/Fall-flyer-9.20.25.png
END:VEVENT
BEGIN:VEVENT
DTSTART;TZID=America/New_York:20250920T230000
DTEND;TZID=America/New_York:20250921T030000
DTSTAMP:20260421T154513
CREATED:20250803T003051Z
LAST-MODIFIED:20250807T212321Z
UID:26481-1758409200-1758423600@www.unitedskates.com
SUMMARY:All Swag Backward Skate Event
DESCRIPTION:All Swag Backward Skate Event \nSaturday\, Sept 20th \n11pm-3am \n\nContests\nTrophies\n\n$15 Admission with own skates \n$20 Admission with rental skates/Spectators \n 
URL:https://www.unitedskates.com/millennium-skate-world/event/all-swag-backward-skate-event/
LOCATION:Millennium Skate World\, 1900 Carman St.\, Camden\, NJ\, 08105\, United States
CATEGORIES:Adult Events,Public Skates,Special Events
ATTACH;FMTTYPE=image/jpeg:https://unitedskates-assets.sfo3.digitaloceanspaces.com/wp-content/uploads/sites/17/2025/08/Backwards-9.20.25.jpg
END:VEVENT
BEGIN:VEVENT
DTSTART;TZID=America/New_York:20250924T210000
DTEND;TZID=America/New_York:20250925T013000
DTSTAMP:20260421T154513
CREATED:20250415T061955Z
LAST-MODIFIED:20250814T040457Z
UID:25145-1758747600-1758763800@www.unitedskates.com
SUMMARY:Adult Night Skate
DESCRIPTION:Adult Night Skate \n$12 admission with own skates \n$17 admission with rental skates/Spectators \n\nSchedule a Birthday party
URL:https://www.unitedskates.com/millennium-skate-world/event/adult-night-skate-18-2025-09-24/
LOCATION:Millennium Skate World\, 1900 Carman St.\, Camden\, NJ\, 08105\, United States
CATEGORIES:Adult Events,Public Skates,Special Events
ATTACH;FMTTYPE=image/jpeg:https://unitedskates-assets.sfo3.digitaloceanspaces.com/wp-content/uploads/sites/17/2025/04/Wed-Adult-Sept-2025-1.jpg
END:VEVENT
BEGIN:VEVENT
DTSTART;TZID=America/New_York:20250925T180000
DTEND;TZID=America/New_York:20250925T210000
DTSTAMP:20260421T154513
CREATED:20240308T060138Z
LAST-MODIFIED:20250803T161728Z
UID:24511-1758823200-1758834000@www.unitedskates.com
SUMMARY:Family FUN Carnival Skate
DESCRIPTION:Family FUN Carnival Skate \n\nPotato Sack Races\nHula Hoop Contest\nCafe Specials\nPerfect night for a Birthday party\nMeetups / Get togethers\n\n6pm-9pm \n$6 Admission \n$5 Skate rental
URL:https://www.unitedskates.com/millennium-skate-world/event/family-fun-skate-12-2025-05-01-2025-09-25/
LOCATION:Millennium Skate World\, 1900 Carman St.\, Camden\, NJ\, 08105\, United States
CATEGORIES:Family Events,Public Skates,Special Events
ATTACH;FMTTYPE=image/png:https://unitedskates-assets.sfo3.digitaloceanspaces.com/wp-content/uploads/sites/17/2024/03/Fall-Carnival-9.25.25.png
END:VEVENT
BEGIN:VEVENT
DTSTART;TZID=America/New_York:20250926T160000
DTEND;TZID=America/New_York:20250926T183000
DTSTAMP:20260421T154513
CREATED:20250325T053105Z
LAST-MODIFIED:20250325T053105Z
UID:24428-1758902400-1758911400@www.unitedskates.com
SUMMARY:Family FUN Skate
DESCRIPTION:Family FUN Skate \n4pm-6:30pm \n$6.00 Admission \n$5.00 Skate rental \n\nSchedule a Birthday Party\nMeetup with friends and family
URL:https://www.unitedskates.com/millennium-skate-world/event/family-fun-skate-12/2025-09-26/
LOCATION:Millennium Skate World\, 1900 Carman St.\, Camden\, NJ\, 08105\, United States
CATEGORIES:Family Events,Public Skates,Special Events
ATTACH;FMTTYPE=image/jpeg:https://unitedskates-assets.sfo3.digitaloceanspaces.com/wp-content/uploads/sites/17/2022/05/AFF-FAMILY-FUN-SKATE-1200x900-1.jpg
END:VEVENT
BEGIN:VEVENT
DTSTART;TZID=America/New_York:20250926T190000
DTEND;TZID=America/New_York:20250926T223000
DTSTAMP:20260421T154513
CREATED:20240308T065511Z
LAST-MODIFIED:20250814T041738Z
UID:25424-1758913200-1758925800@www.unitedskates.com
SUMMARY:Adult Night Skate
DESCRIPTION:Friday Adult Night Skate \n7pm-10:30pm \n\nHip Hop\, R&B and House music\nLIVE DJ\n\n$12 admission with own skates \n$17 admission with rental skates/Spectators
URL:https://www.unitedskates.com/millennium-skate-world/event/adult-night-skate-8-2025-06-06-2025-09-26-2/
LOCATION:Millennium Skate World\, 1900 Carman St.\, Camden\, NJ\, 08105\, United States
CATEGORIES:Adult Events,Public Skates,Special Events
ATTACH;FMTTYPE=image/jpeg:https://unitedskates-assets.sfo3.digitaloceanspaces.com/wp-content/uploads/sites/17/2024/10/Friday-Adult-Reef-2025.jpg
END:VEVENT
BEGIN:VEVENT
DTSTART;TZID=America/New_York:20250926T230000
DTEND;TZID=America/New_York:20250927T030000
DTSTAMP:20260421T154513
CREATED:20250814T042156Z
LAST-MODIFIED:20250814T042156Z
UID:26795-1758927600-1758942000@www.unitedskates.com
SUMMARY:Theee House Party - Adult Night Skate
DESCRIPTION:Thee House party – Adult Night Skate \n11pm-3am \n\nDJ T-Nice\nDJ Dream\n\nGet your ROLL on to your favorite “House” Music \n$20 Admission with own skates \n$25 Admission with rental skates/Spectators
URL:https://www.unitedskates.com/millennium-skate-world/event/theee-house-party-adult-night-skate/
LOCATION:Millennium Skate World\, 1900 Carman St.\, Camden\, NJ\, 08105\, United States
CATEGORIES:Adult Events,Public Skates,Special Events
ATTACH;FMTTYPE=image/jpeg:https://unitedskates-assets.sfo3.digitaloceanspaces.com/wp-content/uploads/sites/17/2025/08/House-party-9.26.25.jpg
END:VEVENT
BEGIN:VEVENT
DTSTART;TZID=America/New_York:20250927T153000
DTEND;TZID=America/New_York:20250927T183000
DTSTAMP:20260421T154513
CREATED:20250707T020833Z
LAST-MODIFIED:20250802T223830Z
UID:26329-1758987000-1758997800@www.unitedskates.com
SUMMARY:Spidey and Friends - Family FUN Skate
DESCRIPTION:Spidey and Friends – Family FUN Skate  \n$11.00 Admission \n$5.00 Skate rental \n\nBirthday Parties\nMeetup with family and friends\nSpecial discounted prices for 20 people or more\n\n 
URL:https://www.unitedskates.com/millennium-skate-world/event/saturday-family-fun-skate-2025-09-27/
LOCATION:Millennium Skate World\, 1900 Carman St.\, Camden\, NJ\, 08105\, United States
CATEGORIES:Family Events,Public Skates,Special Events
ATTACH;FMTTYPE=image/jpeg:https://unitedskates-assets.sfo3.digitaloceanspaces.com/wp-content/uploads/sites/17/2025/07/Spidey-9.27.25.jpg
END:VEVENT
END:VCALENDAR