BEGIN:VCALENDAR
VERSION:2.0
PRODID:-//Rink 44 - Millennium Skate World - ECPv6.15.20//NONSGML v1.0//EN
CALSCALE:GREGORIAN
METHOD:PUBLISH
X-ORIGINAL-URL:https://www.unitedskates.com/millennium-skate-world
X-WR-CALDESC:Events for Rink 44 - Millennium Skate World
REFRESH-INTERVAL;VALUE=DURATION:PT1H
X-Robots-Tag:noindex
X-PUBLISHED-TTL:PT1H
BEGIN:VTIMEZONE
TZID:America/New_York
BEGIN:DAYLIGHT
TZOFFSETFROM:-0500
TZOFFSETTO:-0400
TZNAME:EDT
DTSTART:20240310T070000
END:DAYLIGHT
BEGIN:STANDARD
TZOFFSETFROM:-0400
TZOFFSETTO:-0500
TZNAME:EST
DTSTART:20241103T060000
END:STANDARD
BEGIN:DAYLIGHT
TZOFFSETFROM:-0500
TZOFFSETTO:-0400
TZNAME:EDT
DTSTART:20250309T070000
END:DAYLIGHT
BEGIN:STANDARD
TZOFFSETFROM:-0400
TZOFFSETTO:-0500
TZNAME:EST
DTSTART:20251102T060000
END:STANDARD
BEGIN:DAYLIGHT
TZOFFSETFROM:-0500
TZOFFSETTO:-0400
TZNAME:EDT
DTSTART:20260308T070000
END:DAYLIGHT
BEGIN:STANDARD
TZOFFSETFROM:-0400
TZOFFSETTO:-0500
TZNAME:EST
DTSTART:20261101T060000
END:STANDARD
END:VTIMEZONE
BEGIN:VEVENT
DTSTART;TZID=America/New_York:20250501T173000
DTEND;TZID=America/New_York:20250501T203000
DTSTAMP:20260421T234305
CREATED:20240308T060138Z
LAST-MODIFIED:20250401T073729Z
UID:19586-1746120600-1746131400@www.unitedskates.com
SUMMARY:Mystery Superhero - Family FUN Skate
DESCRIPTION:Mystery Superhero – Family FUN Skate \n\nPerfect night for a Birthday party\nMeetups / Get togethers\nDress up in your favorite Superhero – You may win a prize\n\n5:30pm-8:30pm \n 
URL:https://www.unitedskates.com/millennium-skate-world/event/family-fun-skate-12-2025-05-01/
LOCATION:Millennium Skate World\, 1900 Carman St.\, Camden\, NJ\, 08105\, United States
CATEGORIES:Family Events,Public Skates,Special Events
END:VEVENT
BEGIN:VEVENT
DTSTART;TZID=America/New_York:20250502T190000
DTEND;TZID=America/New_York:20250502T223000
DTSTAMP:20260421T234305
CREATED:20240308T065511Z
LAST-MODIFIED:20250415T052656Z
UID:20587-1746212400-1746225000@www.unitedskates.com
SUMMARY:1st Friday Adult Night Skate
DESCRIPTION:1st Friday Adult Night Skate \n7pm-10:30pm \n\nHip Hop\, R&B and House music\nOld School Hip Hop\n DJ Ed\n\n$12 admission with own skates \n$17 admission with rental skates/Spectators
URL:https://www.unitedskates.com/millennium-skate-world/event/adult-night-skate-8-2025-05-02/
LOCATION:Millennium Skate World\, 1900 Carman St.\, Camden\, NJ\, 08105\, United States
CATEGORIES:Adult Events,Public Skates,Special Events
ATTACH;FMTTYPE=image/jpeg:https://unitedskates-assets.sfo3.digitaloceanspaces.com/wp-content/uploads/sites/17/2024/03/1st-Friday-May-2nd.jpg
END:VEVENT
BEGIN:VEVENT
DTSTART;TZID=America/New_York:20250502T230000
DTEND;TZID=America/New_York:20250503T030000
DTSTAMP:20260421T234305
CREATED:20250324T181952Z
LAST-MODIFIED:20250401T052128Z
UID:24294-1746226800-1746241200@www.unitedskates.com
SUMMARY:1st Friday AGNB Adult Skate Weekend
DESCRIPTION:1st Friday – All Gas no Breaks Adult Skate Weekend  \n11pm-3am \nFeaturing DJ Lil Redd and DJ Vez \n$15.00 Admission with own skates \n$20 Admission with rental skates
URL:https://www.unitedskates.com/millennium-skate-world/event/1st-friday-adult-skate-4/
LOCATION:Millennium Skate World\, 1900 Carman St.\, Camden\, NJ\, 08105\, United States
CATEGORIES:Adult Events,Public Skates,Special Events
END:VEVENT
BEGIN:VEVENT
DTSTART;TZID=America/New_York:20250503T120000
DTEND;TZID=America/New_York:20250503T150000
DTSTAMP:20260421T234305
CREATED:20240308T063014Z
LAST-MODIFIED:20250415T040956Z
UID:20645-1746273600-1746284400@www.unitedskates.com
SUMMARY:"Rihanna" Family Skate Session
DESCRIPTION:“Rihanna” Family Skate Session \nAll ages welcome \n\nBook a Birthday party\nMeetup/Get Together\nPlaying some of Rihanna’s popular songs\n\n12pm-3pm \n$11 Admission at the door \nOnline Ticket sales – $10 Admission \n$5 Skate rental
URL:https://www.unitedskates.com/millennium-skate-world/event/family-skate-session-2-2025-05-03/
LOCATION:Millennium Skate World\, 1900 Carman St.\, Camden\, NJ\, 08105\, United States
CATEGORIES:Family Events,Public Skates,Special Events
END:VEVENT
BEGIN:VEVENT
DTSTART;TZID=America/New_York:20250503T230000
DTEND;TZID=America/New_York:20250504T030000
DTSTAMP:20260421T234305
CREATED:20250325T061944Z
LAST-MODIFIED:20250401T052345Z
UID:24599-1746313200-1746327600@www.unitedskates.com
SUMMARY:All Gas No Breaks Adult Skate Weekend
DESCRIPTION:All Gas No Breaks Adult Skate Weekend \nFeaturing DJ T-Nice and DJ Muff \nSaturday\, May 3rd \n11pm-3am \n\nSpecial Birthday celebration for @jaydulaaa\n\n 
URL:https://www.unitedskates.com/millennium-skate-world/event/all-gas-no-breaks-weekend-2/
LOCATION:Millennium Skate World\, 1900 Carman St.\, Camden\, NJ\, 08105\, United States
CATEGORIES:Adult Events,Public Skates,Special Events
END:VEVENT
BEGIN:VEVENT
DTSTART;TZID=America/New_York:20250504T150000
DTEND;TZID=America/New_York:20250504T183000
DTSTAMP:20260421T234305
CREATED:20240804T212310Z
LAST-MODIFIED:20250401T045110Z
UID:20445-1746370800-1746383400@www.unitedskates.com
SUMMARY:Family FUN Skate- May the 4th be with you
DESCRIPTION:Family Fun Roller Skating – May the 4th be with you  \n3pm-6:30pm \nAdmission $11.00 at the door \n\nBuy Admission tickets online $10.00\n\nSkate rental $5.00 \n\nPerfect day or a Birthday party\nBook a Group of 20 people or more\n\n~~~~~~~~~~~~~~~~ \nFamily package for 4 people $74.99 \n(4) Admission\, (4) Skate rental\, (4) Slices of pizza and (4) 8oz drinks \n\nParents stay with your kids\, No drop-offs
URL:https://www.unitedskates.com/millennium-skate-world/event/family-fun-skate-16-2025-05-04/
LOCATION:Millennium Skate World\, 1900 Carman St.\, Camden\, NJ\, 08105\, United States
CATEGORIES:Family Events,Public Skates,Special Events
END:VEVENT
BEGIN:VEVENT
DTSTART;TZID=America/New_York:20250506T180000
DTEND;TZID=America/New_York:20250506T210000
DTSTAMP:20260421T234305
CREATED:20250321T201049Z
LAST-MODIFIED:20250430T160847Z
UID:24187-1746554400-1746565200@www.unitedskates.com
SUMMARY:Pickle Fest - Tuesday Family Night Skate
DESCRIPTION:Pickle Fest – Tuesday Family Skate \nFeaturing DJ Lil Redd \n6pm-9pm \n$6.00 Admission \n$5.00 Skate rental \n\nSchedule a Birthday party\nMeetup with Family and Friends\nFree Pickle with paid admission
URL:https://www.unitedskates.com/millennium-skate-world/event/tuesday-family-night-skate-2025-05-06/
LOCATION:Millennium Skate World\, 1900 Carman St.\, Camden\, NJ\, 08105\, United States
CATEGORIES:Family Events,Public Skates,Special Events
END:VEVENT
BEGIN:VEVENT
DTSTART;TZID=America/New_York:20250507T210000
DTEND;TZID=America/New_York:20250508T020000
DTSTAMP:20260421T234305
CREATED:20241009T053940Z
LAST-MODIFIED:20250415T034937Z
UID:21888-1746651600-1746669600@www.unitedskates.com
SUMMARY:1st Wednesday Adult Night Skate
DESCRIPTION:1st Wednesday Adult Night Skate  \n9pm-2am \nfeaturing DJ Vez and DJ RL \n$15.00 Admission with own skates \n$20.00 Admission with rental skates/Spectators
URL:https://www.unitedskates.com/millennium-skate-world/event/1st-wednesday-adult-night-skate-5-2025-05-07/
LOCATION:Millennium Skate World\, 1900 Carman St.\, Camden\, NJ\, 08105\, United States
CATEGORIES:Adult Events,Public Skates,Special Events
ATTACH;FMTTYPE=image/jpeg:https://unitedskates-assets.sfo3.digitaloceanspaces.com/wp-content/uploads/sites/17/2024/10/1st-Wed-5.7.25.jpg
END:VEVENT
BEGIN:VEVENT
DTSTART;TZID=America/New_York:20250508T180000
DTEND;TZID=America/New_York:20250508T210000
DTSTAMP:20260421T234305
CREATED:20240308T060138Z
LAST-MODIFIED:20250415T052947Z
UID:19587-1746727200-1746738000@www.unitedskates.com
SUMMARY:Eastside HS Fundraiser - Airhead Family FUN Skate
DESCRIPTION:Eastside HS Fundraiser – Airhead Family FUN Skate \n\nPerfect night for a Birthday party\nMeetups / Get togethers\nFree Airhead with paid Admission\n\n6pm-9pm \n$10 per person includes admission and skate rental \n 
URL:https://www.unitedskates.com/millennium-skate-world/event/family-fun-skate-12-2025-05-01-2025-05-08/
LOCATION:Millennium Skate World\, 1900 Carman St.\, Camden\, NJ\, 08105\, United States
CATEGORIES:Family Events,Public Skates,Special Events
ATTACH;FMTTYPE=image/jpeg:https://unitedskates-assets.sfo3.digitaloceanspaces.com/wp-content/uploads/sites/17/2024/03/Eastside-5.8.25.jpg
END:VEVENT
BEGIN:VEVENT
DTSTART;TZID=America/New_York:20250509T190000
DTEND;TZID=America/New_York:20250509T223000
DTSTAMP:20260421T234305
CREATED:20240308T065511Z
LAST-MODIFIED:20250430T025401Z
UID:20588-1746817200-1746829800@www.unitedskates.com
SUMMARY:Adult Night Skate
DESCRIPTION:Friday Adult Night Skate \n7pm-10:30pm \n\nHip Hop\, R&B and House music\n DJ Reef\n\n$12 admission with own skates \n$17 admission with rental skates/Spectators
URL:https://www.unitedskates.com/millennium-skate-world/event/adult-night-skate-8-2025-05-09/
LOCATION:Millennium Skate World\, 1900 Carman St.\, Camden\, NJ\, 08105\, United States
CATEGORIES:Adult Events,Public Skates,Special Events
ATTACH;FMTTYPE=image/jpeg:https://unitedskates-assets.sfo3.digitaloceanspaces.com/wp-content/uploads/sites/17/2024/03/Friday-May-Adult-2025.jpg
END:VEVENT
BEGIN:VEVENT
DTSTART;TZID=America/New_York:20250509T230000
DTEND;TZID=America/New_York:20250510T030000
DTSTAMP:20260421T234305
CREATED:20250430T030219Z
LAST-MODIFIED:20250430T030219Z
UID:25520-1746831600-1746846000@www.unitedskates.com
SUMMARY:Fundraiser Skate Party - Marc "Ghost" Singleton
DESCRIPTION:Fundraiser Skate Party – Marc “Ghost” Singleton \nFriday\, May 9th @ 11pm-3am \n$20 per person \nFeaturing DJ Ed \n~~~~~ \nMarc has been in a severe Motorcycle accident. The proceeds from the skate party will be donated to the Singleton family for his medical care.
URL:https://www.unitedskates.com/millennium-skate-world/event/fundraiser-skate-party-marc-ghost-singleton/
LOCATION:Millennium Skate World\, 1900 Carman St.\, Camden\, NJ\, 08105\, United States
CATEGORIES:Adult Events,Public Skates,Special Events
ATTACH;FMTTYPE=image/jpeg:https://unitedskates-assets.sfo3.digitaloceanspaces.com/wp-content/uploads/sites/17/2025/04/Marc-5.9.25.jpg
END:VEVENT
BEGIN:VEVENT
DTSTART;TZID=America/New_York:20250510T120000
DTEND;TZID=America/New_York:20250510T150000
DTSTAMP:20260421T234305
CREATED:20240308T063014Z
LAST-MODIFIED:20250401T064039Z
UID:20646-1746878400-1746889200@www.unitedskates.com
SUMMARY:Mother's Weekend - Family Skate Session
DESCRIPTION:Mother’s Weekend – Family Skate Session \nAll ages welcome \n\nBook a Birthday party\nMeetup/Get Together\nPictures with Hello Kitty\n\n12pm-3pm \n$11 Admission \n$5 Skate rental
URL:https://www.unitedskates.com/millennium-skate-world/event/family-skate-session-2-2025-05-10/
LOCATION:Millennium Skate World\, 1900 Carman St.\, Camden\, NJ\, 08105\, United States
CATEGORIES:Family Events,Public Skates,Special Events
END:VEVENT
BEGIN:VEVENT
DTSTART;TZID=America/New_York:20250510T153000
DTEND;TZID=America/New_York:20250510T183000
DTSTAMP:20260421T234305
CREATED:20240804T213217Z
LAST-MODIFIED:20250401T064244Z
UID:20494-1746891000-1746901800@www.unitedskates.com
SUMMARY:Mother's Weekend Family FUN Skate
DESCRIPTION:Mother’s Weekend – Family Skate Session \n$11 Admission \n$5 Skate rental \n\nSchedule a Birthday party\nBook a Group for 20 people or more
URL:https://www.unitedskates.com/millennium-skate-world/event/family-fun-skate-17-2025-05-10/
LOCATION:Millennium Skate World\, 1900 Carman St.\, Camden\, NJ\, 08105\, United States
CATEGORIES:Family Events,Public Skates,Special Events
END:VEVENT
BEGIN:VEVENT
DTSTART;TZID=America/New_York:20250510T190000
DTEND;TZID=America/New_York:20250510T220000
DTSTAMP:20260421T234305
CREATED:20231026T051252Z
LAST-MODIFIED:20250401T064854Z
UID:20667-1746903600-1746914400@www.unitedskates.com
SUMMARY:Mother's Weekend - Family Night Skate
DESCRIPTION:Mother’s Weekend – Hip Hop Skate – Family Night \n7pm-10pm \n$11 Admission \n$5 Skate rental \nParents stay with your kids\, No drop-offs
URL:https://www.unitedskates.com/millennium-skate-world/event/family-night-skate-3-2025-05-10/
LOCATION:Millennium Skate World\, 1900 Carman St.\, Camden\, NJ\, 08105\, United States
CATEGORIES:Family Events,Public Skates,Special Events
END:VEVENT
BEGIN:VEVENT
DTSTART;VALUE=DATE:20250511
DTEND;VALUE=DATE:20250514
DTSTAMP:20260421T234305
CREATED:20240804T212310Z
LAST-MODIFIED:20250401T053104Z
UID:20446-1746939600-1747112399@www.unitedskates.com
SUMMARY:Closed for Maintenance
DESCRIPTION:Closed for Maintenance  \nSunday\, May 11th & Monday\, May 12th \nRe-open May 13th
URL:https://www.unitedskates.com/millennium-skate-world/event/family-fun-skate-16-2025-05-11/
LOCATION:Millennium Skate World\, 1900 Carman St.\, Camden\, NJ\, 08105\, United States
CATEGORIES:Special Events
END:VEVENT
BEGIN:VEVENT
DTSTART;TZID=America/New_York:20250513T180000
DTEND;TZID=America/New_York:20250513T210000
DTSTAMP:20260421T234305
CREATED:20250321T201049Z
LAST-MODIFIED:20250415T051542Z
UID:24188-1747159200-1747170000@www.unitedskates.com
SUMMARY:Camden City Night - Tuesday Family Night Skate
DESCRIPTION:Camden City Night – Tuesday Family Skate \nFeaturing DJ Lil Redd \n6pm-9pm \nFREE Admission for Camden residents; Show ID for up to 4 people \nPictures with the Smurfs \n$5.00 Skate rental \n\nSchedule a Birthday party\nMeetup with Family and Friends
URL:https://www.unitedskates.com/millennium-skate-world/event/tuesday-family-night-skate-2025-05-13/
LOCATION:Millennium Skate World\, 1900 Carman St.\, Camden\, NJ\, 08105\, United States
CATEGORIES:Family Events,Public Skates,Special Events
ATTACH;FMTTYPE=image/jpeg:https://unitedskates-assets.sfo3.digitaloceanspaces.com/wp-content/uploads/sites/17/2025/03/Camden-City-Skate-Night-2025-v3.jpg
END:VEVENT
BEGIN:VEVENT
DTSTART;TZID=America/New_York:20250514T210000
DTEND;TZID=America/New_York:20250515T013000
DTSTAMP:20260421T234305
CREATED:20250312T003929Z
LAST-MODIFIED:20250312T004833Z
UID:24133-1747256400-1747272600@www.unitedskates.com
SUMMARY:Wednesday Adult Night Skate
DESCRIPTION:Wednesday Night Adult Skate  \n9pm-1:30am \nHip Hop\, R&B and House Music \nFeaturing DJ Beezy
URL:https://www.unitedskates.com/millennium-skate-world/event/wednesday-adult-night-skate-11/2025-05-14/
LOCATION:Millennium Skate World\, 1900 Carman St.\, Camden\, NJ\, 08105\, United States
CATEGORIES:Adult Events,Public Skates,Special Events
ATTACH;FMTTYPE=image/jpeg:https://unitedskates-assets.sfo3.digitaloceanspaces.com/wp-content/uploads/sites/17/2025/03/Wed-Adult-May-2025.jpg
END:VEVENT
BEGIN:VEVENT
DTSTART;TZID=America/New_York:20250515T180000
DTEND;TZID=America/New_York:20250515T210000
DTSTAMP:20260421T234305
CREATED:20240308T060138Z
LAST-MODIFIED:20250401T080812Z
UID:19588-1747332000-1747342800@www.unitedskates.com
SUMMARY:80s and 90s Family FUN Skate
DESCRIPTION:80s and 90s – Family FUN Skate \n\nPerfect night for a Birthday party\nMeetups / Get togethers\n\n6pm-9pm \n$6.00 Admission \n$5.00 Skate rental \n 
URL:https://www.unitedskates.com/millennium-skate-world/event/family-fun-skate-12-2025-05-01-2025-05-15/
LOCATION:Millennium Skate World\, 1900 Carman St.\, Camden\, NJ\, 08105\, United States
CATEGORIES:Family Events,Public Skates,Special Events
END:VEVENT
BEGIN:VEVENT
DTSTART;TZID=America/New_York:20250516T190000
DTEND;TZID=America/New_York:20250516T230000
DTSTAMP:20260421T234305
CREATED:20240308T065511Z
LAST-MODIFIED:20250401T050208Z
UID:20589-1747422000-1747436400@www.unitedskates.com
SUMMARY:Adult Night Skate
DESCRIPTION:Friday Adult Night Skate \n7pm-11pm \n\nHip Hop\, R&B and House music\nDJ Legaci\n\n$12 admission with own skates \n$17 admission with rental skates/Spectators
URL:https://www.unitedskates.com/millennium-skate-world/event/adult-night-skate-8-2025-05-16/
LOCATION:Millennium Skate World\, 1900 Carman St.\, Camden\, NJ\, 08105\, United States
CATEGORIES:Adult Events,Public Skates,Special Events
ATTACH;FMTTYPE=image/jpeg:https://unitedskates-assets.sfo3.digitaloceanspaces.com/wp-content/uploads/sites/17/2024/03/Friday-May-Adult-2025.jpg
END:VEVENT
BEGIN:VEVENT
DTSTART;TZID=America/New_York:20250521T210000
DTEND;TZID=America/New_York:20250522T013000
DTSTAMP:20260421T234305
CREATED:20250312T003929Z
LAST-MODIFIED:20250312T005205Z
UID:24138-1747861200-1747877400@www.unitedskates.com
SUMMARY:Wednesday Adult Night Skate
DESCRIPTION:Wednesday Night Adult Skate  \n9pm-1:30am \nHip Hop\, R&B and House Music \nFeaturing DJ Syncere
URL:https://www.unitedskates.com/millennium-skate-world/event/wednesday-adult-night-skate-11-2025-05-21/
LOCATION:Millennium Skate World\, 1900 Carman St.\, Camden\, NJ\, 08105\, United States
CATEGORIES:Adult Events,Public Skates,Special Events
ATTACH;FMTTYPE=image/jpeg:https://unitedskates-assets.sfo3.digitaloceanspaces.com/wp-content/uploads/sites/17/2025/03/Wed-Adult-May-2025.jpg
END:VEVENT
BEGIN:VEVENT
DTSTART;TZID=America/New_York:20250522T170000
DTEND;TZID=America/New_York:20250522T200000
DTSTAMP:20260421T234305
CREATED:20240308T060138Z
LAST-MODIFIED:20250401T071616Z
UID:19589-1747933200-1747944000@www.unitedskates.com
SUMMARY:Laffy Taffy Family FUN Skate
DESCRIPTION:Laffy Taffy Family FUN Skate \n\nPerfect night for a Birthday party\nMeetups / Get togethers\nFREE Laffy Taffy with paid Admission\n\n5pm-8pm \n 
URL:https://www.unitedskates.com/millennium-skate-world/event/family-fun-skate-12-2025-05-01-2025-05-22/
LOCATION:Millennium Skate World\, 1900 Carman St.\, Camden\, NJ\, 08105\, United States
CATEGORIES:Family Events,Public Skates,Special Events
ATTACH;FMTTYPE=image/png:https://unitedskates-assets.sfo3.digitaloceanspaces.com/wp-content/uploads/sites/17/2024/03/Taffy-5.22.25.png
END:VEVENT
BEGIN:VEVENT
DTSTART;TZID=America/New_York:20250523T160000
DTEND;TZID=America/New_York:20250523T183000
DTSTAMP:20260421T234305
CREATED:20240804T211925Z
LAST-MODIFIED:20250401T055618Z
UID:20432-1748016000-1748025000@www.unitedskates.com
SUMMARY:Memorial Weekend - Family FUN Skate
DESCRIPTION:Memorial Weekend Family Skate \n4pm-6:30pm \n$6.00 Admission \n$5.00 Skate rental \n\nBook a Birthday party\nFamily Gatherings/Meetups\nAfter school programs welcome
URL:https://www.unitedskates.com/millennium-skate-world/event/family-fun-skate-15-2025-05-23/
LOCATION:Millennium Skate World\, 1900 Carman St.\, Camden\, NJ\, 08105\, United States
CATEGORIES:Family Events,Public Skates,Special Events
END:VEVENT
BEGIN:VEVENT
DTSTART;TZID=America/New_York:20250523T190000
DTEND;TZID=America/New_York:20250523T230000
DTSTAMP:20260421T234305
CREATED:20240308T065511Z
LAST-MODIFIED:20250401T050335Z
UID:20590-1748026800-1748041200@www.unitedskates.com
SUMMARY:Adult Night Skate
DESCRIPTION:Friday Adult Night Skate \n7pm-11pm \n\nHip Hop\, R&B and House music\n DJ Reef\n\n$12 admission with own skates \n$17 admission with rental skates/Spectators
URL:https://www.unitedskates.com/millennium-skate-world/event/adult-night-skate-8-2025-05-23/
LOCATION:Millennium Skate World\, 1900 Carman St.\, Camden\, NJ\, 08105\, United States
CATEGORIES:Adult Events,Public Skates,Special Events
ATTACH;FMTTYPE=image/jpeg:https://unitedskates-assets.sfo3.digitaloceanspaces.com/wp-content/uploads/sites/17/2024/03/Friday-May-Adult-2025.jpg
END:VEVENT
BEGIN:VEVENT
DTSTART;TZID=America/New_York:20250524T120000
DTEND;TZID=America/New_York:20250524T150000
DTSTAMP:20260421T234305
CREATED:20240308T063014Z
LAST-MODIFIED:20250401T055812Z
UID:20648-1748088000-1748098800@www.unitedskates.com
SUMMARY:Memorial Weekend - Family Skate Session
DESCRIPTION:Memorial Weekend – Family Skate Session \nAll ages welcome \n\nBook a Birthday party\nMeetup/Get Together\n\n12pm-3pm \n$11 Admission \n$5 Skate rental
URL:https://www.unitedskates.com/millennium-skate-world/event/family-skate-session-2-2025-05-24/
LOCATION:Millennium Skate World\, 1900 Carman St.\, Camden\, NJ\, 08105\, United States
CATEGORIES:Family Events,Public Skates,Special Events
END:VEVENT
BEGIN:VEVENT
DTSTART;TZID=America/New_York:20250524T153000
DTEND;TZID=America/New_York:20250524T183000
DTSTAMP:20260421T234305
CREATED:20240804T213217Z
LAST-MODIFIED:20250401T060027Z
UID:20496-1748100600-1748111400@www.unitedskates.com
SUMMARY:Memorial Weekend - Family FUN Skate
DESCRIPTION:Memorial Weekend – Family Skate Session \n$11 Admission \n$5 Skate rental \n\nSchedule a Birthday party\nBook a Group for 20 people or more
URL:https://www.unitedskates.com/millennium-skate-world/event/family-fun-skate-17-2025-05-24/
LOCATION:Millennium Skate World\, 1900 Carman St.\, Camden\, NJ\, 08105\, United States
CATEGORIES:Family Events,Public Skates,Special Events
END:VEVENT
BEGIN:VEVENT
DTSTART;TZID=America/New_York:20250524T190000
DTEND;TZID=America/New_York:20250524T220000
DTSTAMP:20260421T234305
CREATED:20231026T051252Z
LAST-MODIFIED:20250401T060217Z
UID:20669-1748113200-1748124000@www.unitedskates.com
SUMMARY:Memorial Weekend - Family Night Skate
DESCRIPTION:Memorial Weekend Hip Hop Skate – Family Night \n7pm-10pm \n$11 Admission \n$5 Skate rental \nParents stay with your kids\, No drop-offs
URL:https://www.unitedskates.com/millennium-skate-world/event/family-night-skate-3-2025-05-24/
LOCATION:Millennium Skate World\, 1900 Carman St.\, Camden\, NJ\, 08105\, United States
CATEGORIES:Family Events,Public Skates,Special Events
END:VEVENT
BEGIN:VEVENT
DTSTART;TZID=America/New_York:20250524T230000
DTEND;TZID=America/New_York:20250525T030000
DTSTAMP:20260421T234305
CREATED:20250514T232142Z
LAST-MODIFIED:20250514T232213Z
UID:25700-1748127600-1748142000@www.unitedskates.com
SUMMARY:Bounce Out Adult Night Skate
DESCRIPTION:Bounce Out Adult Night Skate \nFeaturing DJ Vez \nHosted by All Swag \nSaturday May 24th  @ 11pm-3am \n$15 Admission with own skates \n$20 Admission with rental skates/Spectators \n  \n 
URL:https://www.unitedskates.com/millennium-skate-world/event/bounce-out-adult-night-skate/
LOCATION:Millennium Skate World\, 1900 Carman St.\, Camden\, NJ\, 08105\, United States
CATEGORIES:Adult Events,Public Skates,Special Events
ATTACH;FMTTYPE=image/jpeg:https://unitedskates-assets.sfo3.digitaloceanspaces.com/wp-content/uploads/sites/17/2025/05/Adult-Bounce-5.24.25.jpg
END:VEVENT
BEGIN:VEVENT
DTSTART;TZID=America/New_York:20250525T150000
DTEND;TZID=America/New_York:20250525T183000
DTSTAMP:20260421T234305
CREATED:20240804T212310Z
LAST-MODIFIED:20250401T060426Z
UID:20448-1748185200-1748197800@www.unitedskates.com
SUMMARY:Memorial Weekend - Family FUN Skate
DESCRIPTION:Memorial Weekend – Family Fun Roller Skating \n 3pm-6:30pm \nAdmission $11.00 \nSkate rental $5.00 \n\nPerfect day or a Birthday party\nBook a Group of 20 people or more\n\n~~~~~~~~~~~~~~~~ \nFamily package for 4 people $74.99 \n(4) Admission\, (4) Skate rental\, (4) Slices of pizza and (4) 8oz drinks \n\nParents stay with your kids\, No drop-offs
URL:https://www.unitedskates.com/millennium-skate-world/event/family-fun-skate-16-2025-05-25/
LOCATION:Millennium Skate World\, 1900 Carman St.\, Camden\, NJ\, 08105\, United States
CATEGORIES:Family Events,Public Skates,Special Events
END:VEVENT
BEGIN:VEVENT
DTSTART;TZID=America/New_York:20250525T190000
DTEND;TZID=America/New_York:20250525T220000
DTSTAMP:20260421T234305
CREATED:20250401T061625Z
LAST-MODIFIED:20250401T061834Z
UID:24700-1748199600-1748210400@www.unitedskates.com
SUMMARY:Private Party
DESCRIPTION:Booked for a Private Party \n~~~~~ \nWant to schedule a Private event? Call 856-757-9460
URL:https://www.unitedskates.com/millennium-skate-world/event/private-party-84/
LOCATION:Millennium Skate World\, 1900 Carman St.\, Camden\, NJ\, 08105\, United States
CATEGORIES:Private Party,Special Events
ATTACH;FMTTYPE=image/jpeg:https://unitedskates-assets.sfo3.digitaloceanspaces.com/wp-content/uploads/sites/17/2022/08/private-party-1200x1200-1.jpg
END:VEVENT
BEGIN:VEVENT
DTSTART;TZID=America/New_York:20250526T110000
DTEND;TZID=America/New_York:20250526T140000
DTSTAMP:20260421T234305
CREATED:20250401T061222Z
LAST-MODIFIED:20250401T061257Z
UID:24698-1748257200-1748268000@www.unitedskates.com
SUMMARY:Memorial Day Family Skate
DESCRIPTION:Memorial Day Family Skate  \nMonday\, May 26th \n11am-2pm \n$6.00 Admission \n$5.00 Skate rental \n 
URL:https://www.unitedskates.com/millennium-skate-world/event/memorial-day-family-skate/
LOCATION:Millennium Skate World\, 1900 Carman St.\, Camden\, NJ\, 08105\, United States
CATEGORIES:Family Events,Public Skates,Special Events
END:VEVENT
END:VCALENDAR