BEGIN:VCALENDAR
VERSION:2.0
PRODID:-//Rink 44 - Millennium Skate World - ECPv6.15.20//NONSGML v1.0//EN
CALSCALE:GREGORIAN
METHOD:PUBLISH
X-WR-CALNAME:Rink 44 - Millennium Skate World
X-ORIGINAL-URL:https://www.unitedskates.com/millennium-skate-world
X-WR-CALDESC:Events for Rink 44 - Millennium Skate World
REFRESH-INTERVAL;VALUE=DURATION:PT1H
X-Robots-Tag:noindex
X-PUBLISHED-TTL:PT1H
BEGIN:VTIMEZONE
TZID:America/New_York
BEGIN:DAYLIGHT
TZOFFSETFROM:-0500
TZOFFSETTO:-0400
TZNAME:EDT
DTSTART:20250309T070000
END:DAYLIGHT
BEGIN:STANDARD
TZOFFSETFROM:-0400
TZOFFSETTO:-0500
TZNAME:EST
DTSTART:20251102T060000
END:STANDARD
BEGIN:DAYLIGHT
TZOFFSETFROM:-0500
TZOFFSETTO:-0400
TZNAME:EDT
DTSTART:20260308T070000
END:DAYLIGHT
BEGIN:STANDARD
TZOFFSETFROM:-0400
TZOFFSETTO:-0500
TZNAME:EST
DTSTART:20261101T060000
END:STANDARD
BEGIN:DAYLIGHT
TZOFFSETFROM:-0500
TZOFFSETTO:-0400
TZNAME:EDT
DTSTART:20270314T070000
END:DAYLIGHT
BEGIN:STANDARD
TZOFFSETFROM:-0400
TZOFFSETTO:-0500
TZNAME:EST
DTSTART:20271107T060000
END:STANDARD
END:VTIMEZONE
BEGIN:VEVENT
DTSTART;TZID=America/New_York:20260210T180000
DTEND;TZID=America/New_York:20260210T210000
DTSTAMP:20260423T153449
CREATED:20250321T201049Z
LAST-MODIFIED:20250321T201049Z
UID:28096-1770746400-1770757200@www.unitedskates.com
SUMMARY:Camden City Residents Night - Family Skate
DESCRIPTION:Camden City Residents Family Night Skate \n6pm-9pm \nFREE Admission for Camden City Residents *Show Camden City resident ID for up to 4 people \n$5.00 Skate rental \n\nSchedule a Birthday party\nMeetup with Family and Friends\n\nNon-Residents $10 per person
URL:https://www.unitedskates.com/millennium-skate-world/event/tuesday-family-night-skate-2026-01-13/2026-02-10/
LOCATION:Millennium Skate World\, 1900 Carman St.\, Camden\, NJ\, 08105\, United States
CATEGORIES:Family Events,Public Skates,Special Events
ATTACH;FMTTYPE=image/jpeg:https://unitedskates-assets.sfo3.digitaloceanspaces.com/wp-content/uploads/sites/17/2025/07/Camden-City-Night-2026.jpg
END:VEVENT
BEGIN:VEVENT
DTSTART;TZID=America/New_York:20260113T180000
DTEND;TZID=America/New_York:20260113T210000
DTSTAMP:20260423T153449
CREATED:20250321T201049Z
LAST-MODIFIED:20251217T160300Z
UID:27177-1768327200-1768338000@www.unitedskates.com
SUMMARY:Camden City Residents Night - Family Skate
DESCRIPTION:Camden City Residents Family Night Skate \n6pm-9pm \nFREE Admission for Camden City Residents *Show Camden City resident ID for up to 4 people \n$5.00 Skate rental \n\nSchedule a Birthday party\nMeetup with Family and Friends\n\nNon-Residents $10 per person
URL:https://www.unitedskates.com/millennium-skate-world/event/tuesday-family-night-skate-2026-01-13/2026-01-13/
LOCATION:Millennium Skate World\, 1900 Carman St.\, Camden\, NJ\, 08105\, United States
CATEGORIES:Family Events,Public Skates,Special Events
ATTACH;FMTTYPE=image/jpeg:https://unitedskates-assets.sfo3.digitaloceanspaces.com/wp-content/uploads/sites/17/2025/07/Camden-City-Night-2026.jpg
END:VEVENT
END:VCALENDAR