BEGIN:VCALENDAR
VERSION:2.0
PRODID:-//Rink 62 - Lincoln Park - ECPv6.15.20//NONSGML v1.0//EN
CALSCALE:GREGORIAN
METHOD:PUBLISH
X-WR-CALNAME:Rink 62 - Lincoln Park
X-ORIGINAL-URL:https://www.unitedskates.com/lincoln-park
X-WR-CALDESC:Events for Rink 62 - Lincoln Park
REFRESH-INTERVAL;VALUE=DURATION:PT1H
X-Robots-Tag:noindex
X-PUBLISHED-TTL:PT1H
BEGIN:VTIMEZONE
TZID:America/New_York
BEGIN:DAYLIGHT
TZOFFSETFROM:-0500
TZOFFSETTO:-0400
TZNAME:EDT
DTSTART:20250309T070000
END:DAYLIGHT
BEGIN:STANDARD
TZOFFSETFROM:-0400
TZOFFSETTO:-0500
TZNAME:EST
DTSTART:20251102T060000
END:STANDARD
BEGIN:DAYLIGHT
TZOFFSETFROM:-0500
TZOFFSETTO:-0400
TZNAME:EDT
DTSTART:20260308T070000
END:DAYLIGHT
BEGIN:STANDARD
TZOFFSETFROM:-0400
TZOFFSETTO:-0500
TZNAME:EST
DTSTART:20261101T060000
END:STANDARD
BEGIN:DAYLIGHT
TZOFFSETFROM:-0500
TZOFFSETTO:-0400
TZNAME:EDT
DTSTART:20270314T070000
END:DAYLIGHT
BEGIN:STANDARD
TZOFFSETFROM:-0400
TZOFFSETTO:-0500
TZNAME:EST
DTSTART:20271107T060000
END:STANDARD
END:VTIMEZONE
BEGIN:VEVENT
DTSTART;VALUE=DATE:20260417
DTEND;VALUE=DATE:20260602
DTSTAMP:20260424T230712
CREATED:20260415T233430Z
LAST-MODIFIED:20260415T233431Z
UID:21266-1776402000-1780289999@www.unitedskates.com
SUMMARY:Scouts End of Year Celebrations
DESCRIPTION:Celebrate the end of an amazing year with the ultimate roller-skating party! Bring your troop out for a fun-filled experience packed with music\, lights\, and nonstop skating excitement. \n✨ Event Details:🗓 Fridays: 6:00pm–9:00pm🗓 Saturdays: 12:30pm–3:00pm & 4:00pm–6:30pm🗓 Sundays: 12:30pm-3:00pm\, 3:30pm-6:00pm and 6:30pm-9:00pm \n💲 Only $8 per personIncludes admission + skate rental! \n🎯 Perfect for celebrating achievements\, earning patches\, and making unforgettable memories with your troop. \n📞 Advanced reservations required – Call now: 313-381-7465
URL:https://www.unitedskates.com/lincoln-park/event/scouts-end-of-year-celebrations/
ATTACH;FMTTYPE=image/jpeg:https://unitedskates-assets.sfo3.digitaloceanspaces.com/wp-content/uploads/sites/24/2026/04/scout-end-of-year.jpg
END:VEVENT
BEGIN:VEVENT
DTSTART;TZID=America/New_York:20260424T180000
DTEND;TZID=America/New_York:20260424T210000
DTSTAMP:20260424T230712
CREATED:20250806T171356Z
LAST-MODIFIED:20260330T002818Z
UID:19819-1777053600-1777064400@www.unitedskates.com
SUMMARY:Friday Night Skate/Birthday Parties
DESCRIPTION:Ready to kick off your weekend in style? \nJoin us for an exhilarating Friday Night Roller Party! \nIt’s the perfect outing for families\, friends\, date nights\, or even birthday celebrations! \nEvery Friday Night 6:00pm-9:00pm \nAdmission $13.00 \nSkate Rental $5.50 \nGlide across the rink while soaking in the electric atmosphere and enjoying a fantastic mix of all the hottest Pop and R&B tracks\, all curated by a Live DJ. \nDon’t let this opportunity roll by-come skate with us and make unforgettable memories. \nAll 3–17-year-olds must pay admission and skate rental upon entering the facility. Adults 18+ not skating may enter for free. All 12–17-year-olds must come into our facility with a parent or guardian that is 25 years or age or older. We are only allowing two (2) 12–17-year-olds per one parent or guardian 25 and over. The parent/guardian must stay with the teenager the entire time while in the facility. If the parent/guardian leaves the facility the teen must leave with parent/guardian. No drop off of teens or children into our facility is permitted. No drop off of teens or children to another parent into our facility is permitted. Teenagers 12-17 with their own skates are permitted without a parent if they skate the entire time. Teens asked to keep skates on repeatedly will be asked to leave with no refund
URL:https://www.unitedskates.com/lincoln-park/event/friday-night-skate-birthday-parties/2026-04-24/
CATEGORIES:Family Events,Public Skates,Special Events
ATTACH;FMTTYPE=image/jpeg:https://unitedskates-assets.sfo3.digitaloceanspaces.com/wp-content/uploads/sites/24/2025/08/Friday-Roller-Party-Rink-62-v2.jpg
END:VEVENT
END:VCALENDAR