BEGIN:VCALENDAR
VERSION:2.0
PRODID:-//Rink 62 - Lincoln Park - ECPv6.15.20//NONSGML v1.0//EN
CALSCALE:GREGORIAN
METHOD:PUBLISH
X-ORIGINAL-URL:https://www.unitedskates.com/lincoln-park
X-WR-CALDESC:Events for Rink 62 - Lincoln Park
REFRESH-INTERVAL;VALUE=DURATION:PT1H
X-Robots-Tag:noindex
X-PUBLISHED-TTL:PT1H
BEGIN:VTIMEZONE
TZID:America/New_York
BEGIN:DAYLIGHT
TZOFFSETFROM:-0500
TZOFFSETTO:-0400
TZNAME:EDT
DTSTART:20250309T070000
END:DAYLIGHT
BEGIN:STANDARD
TZOFFSETFROM:-0400
TZOFFSETTO:-0500
TZNAME:EST
DTSTART:20251102T060000
END:STANDARD
BEGIN:DAYLIGHT
TZOFFSETFROM:-0500
TZOFFSETTO:-0400
TZNAME:EDT
DTSTART:20260308T070000
END:DAYLIGHT
BEGIN:STANDARD
TZOFFSETFROM:-0400
TZOFFSETTO:-0500
TZNAME:EST
DTSTART:20261101T060000
END:STANDARD
BEGIN:DAYLIGHT
TZOFFSETFROM:-0500
TZOFFSETTO:-0400
TZNAME:EDT
DTSTART:20270314T070000
END:DAYLIGHT
BEGIN:STANDARD
TZOFFSETFROM:-0400
TZOFFSETTO:-0500
TZNAME:EST
DTSTART:20271107T060000
END:STANDARD
END:VTIMEZONE
BEGIN:VEVENT
DTSTART;TZID=America/New_York:20260214T160000
DTEND;TZID=America/New_York:20260214T183000
DTSTAMP:20260423T055101
CREATED:20251212T153850Z
LAST-MODIFIED:20251212T153850Z
UID:20291-1771084800-1771093800@www.unitedskates.com
SUMMARY:Wear Red Skate
DESCRIPTION:❤️🎉 IT’S VALENTINE’S DAY! ARE YOU READY?! 🎉❤️Help us SPREAD LOVE\, CHEER\, and ALL the good vibes by wearing RED to celebrate! \nWe’re partying ALL DAY with THREE amazing sessions—pick your favorite or skate them all! \n🕒 Session Times:💌 12:30pm–3:00pm💌 4:00pm–6:30pm \n🎟 Admission: $13.00 | Skate Rental: $5.50 \n❤️ WEAR RED and get entered into our Valentine’s raffle!We’ll be giving out prizes all session long! \n🍬 BONUS SWEETNESS:We’re selling Candy Grams all day long for ONLY $1.00!Send a treat to a friend\, surprise someone special\, or snag one for yourself! \n💞✨ Don’t miss this FUN-FILLED Valentine’s celebration—skate\, win\, and share the cheer! \n🥳 Birthday Parties Available! Book Here!
URL:https://www.unitedskates.com/lincoln-park/event/wear-red-skate/2026-02-14/2/
CATEGORIES:Family Events,Public Skates,Special Events
ATTACH;FMTTYPE=image/png:https://unitedskates-assets.sfo3.digitaloceanspaces.com/wp-content/uploads/sites/24/2025/12/Valentines-Day-Love-Skate-2.png
END:VEVENT
BEGIN:VEVENT
DTSTART;TZID=America/New_York:20260214T123000
DTEND;TZID=America/New_York:20260214T150000
DTSTAMP:20260423T055101
CREATED:20251212T153850Z
LAST-MODIFIED:20260114T190248Z
UID:20222-1771072200-1771081200@www.unitedskates.com
SUMMARY:Wear Red Skate
DESCRIPTION:❤️🎉 IT’S VALENTINE’S DAY! ARE YOU READY?! 🎉❤️Help us SPREAD LOVE\, CHEER\, and ALL the good vibes by wearing RED to celebrate! \nWe’re partying ALL DAY with THREE amazing sessions—pick your favorite or skate them all! \n🕒 Session Times:💌 12:30pm–3:00pm💌 4:00pm–6:30pm \n🎟 Admission: $13.00 | Skate Rental: $5.50 \n❤️ WEAR RED and get entered into our Valentine’s raffle!We’ll be giving out prizes all session long! \n🍬 BONUS SWEETNESS:We’re selling Candy Grams all day long for ONLY $1.00!Send a treat to a friend\, surprise someone special\, or snag one for yourself! \n💞✨ Don’t miss this FUN-FILLED Valentine’s celebration—skate\, win\, and share the cheer! \n🥳 Birthday Parties Available! Book Here!
URL:https://www.unitedskates.com/lincoln-park/event/wear-red-skate/2026-02-14/
CATEGORIES:Family Events,Public Skates,Special Events
ATTACH;FMTTYPE=image/png:https://unitedskates-assets.sfo3.digitaloceanspaces.com/wp-content/uploads/sites/24/2025/12/Valentines-Day-Love-Skate-2.png
END:VEVENT
END:VCALENDAR