BEGIN:VCALENDAR
VERSION:2.0
PRODID:-//Rink 65 - Jackson - ECPv6.15.20//NONSGML v1.0//EN
CALSCALE:GREGORIAN
METHOD:PUBLISH
X-ORIGINAL-URL:https://www.unitedskates.com/jackson
X-WR-CALDESC:Events for Rink 65 - Jackson
REFRESH-INTERVAL;VALUE=DURATION:PT1H
X-Robots-Tag:noindex
X-PUBLISHED-TTL:PT1H
BEGIN:VTIMEZONE
TZID:America/New_York
BEGIN:DAYLIGHT
TZOFFSETFROM:-0500
TZOFFSETTO:-0400
TZNAME:EDT
DTSTART:20220313T070000
END:DAYLIGHT
BEGIN:STANDARD
TZOFFSETFROM:-0400
TZOFFSETTO:-0500
TZNAME:EST
DTSTART:20221106T060000
END:STANDARD
BEGIN:DAYLIGHT
TZOFFSETFROM:-0500
TZOFFSETTO:-0400
TZNAME:EDT
DTSTART:20230312T070000
END:DAYLIGHT
BEGIN:STANDARD
TZOFFSETFROM:-0400
TZOFFSETTO:-0500
TZNAME:EST
DTSTART:20231105T060000
END:STANDARD
BEGIN:DAYLIGHT
TZOFFSETFROM:-0500
TZOFFSETTO:-0400
TZNAME:EDT
DTSTART:20240310T070000
END:DAYLIGHT
BEGIN:STANDARD
TZOFFSETFROM:-0400
TZOFFSETTO:-0500
TZNAME:EST
DTSTART:20241103T060000
END:STANDARD
END:VTIMEZONE
BEGIN:VEVENT
DTSTART;TZID=America/New_York:20231001T110000
DTEND;TZID=America/New_York:20231001T133000
DTSTAMP:20260424T015635
CREATED:20230823T144638Z
LAST-MODIFIED:20230823T144638Z
UID:14497-1696158000-1696167000@www.unitedskates.com
SUMMARY:Breast Cancer Awareness
DESCRIPTION:Kick off Breast Cancer Awareness Month with us at United Skates of America Jackson  \nWe are roller skating together for a cause and a % of your admission is donated to the American Breast Cancer Awareness Foundation! \nBring the kids and lace up for some family fun. Experience roller skating and share in building memories together. \nWe look forward to welcoming you into our newly renovated facility in the beautiful Jackson Township\, NJ \nRoller skate rental is $6.00 additional. Roller Blade rental is $7.00 additional. Skate Mate is $7.00 additional. \n  \nextra info: Spectators (non-skating adults 18+) are $5.00 per person. All children 17 & under must pay skate rental if they do not have their own skates. Friday & Saturday Nights (6:30-9pm) all children must be accompanied by an adult chaperone (21 & older)
URL:https://www.unitedskates.com/jackson/event/breast-cancer-awareness/2023-10-01/
CATEGORIES:Family Events,Public Skates,Special Events
ATTACH;FMTTYPE=image/png:https://unitedskates-assets.sfo3.digitaloceanspaces.com/wp-content/uploads/sites/27/2023/08/breast-Cancer-65.png
END:VEVENT
BEGIN:VEVENT
DTSTART;TZID=America/New_York:20231007T123000
DTEND;TZID=America/New_York:20231007T150000
DTSTAMP:20260424T015635
CREATED:20230823T145818Z
LAST-MODIFIED:20230823T145818Z
UID:14503-1696681800-1696690800@www.unitedskates.com
SUMMARY:Troll Roll Skate
DESCRIPTION:Meet Poppy and Branch at our Troll Roll at United Skates Jackson  \nBring the kids and lace up for some family fun. Experience roller skating and share in building memories together. \nWe look forward to welcoming you into our newly renovated facility in the beautiful Jackson Township\, NJ \nRoller skate rental is $6.00 additional. Roller Blade rental is $7.00 additional. Skate Mate is $7.00 additional. \n  \nextra info: Spectators (non-skating adults 18+) are $5.00 per person. All children 17 & under must pay skate rental if they do not have their own skates. Friday & Saturday Nights (6:30-9pm) all children must be accompanied by an adult chaperone (21 & older)
URL:https://www.unitedskates.com/jackson/event/troll-roll-skate/
CATEGORIES:Family Events,Public Skates,Special Events
ATTACH;FMTTYPE=image/png:https://unitedskates-assets.sfo3.digitaloceanspaces.com/wp-content/uploads/sites/27/2023/08/Troll-Roll-10-23-65.png
END:VEVENT
BEGIN:VEVENT
DTSTART;TZID=America/New_York:20231009T100000
DTEND;TZID=America/New_York:20231009T120000
DTSTAMP:20260424T015635
CREATED:20230823T150354Z
LAST-MODIFIED:20230823T150354Z
UID:14506-1696845600-1696852800@www.unitedskates.com
SUMMARY:Columbus Day Roller Skating
DESCRIPTION:10:00am-12:00pm: Early Bird Special: $14 includes admission\, skate rental\, slice of cheese pizza and small drink  \n12:30pm-3:00pm: Public Skate  \n3:30pm-6:00pm: Public Skate  \n6:30pm-9:00pm: 1/2 Price Skate: $7 admission  \nRoller skate rental is $6.00 additional. Roller Blade rental is $7.00 additional. Skate Mate is $.00 additional. \n  \nextra info: Spectators (non-skating adults 18+) are $5.00 per person. All children 17 & under must pay skate rental if they do not have their own skates. Friday & Saturday Nights (6:30-9pm) all children must be accompanied by an adult chaperone (21 & older)
URL:https://www.unitedskates.com/jackson/event/columbus-day-roller-skating/2023-10-09/
CATEGORIES:Family Events,Public Skates,Special Events
ATTACH;FMTTYPE=image/png:https://unitedskates-assets.sfo3.digitaloceanspaces.com/wp-content/uploads/sites/27/2023/08/Columbus-Day-65.png
END:VEVENT
BEGIN:VEVENT
DTSTART;TZID=America/New_York:20231013T183000
DTEND;TZID=America/New_York:20231013T210000
DTSTAMP:20260424T015635
CREATED:20230801T203957Z
LAST-MODIFIED:20230823T152817Z
UID:14420-1697221800-1697230800@www.unitedskates.com
SUMMARY:Freddy vs Jason vs Michael Meyers
DESCRIPTION:Friday the 13th is One of the Scariest Nights of the Year at United Skates Jackson!  \nCome down and meet Freddy\, Jason and Michael Meyers!! Are you ready for the Fright? \nBring the kids and lace up for some family fun. Experience roller skating and share in building memories together. \nWe look forward to welcoming you into our newly renovated facility in the beautiful Jackson Township\, NJ \nRoller skate rental is $6.00 additional. Roller Blade rental is $7.00 additional. Skate Mate is $7.00 additional. \nextra info: Spectators (non-skating adults 18+) are $5.00 per person. All children 17 & under must pay skate rental if they do not have their own skates. Friday & Saturday Nights (6:30-9pm) all children must be accompanied by an adult chaperone (21 & older)
URL:https://www.unitedskates.com/jackson/event/freddy-vs-jason-vs-michael-meyers/
CATEGORIES:Family Events,Public Skates,Special Events
ATTACH;FMTTYPE=image/png:https://unitedskates-assets.sfo3.digitaloceanspaces.com/wp-content/uploads/sites/27/2023/08/Freddy-vs-Jason-.png
END:VEVENT
BEGIN:VEVENT
DTSTART;TZID=America/New_York:20231020T183000
DTEND;TZID=America/New_York:20231020T210000
DTSTAMP:20260424T015635
CREATED:20230823T141640Z
LAST-MODIFIED:20231020T222336Z
UID:14480-1697826600-1697835600@www.unitedskates.com
SUMMARY:Taylor Swift Night
DESCRIPTION:TONIGHTS EVENT IS SOLD OUT!! Check back for our next event \n  \n\nTaylor Swift Theme Night is Here! Come down to United Skates Jackson for the pre party to the album release!  \n  \nBring the kids and lace up for some family fun. Experience roller skating and share in building memories together. \nWe look forward to welcoming you into our newly renovated facility in the beautiful Jackson Township\, NJ \nRoller skate rental is $6.00 additional. Roller Blade rental is $7.00 additional. Skate Mate is $7.00 additional. \nextra info: Spectators (non-skating adults 18+) are $5.00 per person. All children 17 & under must pay skate rental if they do not have their own skates. Friday & Saturday Nights (6:30-9pm) all children must be accompanied by an adult chaperone (21 & older) \nClick Here to Get Your Tickets Before they sell out!! 
URL:https://www.unitedskates.com/jackson/event/taylor-swift-night/
CATEGORIES:Family Events,Public Skates,Special Events
ATTACH;FMTTYPE=image/png:https://unitedskates-assets.sfo3.digitaloceanspaces.com/wp-content/uploads/sites/27/2023/08/Taylor-Swift-65-Oct.png
END:VEVENT
BEGIN:VEVENT
DTSTART;TZID=America/New_York:20231027T173000
DTEND;TZID=America/New_York:20231027T210000
DTSTAMP:20260424T015635
CREATED:20230823T142023Z
LAST-MODIFIED:20230823T142023Z
UID:14483-1698427800-1698440400@www.unitedskates.com
SUMMARY:Hallow Glow
DESCRIPTION:Attn: Scout Leaders! Come down to United Skates Jackson for our Hallow Glow Skate  \nReservations Must Be Made in Advance! \n$18 per person includes admission\, skate rental \, slice of pizza\, small drink 10 game credits \, Girl Scout Halloween Fun Patch! \n**Scouts Reserve from 5:30pm-8:00pm \nPublic Skating is from 6:30pm-9:00pm: Come Dressed in Your Halloween Costumes and more! $14 admission \nRoller skate rental is $6.00 additional. Roller Blade rental is $7.00 additional. Skate Mate is $7.00 additional. \nextra info: Spectators (non-skating adults 18+) are $5.00 per person. All children 17 & under must pay skate rental if they do not have their own skates. Friday & Saturday Nights (6:30-9pm) all children must be accompanied by an adult chaperone (21 & older)
URL:https://www.unitedskates.com/jackson/event/hallow-glow/
CATEGORIES:Family Events,Public Skates,Special Events
ATTACH;FMTTYPE=image/png:https://unitedskates-assets.sfo3.digitaloceanspaces.com/wp-content/uploads/sites/27/2023/08/Hallow-Glow-Scouts-Oct.png
END:VEVENT
BEGIN:VEVENT
DTSTART;TZID=America/New_York:20231029T110000
DTEND;TZID=America/New_York:20231029T133000
DTSTAMP:20260424T015635
CREATED:20230823T151733Z
LAST-MODIFIED:20230823T151733Z
UID:14561-1698577200-1698586200@www.unitedskates.com
SUMMARY:Bluey and Stitch Halloween Brunch
DESCRIPTION:Halloween Brunch Party with Bluey and Stitch! Come in your favorite Halloween Costume and Meet Bluey and Stitch! \n$15 per person includes admission\, slice of cheese pizza\, small drink and a visit from Bluey and Stitch  \nBring the kids and lace up for some family fun. Experience roller skating and share in building memories together. \nWe look forward to welcoming you into our newly renovated facility in the beautiful Jackson Township\, NJ \nRoller skate rental is $6.00 additional. Roller Blade rental is $7.00 additional. Skate Mate is $7.00 additional. \n  \nextra info: Spectators (non-skating adults 18+) are $5.00 per person. All children 17 & under must pay skate rental if they do not have their own skates. Friday & Saturday Nights (6:30-9pm) all children must be accompanied by an adult chaperone (21 & older)
URL:https://www.unitedskates.com/jackson/event/bluey-and-stitch-halloween-brunch/
CATEGORIES:Family Events,Public Skates,Special Events
END:VEVENT
END:VCALENDAR