BEGIN:VCALENDAR
VERSION:2.0
PRODID:-//Rink 65 - Jackson - ECPv6.15.20//NONSGML v1.0//EN
CALSCALE:GREGORIAN
METHOD:PUBLISH
X-ORIGINAL-URL:https://www.unitedskates.com/jackson
X-WR-CALDESC:Events for Rink 65 - Jackson
REFRESH-INTERVAL;VALUE=DURATION:PT1H
X-Robots-Tag:noindex
X-PUBLISHED-TTL:PT1H
BEGIN:VTIMEZONE
TZID:America/New_York
BEGIN:DAYLIGHT
TZOFFSETFROM:-0500
TZOFFSETTO:-0400
TZNAME:EDT
DTSTART:20220313T070000
END:DAYLIGHT
BEGIN:STANDARD
TZOFFSETFROM:-0400
TZOFFSETTO:-0500
TZNAME:EST
DTSTART:20221106T060000
END:STANDARD
BEGIN:DAYLIGHT
TZOFFSETFROM:-0500
TZOFFSETTO:-0400
TZNAME:EDT
DTSTART:20230312T070000
END:DAYLIGHT
BEGIN:STANDARD
TZOFFSETFROM:-0400
TZOFFSETTO:-0500
TZNAME:EST
DTSTART:20231105T060000
END:STANDARD
BEGIN:DAYLIGHT
TZOFFSETFROM:-0500
TZOFFSETTO:-0400
TZNAME:EDT
DTSTART:20240310T070000
END:DAYLIGHT
BEGIN:STANDARD
TZOFFSETFROM:-0400
TZOFFSETTO:-0500
TZNAME:EST
DTSTART:20241103T060000
END:STANDARD
END:VTIMEZONE
BEGIN:VEVENT
DTSTART;TZID=America/New_York:20230707T183000
DTEND;TZID=America/New_York:20230707T210000
DTSTAMP:20260425T154438
CREATED:20230609T190441Z
LAST-MODIFIED:20230628T201930Z
UID:13993-1688754600-1688763600@www.unitedskates.com
SUMMARY:Harry Styles Tribute Skate
DESCRIPTION:Listen to your favorite Harry Styles Songs and More! \nBring the kids and lace up for some family fun. Experience roller skating and share in building memories together. \nWe look forward to welcoming you into our newly renovated facility in the beautiful Jackson Township\, NJ \nRoller skate rental is $6.00 additional. Roller Blade rental is $7.00 additional. Skate Mate is $6.00 additional. \nextra info: Spectators (non-skating adults 18+) are $5.00 per person. All children 17 & under must pay skate rental if they do not have their own skates. Friday & Saturday Nights (6:30-9pm) all children must be accompanied by an adult chaperone (21 & older) \nClick Here to Purchase Your Tickets 
URL:https://www.unitedskates.com/jackson/event/harry-styles-tribute-skate/
CATEGORIES:Family Events,Public Skates,Special Events
ATTACH;FMTTYPE=image/png:https://unitedskates-assets.sfo3.digitaloceanspaces.com/wp-content/uploads/sites/27/2023/06/Harry-Styles-Tribute.png
END:VEVENT
BEGIN:VEVENT
DTSTART;TZID=America/New_York:20230709T170000
DTEND;TZID=America/New_York:20230709T193000
DTSTAMP:20260425T154438
CREATED:20221104T145758Z
LAST-MODIFIED:20250328T201037Z
UID:12952-1688922000-1688931000@www.unitedskates.com
SUMMARY:Family Public Skate
DESCRIPTION:Every Sunday from 5:00-7:30pm is a Family Public Skate. We are roller skating together! \nBring the kids and lace up for some family fun. Experience roller skating and share in building memories together. \nWe look forward to welcoming you into our newly renovated facility in the beautiful Jackson Township\, NJ \nRoller skate rental is $6.00 additional. Roller Blade rental is $7.00 additional. Skate Mate is $7.00 additional. \n  \nextra info: Spectators (non-skating adults 18+) are $5.00 per person. All children 17 & under must pay skate rental if they do not have their own skates. Friday & Saturday Nights (6:30-9pm) all children must be accompanied by an adult chaperone (21 & older) \n\n 
URL:https://www.unitedskates.com/jackson/event/family-public-skate-5-2023-03-26-2023-07-16/2023-07-09/
LOCATION:United Skates Of America Jackson\, 2270 West County Line Rd.\, Jackson Township\, NJ\, 08527\, United States
CATEGORIES:Family Events,Public Skates
ATTACH;FMTTYPE=image/jpeg:https://unitedskates-assets.sfo3.digitaloceanspaces.com/wp-content/uploads/sites/27/2022/05/Public-Skate-1200x900-1.jpg
END:VEVENT
BEGIN:VEVENT
DTSTART;TZID=America/New_York:20230710T180000
DTEND;TZID=America/New_York:20230710T203000
DTSTAMP:20260425T154438
CREATED:20230621T161042Z
LAST-MODIFIED:20230621T161042Z
UID:14219-1689012000-1689021000@www.unitedskates.com
SUMMARY:Flash Skate
DESCRIPTION:We are offering 1/2 price admission to come out and roller skate with us! \nBring the kids and lace up for some family fun. Experience roller skating and share in building memories together. \nWe look forward to welcoming you into our newly renovated facility in the beautiful Jackson Township\, NJ \nRoller skate rental is $6.00 additional. Roller Blade rental is $7.00 additional. Skate Mate is $6.00 additional. \nPLUS MEET FLASH!!  \nextra info: Spectators (non-skating adults 18+) are $5.00 per person. All children 17 & under must pay skate rental if they do not have their own skates. Friday & Saturday Nights (6:30-9pm) all children must be accompanied by an adult chaperone (21 & older)
URL:https://www.unitedskates.com/jackson/event/flash-skate/
CATEGORIES:Family Events,Special Events
ATTACH;FMTTYPE=image/png:https://unitedskates-assets.sfo3.digitaloceanspaces.com/wp-content/uploads/sites/27/2023/06/Flash-Skate.png
END:VEVENT
BEGIN:VEVENT
DTSTART;TZID=America/New_York:20230713T183000
DTEND;TZID=America/New_York:20230713T210000
DTSTAMP:20260425T154438
CREATED:20230621T161655Z
LAST-MODIFIED:20230621T161655Z
UID:14230-1689273000-1689282000@www.unitedskates.com
SUMMARY:Transformer's Free Dinner Night
DESCRIPTION:Every Thursday from 6:30-9:00pm is a Free Dinner Night Public Skate. Who LOVES Pizza?? \nThis Special Night is $14 per person and includes admission\, slice of cheese pizza\, and a small drink \nBring the kids and lace up for some family fun. Experience roller skating and share in building memories together. \nWe look forward to welcoming you into our newly renovated facility in the beautiful Jackson Township\, NJ \nRoller skate rental is $6.00 additional. Roller Blade rental is $7.00 additional. Skate Mate is $6.00 additional. \nPLUS meet a Transformer
URL:https://www.unitedskates.com/jackson/event/transformers-free-dinner-night/
CATEGORIES:Family Events,Public Skates,Special Events
ATTACH;FMTTYPE=image/png:https://unitedskates-assets.sfo3.digitaloceanspaces.com/wp-content/uploads/sites/27/2023/06/Transformer-Skate-.png
END:VEVENT
BEGIN:VEVENT
DTSTART;TZID=America/New_York:20230716T110000
DTEND;TZID=America/New_York:20230716T133000
DTSTAMP:20260425T154438
CREATED:20230616T200728Z
LAST-MODIFIED:20230628T202507Z
UID:14123-1689505200-1689514200@www.unitedskates.com
SUMMARY:Brunch with Bluey
DESCRIPTION:Brunch with Bluey!! Come meet Bluey \nThis Special Night is $14 per person and includes admission\, slice of cheese pizza\, and a small drink \nBring the kids and lace up for some family fun. Experience roller skating and share in building memories together. \nWe look forward to welcoming you into our newly renovated facility in the beautiful Jackson Township\, NJ \nRoller skate rental is $6.00 additional. Roller Blade rental is $7.00 additional. Skate Mate is $6.00 additional. \nClick Here to Purchase Your Tickets in Advance
URL:https://www.unitedskates.com/jackson/event/brunch-with-bluey/
CATEGORIES:Family Events,Special Events
END:VEVENT
BEGIN:VEVENT
DTSTART;TZID=America/New_York:20230721T183000
DTEND;TZID=America/New_York:20230721T210000
DTSTAMP:20260425T154438
CREATED:20221104T144642Z
LAST-MODIFIED:20230702T133100Z
UID:13987-1689964200-1689973200@www.unitedskates.com
SUMMARY:Grease Skate Night
DESCRIPTION:Music From the Movie Grease All Session Long! \nBring the kids and lace up for some family fun. Experience roller skating and share in building memories together. \nWe look forward to welcoming you into our newly renovated facility in the beautiful Jackson Township\, NJ \nAdmission $14.00 \nRoller skate rental is $6.00 additional. \nRoller Blade rental is $7.00 additional. \nSkate Mate is $6.00 additional. \nextra info: Spectators (non-skating adults 18+) are $5.00 per person.  \n 
URL:https://www.unitedskates.com/jackson/event/family-glow-in-the-dark-skate-2023-04-07-2023-07-21/
LOCATION:United Skates Of America Jackson\, 2270 West County Line Rd.\, Jackson Township\, NJ\, 08527\, United States
CATEGORIES:Family Events,Public Skates,Special Events
ATTACH;FMTTYPE=image/png:https://unitedskates-assets.sfo3.digitaloceanspaces.com/wp-content/uploads/sites/27/2022/11/Grease-65.png
END:VEVENT
BEGIN:VEVENT
DTSTART;TZID=America/New_York:20230721T213000
DTEND;TZID=America/New_York:20230722T000000
DTSTAMP:20260425T154438
CREATED:20230702T133329Z
LAST-MODIFIED:20230702T133437Z
UID:14240-1689975000-1689984000@www.unitedskates.com
SUMMARY:Adult Grease Skate Night
DESCRIPTION:Ages 18 years and Older \nMusic From the Movie Grease All Session Long! \nExperience roller skating and share in building memories together. \nWe look forward to welcoming you into our newly renovated facility in the beautiful Jackson Township\, NJ \nAdmission $15.00 – Regular Skate Rental Included \nRoller Blade rental is $7.00 additional. \n  \n 
URL:https://www.unitedskates.com/jackson/event/adult-grease-skate-night/
CATEGORIES:Adult Events,Public Skates,Special Events
ATTACH;FMTTYPE=image/png:https://unitedskates-assets.sfo3.digitaloceanspaces.com/wp-content/uploads/sites/27/2022/11/Grease-65.png
END:VEVENT
BEGIN:VEVENT
DTSTART;TZID=America/New_York:20230728T183000
DTEND;TZID=America/New_York:20230728T210000
DTSTAMP:20260425T154438
CREATED:20230616T200430Z
LAST-MODIFIED:20230616T200430Z
UID:14120-1690569000-1690578000@www.unitedskates.com
SUMMARY:Barbie Skate
DESCRIPTION:Come down and celebrate the new Barbie Skate at United Skates of America \nBring the kids and lace up for some family fun. Experience roller skating and share in building memories together. \nWe look forward to welcoming you into our newly renovated facility in the beautiful Jackson Township\, NJ \nRoller skate rental is $6.00 additional. Roller Blade rental is $7.00 additional. Skate Mate is $6.00 additional.
URL:https://www.unitedskates.com/jackson/event/barbie-skate/
CATEGORIES:Family Events,Special Events
ATTACH;FMTTYPE=image/png:https://unitedskates-assets.sfo3.digitaloceanspaces.com/wp-content/uploads/sites/27/2023/06/Barbie-Movie-Skate-65.png
END:VEVENT
END:VCALENDAR