BEGIN:VCALENDAR
VERSION:2.0
PRODID:-//Rink 53 - Great Skate - ECPv6.15.20//NONSGML v1.0//EN
CALSCALE:GREGORIAN
METHOD:PUBLISH
X-ORIGINAL-URL:https://www.unitedskates.com/great-skate
X-WR-CALDESC:Events for Rink 53 - Great Skate
REFRESH-INTERVAL;VALUE=DURATION:PT1H
X-Robots-Tag:noindex
X-PUBLISHED-TTL:PT1H
BEGIN:VTIMEZONE
TZID:America/Phoenix
BEGIN:STANDARD
TZOFFSETFROM:-0700
TZOFFSETTO:-0700
TZNAME:MST
DTSTART:20210101T000000
END:STANDARD
END:VTIMEZONE
BEGIN:VEVENT
DTSTART;TZID=America/Phoenix:20220704T150000
DTEND;TZID=America/Phoenix:20220704T173000
DTSTAMP:20260421T085432
CREATED:20220614T210120Z
LAST-MODIFIED:20220628T171351Z
UID:8798-1656946800-1656955800@www.unitedskates.com
SUMMARY:4th of July Skate
DESCRIPTION:Special Holiday Event \nPublic Glow Skate \n3:00pm – 5:30pm \nSkate and Play: Admission & Game Card $18.50 \nSkate Admission: $15.00 includes rentals\, slice of cheese pizza\, small drink and an Ice Cream Sundae \nNo Passes/All guests pay admission
URL:https://www.unitedskates.com/great-skate/event/4th-of-july-skate/
LOCATION:Great Skate\, 10054 N. 43rd Ave\, Glendale\, AZ\, 85302\, United States
CATEGORIES:Family Events,Public Skates,Special Events
ATTACH;FMTTYPE=image/jpeg:https://unitedskates-assets.sfo3.digitaloceanspaces.com/wp-content/uploads/sites/21/2022/06/4thofJuly-1200x900-1.jpg
END:VEVENT
BEGIN:VEVENT
DTSTART;TZID=America/Phoenix:20220704T120000
DTEND;TZID=America/Phoenix:20220704T143000
DTSTAMP:20260421T085432
CREATED:20220627T232537Z
LAST-MODIFIED:20220628T171435Z
UID:8912-1656936000-1656945000@www.unitedskates.com
SUMMARY:4th of July
DESCRIPTION:Special Holiday Event \nPublic Glow Skate \n12:00pm -2:30pm \nSkate and Play: Admission & Game Card $18.50 \nSkate Admission: $15.00 includes rentals\, slice of cheese pizza\, small drink and an Ice Cream Sundae \nNo Passes/All guests Pay admission
URL:https://www.unitedskates.com/great-skate/event/4th-of-july/
LOCATION:Great Skate\, 10054 N. 43rd Ave\, Glendale\, AZ\, 85302\, United States
CATEGORIES:Family Events,Public Skates,Special Events
ATTACH;FMTTYPE=image/jpeg:https://unitedskates-assets.sfo3.digitaloceanspaces.com/wp-content/uploads/sites/21/2022/06/4thofJuly-1200x900-1.jpg
END:VEVENT
BEGIN:VEVENT
DTSTART;TZID=America/Phoenix:20220701T130000
DTEND;TZID=America/Phoenix:20220701T153000
DTSTAMP:20260421T085432
CREATED:20220607T184443Z
LAST-MODIFIED:20220607T184443Z
UID:8672-1656680400-1656689400@www.unitedskates.com
SUMMARY:Pikachu Skate
DESCRIPTION:Come see Pikachu \nSkate & Play $11. 50 includes a 12-credit game card \nSkate admission $8.00 \nSkate Rentals $4.50 \nWrist Guards are Mandatory and available at the skate counter
URL:https://www.unitedskates.com/great-skate/event/pikachu-skate/
LOCATION:Great Skate\, 10054 N. 43rd Ave\, Glendale\, AZ\, 85302\, United States
CATEGORIES:Family Events,Public Skates
ATTACH;FMTTYPE=image/jpeg:https://unitedskates-assets.sfo3.digitaloceanspaces.com/wp-content/uploads/sites/21/2022/05/Pikachu-Skate-2022-1200x900-1.jpg
END:VEVENT
BEGIN:VEVENT
DTSTART;TZID=America/Phoenix:20220630T180000
DTEND;TZID=America/Phoenix:20220630T200000
DTSTAMP:20260421T085432
CREATED:20220629T205730Z
LAST-MODIFIED:20220629T205730Z
UID:8918-1656612000-1656619200@www.unitedskates.com
SUMMARY:90's Night - Public Skate
DESCRIPTION:All ages – Welcome \n6:00pm – 8:00pm \nSkate and Play $10.50 admission and a game card \nSkate Admission $7.00 \nSkate Rentals $4.50 \nCome skate to the best of the 90’s!!! \n 
URL:https://www.unitedskates.com/great-skate/event/90s-night-public-skate/
LOCATION:Great Skate\, 10054 N. 43rd Ave\, Glendale\, AZ\, 85302\, United States
CATEGORIES:Family Events,Public Skates,Special Events
ATTACH;FMTTYPE=image/jpeg:https://unitedskates-assets.sfo3.digitaloceanspaces.com/wp-content/uploads/sites/21/2022/05/90s-Skate-1200x900-1.jpg
END:VEVENT
BEGIN:VEVENT
DTSTART;TZID=America/Phoenix:20220511T180000
DTEND;TZID=America/Phoenix:20220511T203000
DTSTAMP:20260421T085432
CREATED:20220505T215138Z
LAST-MODIFIED:20220517T183136Z
UID:4198-1652292000-1652301000@www.unitedskates.com
SUMMARY:Pokémon Skate
DESCRIPTION:Come see Pikachu!  \n\n\n\nAdmission: Skate: $7.00 Skate & Play: $10.50 (Incl. game card)\n\n\n\nSkate Rental: $4.50\n\n\n\nRollerblade Rental: $4.50
URL:https://www.unitedskates.com/great-skate/event/pokemon-skate/
LOCATION:Great Skate\, 10054 N. 43rd Ave\, Glendale\, AZ\, 85302\, United States
CATEGORIES:Family Events,Special Events
ATTACH;FMTTYPE=image/jpeg:https://unitedskates-assets.sfo3.digitaloceanspaces.com/wp-content/uploads/sites/21/2022/05/Pikachu-Skate-2022-1200x900-1.jpg
END:VEVENT
END:VCALENDAR