BEGIN:VCALENDAR
VERSION:2.0
PRODID:-//Rink 53 - Great Skate - ECPv6.15.20//NONSGML v1.0//EN
CALSCALE:GREGORIAN
METHOD:PUBLISH
X-ORIGINAL-URL:https://www.unitedskates.com/great-skate
X-WR-CALDESC:Events for Rink 53 - Great Skate
REFRESH-INTERVAL;VALUE=DURATION:PT1H
X-Robots-Tag:noindex
X-PUBLISHED-TTL:PT1H
BEGIN:VTIMEZONE
TZID:America/Phoenix
BEGIN:STANDARD
TZOFFSETFROM:-0700
TZOFFSETTO:-0700
TZNAME:MST
DTSTART:20250101T000000
END:STANDARD
END:VTIMEZONE
BEGIN:VEVENT
DTSTART;TZID=America/Phoenix:20260331T203000
DTEND;TZID=America/Phoenix:20260331T223000
DTSTAMP:20260425T194313
CREATED:20250127T133804Z
LAST-MODIFIED:20250127T133804Z
UID:24793-1774989000-1774996200@www.unitedskates.com
SUMMARY:🛼Newbie Adult Skate Night – For Beginners & Intermediate Skaters!🛼
DESCRIPTION:Looking to improve your skating skills or just have fun with other adults? Join us every Tuesday evening for “Newbie” Adult Skate Night\, specially designed for beginner or intermediate skaters\, this is your chance to practice\, improve\, and enjoy a relaxed\, social atmosphere! \nEvent Details: \n\nDate: Every Tuesday\nTime: 8:30 PM – 10:30 PM\nAge Group: 18+\nAdmission: $12.00 (includes skate rental) |No Passes-All Guests Pay Admission\n\nWhat to Expect: \n\nA non-intimidating environment for beginner and intermediate skaters to practice and have fun.\nSkating tips and helpful advice from fellow skaters to improve your skills.\nGreat music to skate to\, making the experience even more enjoyable.\nA social atmosphere where you can meet new people and skate with friends.
URL:https://www.unitedskates.com/great-skate/event/%f0%9f%9b%bcnewbie-adult-skate-night-for-beginners-intermediate-skaters%f0%9f%9b%bc/2026-03-31/
LOCATION:AZ
CATEGORIES:Adult Events,Public Skates
ATTACH;FMTTYPE=image/jpeg:https://unitedskates-assets.sfo3.digitaloceanspaces.com/wp-content/uploads/sites/21/2023/07/Newbie-Night-1200x900-v2.jpg
END:VEVENT
END:VCALENDAR