BEGIN:VCALENDAR
VERSION:2.0
PRODID:-//Rink 53 - Great Skate - ECPv6.15.20//NONSGML v1.0//EN
CALSCALE:GREGORIAN
METHOD:PUBLISH
X-WR-CALNAME:Rink 53 - Great Skate
X-ORIGINAL-URL:https://www.unitedskates.com/great-skate
X-WR-CALDESC:Events for Rink 53 - Great Skate
REFRESH-INTERVAL;VALUE=DURATION:PT1H
X-Robots-Tag:noindex
X-PUBLISHED-TTL:PT1H
BEGIN:VTIMEZONE
TZID:America/Phoenix
BEGIN:STANDARD
TZOFFSETFROM:-0700
TZOFFSETTO:-0700
TZNAME:MST
DTSTART:20250101T000000
END:STANDARD
END:VTIMEZONE
BEGIN:VEVENT
DTSTART;TZID=America/Phoenix:20260423T180000
DTEND;TZID=America/Phoenix:20260423T200000
DTSTAMP:20260423T031123
CREATED:20260417T160811Z
LAST-MODIFIED:20260417T160811Z
UID:25896-1776967200-1776974400@www.unitedskates.com
SUMMARY:Back by Popular Demand: Michael Jackson Skate
DESCRIPTION:Back by popular demand! Get ready to experience a night of magic\, music\, and moonwalking at our Michael Jackson Tribute Skate. We’re spinning MJ and Jackson Family hits all night long\, so lace up your skates and get ready to groove to the classics. \n\n\nWhen: Thursday\, April 23rd \n\n\nTime: 6:00 PM – 8:00 PM \n\n\nAdmission: $7.00 + tax \n\n\nRentals: $5.00 for skates | $4.00 for non-skating adults \n\n\nDress to Impress: Wear your best MJ-inspired costume! Whether it’s the red leather jacket\, the sequins\, or the single glove\, let’s see your best “Thriller” or “Bad” era looks. \nLocation: 10054 N 43rd Avenue\, Glendale\, AZ 85302 Contact: 623-842-1181
URL:https://www.unitedskates.com/great-skate/event/back-by-popular-demand-michael-jackson-skate/
CATEGORIES:Family Events,Public Skates,Special Events
ATTACH;FMTTYPE=image/png:https://unitedskates-assets.sfo3.digitaloceanspaces.com/wp-content/uploads/sites/21/2026/04/Michael-Jackson-Tribute-Skate.png
END:VEVENT
BEGIN:VEVENT
DTSTART;TZID=America/Phoenix:20260423T203000
DTEND;TZID=America/Phoenix:20260423T233000
DTSTAMP:20260423T031123
CREATED:20241030T231845Z
LAST-MODIFIED:20260313T013215Z
UID:23452-1776976200-1776987000@www.unitedskates.com
SUMMARY:🎧 Adult Skate Night! 🎧
DESCRIPTION:🗓 Every Thursday Night| 8:30 PM – 11:30 PM\n💸 Admission: $14.00 |Skate rental: $5.00 – No passes or coupons. \nDJ B-DASH will be spinning the BEST of Hip-Hop\, R&B\, West Coast\, Funk\, House\, and more! 🕺💃 Get ready to dance and skate the night away! \nBring your crew\, your energy\, and let’s make this a night to remember! 🔥
URL:https://www.unitedskates.com/great-skate/event/%f0%9f%8e%a7-adult-skate-night-%f0%9f%8e%a7/2026-04-23/
LOCATION:Great Skate\, 10054 N. 43rd Ave\, Glendale\, AZ\, 85302\, United States
CATEGORIES:Adult Events,Public Skates,Special Events
ATTACH;FMTTYPE=image/jpeg:https://unitedskates-assets.sfo3.digitaloceanspaces.com/wp-content/uploads/sites/21/2022/05/Adult-Skate-2022-1200x900-1.jpg
END:VEVENT
END:VCALENDAR