BEGIN:VCALENDAR
VERSION:2.0
PRODID:-//Rink 53 - Great Skate - ECPv6.15.20//NONSGML v1.0//EN
CALSCALE:GREGORIAN
METHOD:PUBLISH
X-WR-CALNAME:Rink 53 - Great Skate
X-ORIGINAL-URL:https://www.unitedskates.com/great-skate
X-WR-CALDESC:Events for Rink 53 - Great Skate
REFRESH-INTERVAL;VALUE=DURATION:PT1H
X-Robots-Tag:noindex
X-PUBLISHED-TTL:PT1H
BEGIN:VTIMEZONE
TZID:America/Phoenix
BEGIN:STANDARD
TZOFFSETFROM:-0700
TZOFFSETTO:-0700
TZNAME:MST
DTSTART:20250101T000000
END:STANDARD
END:VTIMEZONE
BEGIN:VEVENT
DTSTART;TZID=America/Phoenix:20260422T143000
DTEND;TZID=America/Phoenix:20260422T170000
DTSTAMP:20260422T083853
CREATED:20250805T190445Z
LAST-MODIFIED:20251022T212952Z
UID:24409-1776868200-1776877200@www.unitedskates.com
SUMMARY:Half Day Skate | Half Price Skate
DESCRIPTION:🎉 Wednesday just got a WHEEL upgrade! 🛼 \nSchools are out early\, so let the good times roll at Great Skate’s HALF DAY SKATE — and guess what? It’s half price too! 🙌 \n🗓 Every Wednesday\n🕝 2:30pm–5:00pm\n💸 $7 Admission • $5 Skate Rental\n✨ Neon lights\, good vibes\, and cool characters may pop in to keep the energy high! \nTag your skate crew\, grab those school-day savings\, and glide into the afternoon with music\, fun\, and all the wheels you can handle!\n#HalfDaySkate #SkateForHalf #MidweekFun #GreatSkateGlowUp
URL:https://www.unitedskates.com/great-skate/event/half-day-skate-half-price-skate/2026-04-22/
CATEGORIES:Family Events,Public Skates,Special Events
ATTACH;FMTTYPE=image/png:https://unitedskates-assets.sfo3.digitaloceanspaces.com/wp-content/uploads/sites/21/2025/08/53-Half-dat-Wednesday-Skate-1-1.png
END:VEVENT
BEGIN:VEVENT
DTSTART;TZID=America/Phoenix:20260422T180000
DTEND;TZID=America/Phoenix:20260422T203000
DTSTAMP:20260422T083853
CREATED:20241122T194025Z
LAST-MODIFIED:20250930T222723Z
UID:23705-1776880800-1776889800@www.unitedskates.com
SUMMARY:🍕🛼 GLOW IN THE DARK SKATE | All-You-Can-Eat Cheese Pizza Skating Night! 🛼🍕
DESCRIPTION:🍕🛼 All-You-Can-Eat Cheese Pizza Skating Night! 🛼🍕 \n📅 Every Wednesday Evening\n⏰ 6 PM to 8:30 PM \nGet ready for a night of cheesy fun and roller skating thrills! \nAdmission: $14.00 per person\, plus tax \nYou’ll enjoy:\n✅ Unlimited Cheese Pizza 🍕\n✅ A Free Glow Stick 🌟 \n🛼 Skate Rental: $5.00 \n⚠️ No passes or coupons accepted. All attendees must pay $14.00. \nBring your appetite and your skating moves for the cheesiest\, glowiest midweek party around! See you Wednesday! 🥳
URL:https://www.unitedskates.com/great-skate/event/%f0%9f%8d%95%f0%9f%9b%bc-all-you-can-eat-cheese-pizza-skating-night-%f0%9f%9b%bc%f0%9f%8d%95/2026-04-22/
LOCATION:Great Skate\, 10054 N. 43rd Ave\, Glendale\, AZ\, 85302\, United States
CATEGORIES:Family Events,Public Skates,Special Events
ATTACH;FMTTYPE=image/jpeg:https://unitedskates-assets.sfo3.digitaloceanspaces.com/wp-content/uploads/sites/21/2024/11/53-Wed-AYCE-Night-2025.jpg
END:VEVENT
END:VCALENDAR