BEGIN:VCALENDAR
VERSION:2.0
PRODID:-//Rink 53 - Great Skate - ECPv6.15.20//NONSGML v1.0//EN
CALSCALE:GREGORIAN
METHOD:PUBLISH
X-WR-CALNAME:Rink 53 - Great Skate
X-ORIGINAL-URL:https://www.unitedskates.com/great-skate
X-WR-CALDESC:Events for Rink 53 - Great Skate
REFRESH-INTERVAL;VALUE=DURATION:PT1H
X-Robots-Tag:noindex
X-PUBLISHED-TTL:PT1H
BEGIN:VTIMEZONE
TZID:America/Phoenix
BEGIN:STANDARD
TZOFFSETFROM:-0700
TZOFFSETTO:-0700
TZNAME:MST
DTSTART:20250101T000000
END:STANDARD
END:VTIMEZONE
BEGIN:VEVENT
DTSTART;TZID=America/Phoenix:20260421T170000
DTEND;TZID=America/Phoenix:20260421T180000
DTSTAMP:20260421T093854
CREATED:20250526T170135Z
LAST-MODIFIED:20250526T170135Z
UID:25206-1776790800-1776794400@www.unitedskates.com
SUMMARY:Learn to Skate - Skate Lessons
DESCRIPTION:✨ Roll with us every Tuesday Evening from 5PM to 6PM! Doors open at 4:45pm and will close at 5:05pm. \n🎉 Admission: $12.00 includes Skate Rental \n✨ Non-Skating Parents: $4.00 \nWe can accommodate all skill levels with our wonderful 4 STAR Lesson Program!  This Program designed to get you moving and grooving with confidence! Come join the fun and learn to roll like a pro! 🎶🎈 \n 
URL:https://www.unitedskates.com/great-skate/event/learn-to-skate-skate-lessons-2025-10-28/2026-04-21/
LOCATION:Great Skate\, 10054 N. 43rd Ave\, Glendale\, AZ\, 85302\, United States
CATEGORIES:Lessons
ATTACH;FMTTYPE=image/jpeg:https://unitedskates-assets.sfo3.digitaloceanspaces.com/wp-content/uploads/sites/21/2025/02/Skate-Lessons-Learn-to-Skate-53-scaled.jpg
END:VEVENT
BEGIN:VEVENT
DTSTART;TZID=America/Phoenix:20260421T180000
DTEND;TZID=America/Phoenix:20260421T200000
DTSTAMP:20260421T093854
CREATED:20260417T203216Z
LAST-MODIFIED:20260417T210615Z
UID:25899-1776794400-1776801600@www.unitedskates.com
SUMMARY:⚡ RACE TO GREAT SKATE: Meet Sonic & Shadow! ⚡
DESCRIPTION:Get ready to move fast—the world’s fastest hedgehogs are taking over the rink! Join us for a Supercharged Skate you won’t want to miss. Lace up your skates\, grab a photo with Sonic and Shadow\, and show off your speed!\n\n📅 Date: Tuesday\, April 21st\n⏰ Time: 6:00 PM – 8:00 PM\n🎟️ Admission: $7.00\n🛼 Skate Rental: $5.00\n👨‍👩‍👧 Non-Skating Parents: $4.00\n\n📍 Location: 10054 N 43rd Avenue\, Glendale\, AZ 85302Don’t get left in the dust! Grab your tickets now at greatskateglendale.com.
URL:https://www.unitedskates.com/great-skate/event/%e2%9a%a1-race-to-great-skate-meet-sonic-shadow-%e2%9a%a1/
LOCATION:Great Skate\, 10054 N. 43rd Ave\, Glendale\, AZ\, 85302\, United States
CATEGORIES:Family Events,Public Skates,Special Events
ATTACH;FMTTYPE=image/png:https://unitedskates-assets.sfo3.digitaloceanspaces.com/wp-content/uploads/sites/21/2026/04/SONIC-AND-SHADOW-SUPERCHARGED-SATURDAY-3.png
END:VEVENT
BEGIN:VEVENT
DTSTART;TZID=America/Phoenix:20260421T203000
DTEND;TZID=America/Phoenix:20260421T223000
DTSTAMP:20260421T093854
CREATED:20250127T133804Z
LAST-MODIFIED:20250127T133804Z
UID:24796-1776803400-1776810600@www.unitedskates.com
SUMMARY:🛼Newbie Adult Skate Night – For Beginners & Intermediate Skaters!🛼
DESCRIPTION:Looking to improve your skating skills or just have fun with other adults? Join us every Tuesday evening for “Newbie” Adult Skate Night\, specially designed for beginner or intermediate skaters\, this is your chance to practice\, improve\, and enjoy a relaxed\, social atmosphere! \nEvent Details: \n\nDate: Every Tuesday\nTime: 8:30 PM – 10:30 PM\nAge Group: 18+\nAdmission: $12.00 (includes skate rental) |No Passes-All Guests Pay Admission\n\nWhat to Expect: \n\nA non-intimidating environment for beginner and intermediate skaters to practice and have fun.\nSkating tips and helpful advice from fellow skaters to improve your skills.\nGreat music to skate to\, making the experience even more enjoyable.\nA social atmosphere where you can meet new people and skate with friends.
URL:https://www.unitedskates.com/great-skate/event/%f0%9f%9b%bcnewbie-adult-skate-night-for-beginners-intermediate-skaters%f0%9f%9b%bc/2026-04-21/
CATEGORIES:Adult Events,Public Skates
ATTACH;FMTTYPE=image/jpeg:https://unitedskates-assets.sfo3.digitaloceanspaces.com/wp-content/uploads/sites/21/2023/07/Newbie-Night-1200x900-v2.jpg
END:VEVENT
END:VCALENDAR