BEGIN:VCALENDAR
VERSION:2.0
PRODID:-//Rink 1 - Columbus - ECPv6.15.20//NONSGML v1.0//EN
CALSCALE:GREGORIAN
METHOD:PUBLISH
X-WR-CALNAME:Rink 1 - Columbus
X-ORIGINAL-URL:https://www.unitedskates.com/columbus
X-WR-CALDESC:Events for Rink 1 - Columbus
REFRESH-INTERVAL;VALUE=DURATION:PT1H
X-Robots-Tag:noindex
X-PUBLISHED-TTL:PT1H
BEGIN:VTIMEZONE
TZID:America/New_York
BEGIN:DAYLIGHT
TZOFFSETFROM:-0500
TZOFFSETTO:-0400
TZNAME:EDT
DTSTART:20250309T070000
END:DAYLIGHT
BEGIN:STANDARD
TZOFFSETFROM:-0400
TZOFFSETTO:-0500
TZNAME:EST
DTSTART:20251102T060000
END:STANDARD
BEGIN:DAYLIGHT
TZOFFSETFROM:-0500
TZOFFSETTO:-0400
TZNAME:EDT
DTSTART:20260308T070000
END:DAYLIGHT
BEGIN:STANDARD
TZOFFSETFROM:-0400
TZOFFSETTO:-0500
TZNAME:EST
DTSTART:20261101T060000
END:STANDARD
BEGIN:DAYLIGHT
TZOFFSETFROM:-0500
TZOFFSETTO:-0400
TZNAME:EDT
DTSTART:20270314T070000
END:DAYLIGHT
BEGIN:STANDARD
TZOFFSETFROM:-0400
TZOFFSETTO:-0500
TZNAME:EST
DTSTART:20271107T060000
END:STANDARD
END:VTIMEZONE
BEGIN:VEVENT
DTSTART;TZID=America/New_York:20260525T120000
DTEND;TZID=America/New_York:20260525T150000
DTSTAMP:20260421T094604
CREATED:20250409T205217Z
LAST-MODIFIED:20260415T180042Z
UID:18497-1779710400-1779721200@www.unitedskates.com
SUMMARY:❤️ Memorial Day 🤍 Family Skating 💙
DESCRIPTION:🎉 Join us for all the fun on Memorial Day at United Skates Columbus! 🎉\nMonday\, May 25\, from 12:00 PM – 3:00 PM! \nDiscounted Admission to honor our Heroes! \nDoor Admission: $6 \nOnline Admission: $5 (Tickets must be purchased by 11:55 AM) \nSkate Rental: $6 \n🛼 Check out all our special events and come skate! 🛼\n🎟️ Group rates available for parties of 10+ – Click Here\n🎂 Birthday Parties Available – Click Here\n💰 Looking for something FUN that can also raise money for your group? – Click Here\nDon’t miss out on the excitement! See you on the rink! ⛸️✨
URL:https://www.unitedskates.com/columbus/event/%e2%9d%a4%ef%b8%8fmemorial-day-weekend-open-skating%f0%9f%a4%8d%f0%9f%92%99/
LOCATION:United Skates Of America Columbus\, 3362 Refugee Rd\, Columbus\, OH\, 43232\, United States
CATEGORIES:Family Events,Public Skates,Special Events
ATTACH;FMTTYPE=image/jpeg:https://unitedskates-assets.sfo3.digitaloceanspaces.com/wp-content/uploads/sites/6/2025/04/Memorial-Day-Skate.jpg
END:VEVENT
END:VCALENDAR