BEGIN:VCALENDAR
VERSION:2.0
PRODID:-//Rink 1 - Columbus - ECPv6.15.20//NONSGML v1.0//EN
CALSCALE:GREGORIAN
METHOD:PUBLISH
X-ORIGINAL-URL:https://www.unitedskates.com/columbus
X-WR-CALDESC:Events for Rink 1 - Columbus
REFRESH-INTERVAL;VALUE=DURATION:PT1H
X-Robots-Tag:noindex
X-PUBLISHED-TTL:PT1H
BEGIN:VTIMEZONE
TZID:America/New_York
BEGIN:DAYLIGHT
TZOFFSETFROM:-0500
TZOFFSETTO:-0400
TZNAME:EDT
DTSTART:20250309T070000
END:DAYLIGHT
BEGIN:STANDARD
TZOFFSETFROM:-0400
TZOFFSETTO:-0500
TZNAME:EST
DTSTART:20251102T060000
END:STANDARD
BEGIN:DAYLIGHT
TZOFFSETFROM:-0500
TZOFFSETTO:-0400
TZNAME:EDT
DTSTART:20260308T070000
END:DAYLIGHT
BEGIN:STANDARD
TZOFFSETFROM:-0400
TZOFFSETTO:-0500
TZNAME:EST
DTSTART:20261101T060000
END:STANDARD
BEGIN:DAYLIGHT
TZOFFSETFROM:-0500
TZOFFSETTO:-0400
TZNAME:EDT
DTSTART:20270314T070000
END:DAYLIGHT
BEGIN:STANDARD
TZOFFSETFROM:-0400
TZOFFSETTO:-0500
TZNAME:EST
DTSTART:20271107T060000
END:STANDARD
END:VTIMEZONE
BEGIN:VEVENT
DTSTART;TZID=America/New_York:20260119T100000
DTEND;TZID=America/New_York:20260119T120000
DTSTAMP:20260422T181802
CREATED:20260108T181642Z
LAST-MODIFIED:20260108T181642Z
UID:21579-1768816800-1768824000@www.unitedskates.com
SUMMARY:Dream & Skate! Early Bird Session! 😀🐦🌟
DESCRIPTION:✨🛼💙 Dream & Skate — MLK Day at the Rink 💙🛼✨Monday\, January 19 | Dr. Martin Luther King Jr. Day \nJoin us as we honor the legacy of Dr. Martin Luther King Jr. with a full day of skating\, music\, and family fun. Come roll with purpose\, joy\, and togetherness during our Dream & Skate sessions! 🌈🤝 \n🕙 Early Bird Skate | 10 AM – 12 PM🎟️ $5 Admission \nSkate Rental: $6 | Skate Mate Rental: $5 \nPurchase tickets online to save! \n🎉 Birthday Parties Available🕹️ Fun Arcade Games🍔 Great food at our Disco Café🎶 The best music in town all day long \nBring the family\, invite your friends\, and spend MLK Day skating\, celebrating\, and dreaming together. 🛼✨💙
URL:https://www.unitedskates.com/columbus/event/dream-skate-early-bird-session-%f0%9f%98%80%f0%9f%90%a6%f0%9f%8c%9f/
LOCATION:United Skates Of America Columbus\, 3362 Refugee Rd\, Columbus\, OH\, 43232\, United States
CATEGORIES:Family Events,Public Skates,Special Events
ATTACH;FMTTYPE=image/jpeg:https://unitedskates-assets.sfo3.digitaloceanspaces.com/wp-content/uploads/sites/6/2025/12/Monday-Jan.19-DRMLKjr-2026.jpg
END:VEVENT
BEGIN:VEVENT
DTSTART;TZID=America/New_York:20260119T120000
DTEND;TZID=America/New_York:20260119T150000
DTSTAMP:20260422T181802
CREATED:20260108T182613Z
LAST-MODIFIED:20260108T182613Z
UID:21581-1768824000-1768834800@www.unitedskates.com
SUMMARY:Dream & Skate! 😀🌟🎶
DESCRIPTION:✨🛼💙 Dream & Skate — MLK Day at the Rink 💙🛼✨Monday\, January 19 | Dr. Martin Luther King Jr. Day \nJoin us as we honor the legacy of Dr. Martin Luther King Jr. with a full day of skating\, music\, and family fun. Come roll with purpose\, joy\, and togetherness during our Dream & Skate sessions! 🌈🤝 \nWe’ve got three great sessions to choose from:🕙 Early Bird Skate | 10 AM – 12 PM🎟️ $5 Admission \n🕛 Family Skate | 12 PM – 3 PM🎟️ $8 Admission \n🕞 Family Hip-Hop Skate | 3:30 PM – 6:30 PM🎟️ $8 Admission \nSkate Rental: $6 | Skate Mate Rental: $5 \nPurchase tickets online to save! \n🎉 Birthday Parties Available🕹️ Fun Arcade Games🍔 Great food at our Disco Café🎶 The best music in town all day long \nBring the family\, invite your friends\, and spend MLK Day skating\, celebrating\, and dreaming together. 🛼✨💙
URL:https://www.unitedskates.com/columbus/event/dream-skate-%f0%9f%98%80%f0%9f%8c%9f%f0%9f%8e%b6/
LOCATION:United Skates Of America Columbus\, 3362 Refugee Rd\, Columbus\, OH\, 43232\, United States
CATEGORIES:Family Events,Public Skates
ATTACH;FMTTYPE=image/jpeg:https://unitedskates-assets.sfo3.digitaloceanspaces.com/wp-content/uploads/sites/6/2025/12/Monday-Jan.19-DRMLKjr-2026.jpg
END:VEVENT
BEGIN:VEVENT
DTSTART;TZID=America/New_York:20260119T153000
DTEND;TZID=America/New_York:20260119T183000
DTSTAMP:20260422T181802
CREATED:20260108T182613Z
LAST-MODIFIED:20260108T182613Z
UID:21582-1768836600-1768847400@www.unitedskates.com
SUMMARY:Dream & Skate! 😀🌟🎶
DESCRIPTION:✨🛼💙 Dream & Skate — MLK Day at the Rink 💙🛼✨Monday\, January 19 | Dr. Martin Luther King Jr. Day \nJoin us as we honor the legacy of Dr. Martin Luther King Jr. with a full day of skating\, music\, and family fun. Come roll with purpose\, joy\, and togetherness during our Dream & Skate sessions! 🌈🤝 \nWe’ve got three great sessions to choose from:🕙 Early Bird Skate | 10 AM – 12 PM🎟️ $5 Admission \n🕛 Family Skate | 12 PM – 3 PM🎟️ $8 Admission \n🕞 Family Hip-Hop Skate | 3:30 PM – 6:30 PM🎟️ $8 Admission \nSkate Rental: $6 | Skate Mate Rental: $5 \nPurchase tickets online to save! \n🎉 Birthday Parties Available🕹️ Fun Arcade Games🍔 Great food at our Disco Café🎶 The best music in town all day long \nBring the family\, invite your friends\, and spend MLK Day skating\, celebrating\, and dreaming together. 🛼✨💙
URL:https://www.unitedskates.com/columbus/event/dream-skate-%f0%9f%98%80%f0%9f%8c%9f%f0%9f%8e%b6/2026-01-19/2/
LOCATION:United Skates Of America Columbus\, 3362 Refugee Rd\, Columbus\, OH\, 43232\, United States
CATEGORIES:Family Events,Public Skates
ATTACH;FMTTYPE=image/jpeg:https://unitedskates-assets.sfo3.digitaloceanspaces.com/wp-content/uploads/sites/6/2025/12/Monday-Jan.19-DRMLKjr-2026.jpg
END:VEVENT
BEGIN:VEVENT
DTSTART;TZID=America/New_York:20260119T190000
DTEND;TZID=America/New_York:20260119T220000
DTSTAMP:20260422T181802
CREATED:20260112T010652Z
LAST-MODIFIED:20260115T183347Z
UID:21652-1768849200-1768860000@www.unitedskates.com
SUMMARY:🛼✨ MLK Day Adult Skate — Honoring the Legacy ✨🛼
DESCRIPTION:Join us for a meaningful evening of skating\, music\, and community as we honor the legacy of Dr. Martin Luther King Jr. Roll with us to the best soul music in town\, with a live DJ set by DJ Narsistic that sets the tone for reflection\, joy\, and togetherness. 🎶🤝 \nThis adult skate is rooted in culture and nostalgic vibes\, led by a welcoming adult skate community that celebrates unity on and off the floor. \n🎟️ Save $2 when you purchase online in advance! (Purchase tickets here!)\n💻 Online Admission: $9\n🚪 Door Admission: $11\n🛼 Skate Rental: $6 \nCome skate with purpose\, connect through music\, and honor a legacy that continues to inspire. ✨🛼💙 \n\nCollege Discount: Show a valid college photo ID for $2.00 off admission! 🎓\n\n📅 For Ages 18+ (must show valid photo ID)\nGet ready to skate to the smooth sounds of Soul and R&B music all night long! 🎶💃 \n🚨 Important Info: \n\nAll guests must pay admission & skate rental (or bring their own skates).\nOnline waiver required for all adults and children entering the building. Click here to fill it out. Please have your signed waiver ready to show at check-in to make the process quick and easy. Effective 10/11/2024\n\n💥 Group Rates available for parties of 15+—Click here for reservations\n💡 Looking for a fun group event to earn money?—Click here for more info
URL:https://www.unitedskates.com/columbus/event/%f0%9f%9b%bc%e2%9c%a8-mlk-day-adult-skate-honoring-the-legacy-%e2%9c%a8%f0%9f%9b%bc/
LOCATION:United Skates Of America Columbus\, 3362 Refugee Rd\, Columbus\, OH\, 43232\, United States
CATEGORIES:Adult Events,Public Skates,Special Events
ATTACH;FMTTYPE=image/jpeg:https://unitedskates-assets.sfo3.digitaloceanspaces.com/wp-content/uploads/sites/6/2026/01/1080x1350-2026-MALKDAY-ADULTSK8-ftDAVID.jpg
END:VEVENT
END:VCALENDAR