BEGIN:VCALENDAR
VERSION:2.0
PRODID:-//Rink 1 - Columbus - ECPv6.15.20//NONSGML v1.0//EN
CALSCALE:GREGORIAN
METHOD:PUBLISH
X-ORIGINAL-URL:https://www.unitedskates.com/columbus
X-WR-CALDESC:Events for Rink 1 - Columbus
REFRESH-INTERVAL;VALUE=DURATION:PT1H
X-Robots-Tag:noindex
X-PUBLISHED-TTL:PT1H
BEGIN:VTIMEZONE
TZID:America/New_York
BEGIN:DAYLIGHT
TZOFFSETFROM:-0500
TZOFFSETTO:-0400
TZNAME:EDT
DTSTART:20240310T070000
END:DAYLIGHT
BEGIN:STANDARD
TZOFFSETFROM:-0400
TZOFFSETTO:-0500
TZNAME:EST
DTSTART:20241103T060000
END:STANDARD
BEGIN:DAYLIGHT
TZOFFSETFROM:-0500
TZOFFSETTO:-0400
TZNAME:EDT
DTSTART:20250309T070000
END:DAYLIGHT
BEGIN:STANDARD
TZOFFSETFROM:-0400
TZOFFSETTO:-0500
TZNAME:EST
DTSTART:20251102T060000
END:STANDARD
BEGIN:DAYLIGHT
TZOFFSETFROM:-0500
TZOFFSETTO:-0400
TZNAME:EDT
DTSTART:20260308T070000
END:DAYLIGHT
BEGIN:STANDARD
TZOFFSETFROM:-0400
TZOFFSETTO:-0500
TZNAME:EST
DTSTART:20261101T060000
END:STANDARD
END:VTIMEZONE
BEGIN:VEVENT
DTSTART;TZID=America/New_York:20251127T180000
DTEND;TZID=America/New_York:20251127T203000
DTSTAMP:20260423T154314
CREATED:20251114T150519Z
LAST-MODIFIED:20251114T150519Z
UID:20266-1764266400-1764275400@www.unitedskates.com
SUMMARY:Thanksgiving Day Family Skate
DESCRIPTION:🦃🍁🛼 Skate Your Turkey Off! Thanksgiving Day Skate 🛼🍁🦃Thursday\, November 27 | 6:00 PM – 8:30 PM \nAfter the feast\, bring the whole family out for a night of fun\, laughter\, and rolling good vibes! 🎉 \nJoin us for a festive Thanksgiving evening featuring:🎶 The best music in town to keep you moving🛼 A fun and active way to work off that holiday meal👨‍👩‍👧 A warm\, family-friendly atmosphere for all ages \nWhether you’re a seasoned skater or just looking for a holiday outing\, it’s the perfect way to cap off your Thanksgiving day! 🍂✨ \nCome roll\, groove\, and make new holiday memories with us! 🦃💛🛼 \n\nAdmission: $7.00\nSkate Rental: $6.00\n\n⏰ Session Times: Begin and end at the posted start & end time—no stayovers allowed. \n🚨 Important Info: \n\nAll guests ages 3-17 must pay admission & skate rental (or bring their own skates).\nNon-skating adults may enter at no charge.\nOnline waiver required for all adults and children entering the building. Click here to fill it out. Please have your signed waiver ready to show at check-in to make the process quick and easy. Effective 10/11/2024\n\n💥 Group Rates available for parties of 15+—Click here for reservations\n🎉 Birthday Parties available—CLICK HERE\n💡 Looking for a fun group event to earn money?—Click here for more info
URL:https://www.unitedskates.com/columbus/event/thanksgiving-day-family-skate/
LOCATION:OH
CATEGORIES:Family Events,Public Skates,Special Events
ATTACH;FMTTYPE=image/jpeg:https://unitedskates-assets.sfo3.digitaloceanspaces.com/wp-content/uploads/sites/6/2025/11/Skate-your-Turkey-Off-2025.jpg
END:VEVENT
END:VCALENDAR