BEGIN:VCALENDAR
VERSION:2.0
PRODID:-//Rink 1 - Columbus - ECPv6.15.20//NONSGML v1.0//EN
CALSCALE:GREGORIAN
METHOD:PUBLISH
X-ORIGINAL-URL:https://www.unitedskates.com/columbus
X-WR-CALDESC:Events for Rink 1 - Columbus
REFRESH-INTERVAL;VALUE=DURATION:PT1H
X-Robots-Tag:noindex
X-PUBLISHED-TTL:PT1H
BEGIN:VTIMEZONE
TZID:America/New_York
BEGIN:DAYLIGHT
TZOFFSETFROM:-0500
TZOFFSETTO:-0400
TZNAME:EDT
DTSTART:20240310T070000
END:DAYLIGHT
BEGIN:STANDARD
TZOFFSETFROM:-0400
TZOFFSETTO:-0500
TZNAME:EST
DTSTART:20241103T060000
END:STANDARD
BEGIN:DAYLIGHT
TZOFFSETFROM:-0500
TZOFFSETTO:-0400
TZNAME:EDT
DTSTART:20250309T070000
END:DAYLIGHT
BEGIN:STANDARD
TZOFFSETFROM:-0400
TZOFFSETTO:-0500
TZNAME:EST
DTSTART:20251102T060000
END:STANDARD
BEGIN:DAYLIGHT
TZOFFSETFROM:-0500
TZOFFSETTO:-0400
TZNAME:EDT
DTSTART:20260308T070000
END:DAYLIGHT
BEGIN:STANDARD
TZOFFSETFROM:-0400
TZOFFSETTO:-0500
TZNAME:EST
DTSTART:20261101T060000
END:STANDARD
END:VTIMEZONE
BEGIN:VEVENT
DTSTART;TZID=America/New_York:20251111T180000
DTEND;TZID=America/New_York:20251111T203000
DTSTAMP:20260423T124119
CREATED:20251105T190232Z
LAST-MODIFIED:20251107T201826Z
UID:20201-1762884000-1762893000@www.unitedskates.com
SUMMARY:🫡🪖Veteran’s Day Family Skate!
DESCRIPTION:🛼✨ Veteran’s Day Family Skate! ✨🛼🇺🇸Tuesday\, November 11 | 6:00 PM – 8:30 PM \nLet’s celebrate our heroes with an evening full of family fun\, music\, and skating! 🎉 \n🪖 Returned or active military members skate FREE! \nPlease be prepared to show proof at admissions so we can thank you for your service. ❤️ \nEnjoy a great mix of:🎶 Today’s Top Hits🎶 Fun Hip-Hop Favorites🎶 Cool R&B Jams \nBring the whole family\, roll to the rhythm\, and make lasting memories together on the rink! 💫 \n🎟️ Admission: $6.00 or 2 for $10🛼 Skate Rental: $6.00🪖 Veterans Skate FREE (Proof required at admissions) \nCome celebrate\, skate\, and honor our veterans with us! 🇺🇸❤️💙 \n⏰ Session Times: Begin and end at the posted start & end time—no stayovers allowed. \n🚨 Important Info: \n\nAll guests ages 3-17 must pay admission & skate rental (or bring their own skates).\nNon-skating adults may enter at no charge.\nOnline waiver required for all adults and children entering the building. Click here to fill it out. Please have your signed waiver ready to show at check-in to make the process quick and easy. Effective 10/11/2024\n\n💥 Group Rates available for parties of 15+—Click here for reservations\n🎉 Birthday Parties available—CLICK HERE\n💡 Looking for a fun group event to earn money?—Click here for more info
URL:https://www.unitedskates.com/columbus/event/%f0%9f%ab%a1%f0%9f%aa%96veterans-day-family-skate-%f0%9f%9b%bc%e2%9c%a8/
LOCATION:OH
CATEGORIES:Family Events,Public Skates,Special Events
ATTACH;FMTTYPE=image/jpeg:https://unitedskates-assets.sfo3.digitaloceanspaces.com/wp-content/uploads/sites/6/2025/11/Veterans-Day-Weekend-2025-8.5-x-11-in.jpg
END:VEVENT
END:VCALENDAR