BEGIN:VCALENDAR
VERSION:2.0
PRODID:-//Rink 1 - Columbus - ECPv6.15.20//NONSGML v1.0//EN
CALSCALE:GREGORIAN
METHOD:PUBLISH
X-WR-CALNAME:Rink 1 - Columbus
X-ORIGINAL-URL:https://www.unitedskates.com/columbus
X-WR-CALDESC:Events for Rink 1 - Columbus
REFRESH-INTERVAL;VALUE=DURATION:PT1H
X-Robots-Tag:noindex
X-PUBLISHED-TTL:PT1H
BEGIN:VTIMEZONE
TZID:America/New_York
BEGIN:DAYLIGHT
TZOFFSETFROM:-0500
TZOFFSETTO:-0400
TZNAME:EDT
DTSTART:20240310T070000
END:DAYLIGHT
BEGIN:STANDARD
TZOFFSETFROM:-0400
TZOFFSETTO:-0500
TZNAME:EST
DTSTART:20241103T060000
END:STANDARD
BEGIN:DAYLIGHT
TZOFFSETFROM:-0500
TZOFFSETTO:-0400
TZNAME:EDT
DTSTART:20250309T070000
END:DAYLIGHT
BEGIN:STANDARD
TZOFFSETFROM:-0400
TZOFFSETTO:-0500
TZNAME:EST
DTSTART:20251102T060000
END:STANDARD
BEGIN:DAYLIGHT
TZOFFSETFROM:-0500
TZOFFSETTO:-0400
TZNAME:EDT
DTSTART:20260308T070000
END:DAYLIGHT
BEGIN:STANDARD
TZOFFSETFROM:-0400
TZOFFSETTO:-0500
TZNAME:EST
DTSTART:20261101T060000
END:STANDARD
END:VTIMEZONE
BEGIN:VEVENT
DTSTART;VALUE=DATE:20250415
DTEND;VALUE=DATE:20250427
DTSTAMP:20260425T113216
CREATED:20250326T195331Z
LAST-MODIFIED:20250409T173834Z
UID:18385-1744693200-1745643599@www.unitedskates.com
SUMMARY:Spring Break Skating
DESCRIPTION:🎉 Join us for all the fun at United Skates Columbus! 🎉\n🛼 Check out all our special events and come skate! 🛼\n🎟️ Group rates available for parties of 10+ – Click Here\n🎂 Birthday Parties Available – Click Here\n💰 Looking for something FUN that can also raise money for your group? – Click Here\nDon’t miss out on the excitement! See you on the rink! ⛸️✨
URL:https://www.unitedskates.com/columbus/event/spring-break-skating/
LOCATION:United Skates Of America Columbus\, 3362 Refugee Rd\, Columbus\, OH\, 43232\, United States
CATEGORIES:Family Events,Public Skates,Special Events
ATTACH;FMTTYPE=image/jpeg:https://unitedskates-assets.sfo3.digitaloceanspaces.com/wp-content/uploads/sites/6/2025/04/Spring-Break-2025-Calendar-Front-rink-1-v2.jpg
END:VEVENT
BEGIN:VEVENT
DTSTART;TZID=America/New_York:20250418T120000
DTEND;TZID=America/New_York:20250418T143000
DTSTAMP:20260425T113216
CREATED:20250325T154903Z
LAST-MODIFIED:20250326T210417Z
UID:18362-1744977600-1744986600@www.unitedskates.com
SUMMARY:Early Bird Spring Break Special 🌞😎
DESCRIPTION:🌻🛼 Spring Break Afternoon Skate Party 🌞🛼 \n\nApril 18th\, 2025 & Monday April 21st\nAdmission: $11.00 (Half Price Admission before 1 PM)\nSkate Rental: $6.00\n\n⏰ Session Times: Begin and end at the posted start & end time—no stayovers allowed. \n🚨 Important Info: \n\nAll guests ages 3-17 must pay admission & skate rental (or bring their own skates).\nNon-skating adults may enter at no charge.\nOnline waiver required for all adults and children entering the building. Click here to fill it out. Please have your signed waiver ready to show at check-in to make the process quick and easy. Effective 10/11/2024\n\n💥 Group Rates available for parties of 15+—Click here for reservations\n🎉 Birthday Parties available—CLICK HERE\n💡 Looking for a fun group event to earn money?—Click here for more info
URL:https://www.unitedskates.com/columbus/event/spring-break-afternoon-skate-party-%f0%9f%8c%9e%f0%9f%98%8e/2025-04-18/
LOCATION:OH
CATEGORIES:Family Events,Public Skates,Special Events
ATTACH;FMTTYPE=image/jpeg:https://unitedskates-assets.sfo3.digitaloceanspaces.com/wp-content/uploads/sites/6/2025/03/Spring-Break-Skate-2023_-1200x1200-1.jpg
END:VEVENT
BEGIN:VEVENT
DTSTART;TZID=America/New_York:20250418T150000
DTEND;TZID=America/New_York:20250418T173000
DTSTAMP:20260425T113216
CREATED:20250224T143346Z
LAST-MODIFIED:20250224T143346Z
UID:18321-1744988400-1744997400@www.unitedskates.com
SUMMARY:🌻Spring Break: $5 Happy Hour Skate 🎉
DESCRIPTION:Happy Hour Skates from 3:00-pm – 5:30pm\nAvailable on: April 15th\, 16th\, 17th\, 18th\, & 21st\n🎶🛼 Family Top 40 & Hip Hop Skate 🎶🛼 \n\nAdmission: $5.00\nSkate Rental: $6.00\n\n⏰ Session Times: Begin and end at the posted start & end time—no stayovers allowed. \n🚨 Important Info: \n\nAll guests ages 3-17 must pay admission & skate rental (or bring their own skates).\nNon-skating adults may enter at no charge.\nOnline waiver required for all adults and children entering the building. Click here to fill it out. Please have your signed waiver ready to show at check-in to make the process quick and easy. Effective 10/11/2024\n\n💥 Group Rates available for parties of 15+—Click here for reservations\n🎉 Birthday Parties available—CLICK HERE\n💡 Looking for a fun group event to earn money?—Click here for more info
URL:https://www.unitedskates.com/columbus/event/%f0%9f%8c%bbspring-break-5-happy-hour-skate-%f0%9f%8e%89-4/
LOCATION:United Skates Of America Columbus\, 3362 Refugee Rd\, Columbus\, OH\, 43232\, United States
CATEGORIES:Family Events,Public Skates,Special Events
ATTACH;FMTTYPE=image/jpeg:https://unitedskates-assets.sfo3.digitaloceanspaces.com/wp-content/uploads/sites/6/2025/02/spring-break-happy-hour-2023-1200x1200-1.jpg
END:VEVENT
BEGIN:VEVENT
DTSTART;TZID=America/New_York:20250418T180000
DTEND;TZID=America/New_York:20250418T210000
DTSTAMP:20260425T113216
CREATED:20241127T174039Z
LAST-MODIFIED:20250404T171751Z
UID:18093-1744999200-1745010000@www.unitedskates.com
SUMMARY:Spring Break HIP-HOP GLOW Skate 😎
DESCRIPTION:🌟🛼 Family GLOW Hip-Hop Skate Night! 🛼🌟 \n\nAdmission: $11.00\nSkate Rental: $6.00\nFREE Glow Stick with paid admission\n\n⏰ Session Times: Begin and end at the posted start & end time—no stayovers allowed. \n🚨 Important Info: \n\nAll guests ages 3-17 must pay admission & skate rental (or bring their own skates).\nNon-skating adults may enter at no charge.\nOnline waiver required for all adults and children entering the building. Click here to fill it out. Please have your signed waiver ready to show at check-in to make the process quick and easy. Effective 10/11/2024\n\n💥 Group Rates available for parties of 15+—Click here for reservations\n🎉 Birthday Parties available—CLICK HERE\n💡 Looking for a fun group event to earn money?—Click here for more info
URL:https://www.unitedskates.com/columbus/event/glow-public-skate-and-birthdays-parties-2-2025-04-18/
LOCATION:United Skates Of America Columbus\, 3362 Refugee Rd\, Columbus\, OH\, 43232\, United States
CATEGORIES:Family Events,Public Skates,Special Events
ATTACH;FMTTYPE=image/jpeg:https://unitedskates-assets.sfo3.digitaloceanspaces.com/wp-content/uploads/sites/6/2024/11/April18-SpringBreak-Neon-GLOW-friday.jpg
END:VEVENT
END:VCALENDAR