BEGIN:VCALENDAR
VERSION:2.0
PRODID:-//Rink 1 - Columbus - ECPv6.15.20//NONSGML v1.0//EN
CALSCALE:GREGORIAN
METHOD:PUBLISH
X-ORIGINAL-URL:https://www.unitedskates.com/columbus
X-WR-CALDESC:Events for Rink 1 - Columbus
REFRESH-INTERVAL;VALUE=DURATION:PT1H
X-Robots-Tag:noindex
X-PUBLISHED-TTL:PT1H
BEGIN:VTIMEZONE
TZID:America/New_York
BEGIN:DAYLIGHT
TZOFFSETFROM:-0500
TZOFFSETTO:-0400
TZNAME:EDT
DTSTART:20240310T070000
END:DAYLIGHT
BEGIN:STANDARD
TZOFFSETFROM:-0400
TZOFFSETTO:-0500
TZNAME:EST
DTSTART:20241103T060000
END:STANDARD
BEGIN:DAYLIGHT
TZOFFSETFROM:-0500
TZOFFSETTO:-0400
TZNAME:EDT
DTSTART:20250309T070000
END:DAYLIGHT
BEGIN:STANDARD
TZOFFSETFROM:-0400
TZOFFSETTO:-0500
TZNAME:EST
DTSTART:20251102T060000
END:STANDARD
BEGIN:DAYLIGHT
TZOFFSETFROM:-0500
TZOFFSETTO:-0400
TZNAME:EDT
DTSTART:20260308T070000
END:DAYLIGHT
BEGIN:STANDARD
TZOFFSETFROM:-0400
TZOFFSETTO:-0500
TZNAME:EST
DTSTART:20261101T060000
END:STANDARD
END:VTIMEZONE
BEGIN:VEVENT
DTSTART;TZID=America/New_York:20250214T180000
DTEND;TZID=America/New_York:20250217T220000
DTSTAMP:20260425T185547
CREATED:20250122T144923Z
LAST-MODIFIED:20250124T173704Z
UID:17912-1739556000-1739829600@www.unitedskates.com
SUMMARY:Presidents' Day Weekend Roller Skating
DESCRIPTION:🎉 School’s Out\, Let’s Skate! 🛼 Presidents’ Day Weekend Fun Awaits! 🇺🇸 \nLooking for an exciting way to spend Presidents’ Day Weekend? Grab your family and friends and roll into the best celebration at United Skates of America! \n✨ Weekend Highlights: ❤️ Friday\, Feb 14 – Valentine’s Day Glow Skate\nSkate to Hip Hop & R&B from 6:00 PM to 9:00 PM. Admission is $11\, and you’ll get a FREE lightstick when you wear red! \n🎵 Saturday\, Feb 15 & Sunday\, Feb 16 – Top 40 Music Skate\nCatch the hottest music\, from 1:00 PM to 3:30 PM\, or enjoy themed Hip Hop & R&B Skate sessions throughout the day. \n🇺🇸 Monday\, Feb 17 – Presidents’ Day Specials\nStart your holiday with our Happy Hour Skate from 10:00 AM to 12:00 PM for just $6 (includes a free 10-credit game card)! End the day with fun-filled skating sessions for all ages. \nWhy Join Us?\n✅ A weekend packed with fun for everyone!\n✅ Delicious treats at our café.\n✅ Affordable pricing: Admission starts at $6\, with skate rental just $6. \n🗓 Mark your calendars and don’t miss out!\n📍 Location: 3362 Refugee Rd\, Columbus\, OH\n📞 Contact us: 614-239-7202\n🌐 Learn more: UnitedSkates.com/Columbus \nLet’s roll through the long weekend together! See you at the rink! 🛼✨
URL:https://www.unitedskates.com/columbus/event/presidents-day-weekend-roller-skating/
LOCATION:OH
CATEGORIES:Family Events,Public Skates,Special Events
ATTACH;FMTTYPE=image/jpeg:https://unitedskates-assets.sfo3.digitaloceanspaces.com/wp-content/uploads/sites/6/2025/01/Pres-day-weekend-2025-calendar-Front-rink-1.jpg
END:VEVENT
BEGIN:VEVENT
DTSTART;TZID=America/New_York:20250217T100000
DTEND;TZID=America/New_York:20250217T120000
DTSTAMP:20260425T185547
CREATED:20250124T183435Z
LAST-MODIFIED:20250124T183436Z
UID:17924-1739786400-1739793600@www.unitedskates.com
SUMMARY:Public Skating and Birthday Parties; Presidents' Day
DESCRIPTION:❤️💙Presidents Day Skating & Birthday Parties! ❤️💙 \nCelebrate the holiday with 3 Great Sessions of skating fun! 🎶 \n\n⏰ 10:00 AM–12:00 PM\nCheap Skate \n\n🎟️ Admission: $6.00\n🛼 Skate Rental: $6.00\n\n\n⏰ 12:00 PM–3:00 PM\nGame Day Skate \n\n🎟️ Admission: $11.00 (includes a FREE 10-Credit Game Card!)\n🛼 Skate Rental: $6.00\n\n\n⏰ 3:30 PM–6:30 PM\nPublic Family Skate / Hip-Hop / R&B \n\n🎟️ Admission: $11.00\n🛼 Skate Rental: $6.00\n\n⏰ Session Times: Begin and end at the posted start & end time—no stayovers allowed. \n🚨 Important Info: \n\nAll guests ages 3-17 must pay admission & skate rental (or bring their own skates).\nNon-skating adults may enter at no charge.\nOnline waiver required for all adults and children entering the building. Click here to fill it out. Please have your signed waiver ready to show at check-in to make the process quick and easy. Effective 10/11/2024\n\n💥 Group Rates available for parties of 15+—Click here for reservations\n🎉 Birthday Parties available—CLICK HERE\n💡 Looking for a fun group event to earn money?—Click here for more info
URL:https://www.unitedskates.com/columbus/event/public-skating-and-birthday-parties-presidents-day/2025-02-17/
LOCATION:United Skates Of America Columbus\, 3362 Refugee Rd\, Columbus\, OH\, 43232\, United States
CATEGORIES:Family Events,Public Skates,Special Events
ATTACH;FMTTYPE=image/jpeg:https://unitedskates-assets.sfo3.digitaloceanspaces.com/wp-content/uploads/sites/6/2025/01/R1.-Presidents-Day-021725.jpg
END:VEVENT
END:VCALENDAR