BEGIN:VCALENDAR
VERSION:2.0
PRODID:-//Rink 1 - Columbus - ECPv6.15.20//NONSGML v1.0//EN
CALSCALE:GREGORIAN
METHOD:PUBLISH
X-ORIGINAL-URL:https://www.unitedskates.com/columbus
X-WR-CALDESC:Events for Rink 1 - Columbus
REFRESH-INTERVAL;VALUE=DURATION:PT1H
X-Robots-Tag:noindex
X-PUBLISHED-TTL:PT1H
BEGIN:VTIMEZONE
TZID:America/New_York
BEGIN:DAYLIGHT
TZOFFSETFROM:-0500
TZOFFSETTO:-0400
TZNAME:EDT
DTSTART:20240310T070000
END:DAYLIGHT
BEGIN:STANDARD
TZOFFSETFROM:-0400
TZOFFSETTO:-0500
TZNAME:EST
DTSTART:20241103T060000
END:STANDARD
BEGIN:DAYLIGHT
TZOFFSETFROM:-0500
TZOFFSETTO:-0400
TZNAME:EDT
DTSTART:20250309T070000
END:DAYLIGHT
BEGIN:STANDARD
TZOFFSETFROM:-0400
TZOFFSETTO:-0500
TZNAME:EST
DTSTART:20251102T060000
END:STANDARD
BEGIN:DAYLIGHT
TZOFFSETFROM:-0500
TZOFFSETTO:-0400
TZNAME:EDT
DTSTART:20260308T070000
END:DAYLIGHT
BEGIN:STANDARD
TZOFFSETFROM:-0400
TZOFFSETTO:-0500
TZNAME:EST
DTSTART:20261101T060000
END:STANDARD
END:VTIMEZONE
BEGIN:VEVENT
DTSTART;TZID=America/New_York:20250703T120000
DTEND;TZID=America/New_York:20250703T150000
DTSTAMP:20260424T071855
CREATED:20250430T161704Z
LAST-MODIFIED:20250430T161705Z
UID:19124-1751544000-1751554800@www.unitedskates.com
SUMMARY:Public Skating and Birthdays
DESCRIPTION:🛼 July 3rd\, 2025 – Summer Top 40 Pop GLOW Skate RWB 🛼 \n\nAdmission: $10.00\nSkate Rental: $6.00\nWear Red\, White & Blue for a FREE Glow Stick\n\n⏰ Session Times: Begin and end at the posted start & end time—no stayovers allowed. \n🚨 Important Info: \n\nAll guests ages 3-17 must pay admission & skate rental (or bring their own skates).\nNon-skating adults may enter at no charge.\nOnline waiver required for all adults and children entering the building. Click here to fill it out. Please have your signed waiver ready to show at check-in to make the process quick and easy. Effective 10/11/2024\n\n💥 Group Rates available for parties of 15+—Click here for reservations\n🎉 Birthday Parties available—CLICK HERE\n💡 Looking for a fun group event to earn money?—Click here for more info
URL:https://www.unitedskates.com/columbus/event/public-skating-and-birthdays-7/
LOCATION:United Skates Of America Columbus\, 3362 Refugee Rd\, Columbus\, OH\, 43232\, United States
CATEGORIES:Family Events,Public Skates,Special Events
ATTACH;FMTTYPE=image/jpeg:https://unitedskates-assets.sfo3.digitaloceanspaces.com/wp-content/uploads/sites/6/2025/04/rwb-skates.jpg
END:VEVENT
BEGIN:VEVENT
DTSTART;TZID=America/New_York:20250711T120000
DTEND;TZID=America/New_York:20250711T140000
DTSTAMP:20260424T071855
CREATED:20250430T164624Z
LAST-MODIFIED:20250709T183329Z
UID:19181-1752235200-1752242400@www.unitedskates.com
SUMMARY:Public Skating and Birthdays
DESCRIPTION:🎶🛼 Friday July 11th\, 2025 –  Summer Daytime Top 40 Pop Skate 🎶🛼 \n\nAdmission: $10.00\nSkate Rental: $6.00\n\n⏰ Session Times: Begin and end at the posted start & end time—no stayovers allowed. \n🚨 Important Info: \n\nAll guests ages 3-17 must pay admission & skate rental (or bring their own skates).\nNon-skating adults may enter at no charge.\nOnline waiver required for all adults and children entering the building. Click here to fill it out. Please have your signed waiver ready to show at check-in to make the process quick and easy. Effective 10/11/2024\n\n💥 Group Rates available for parties of 15+—Click here for reservations\n🎉 Birthday Parties available—CLICK HERE\n💡 Looking for a fun group event to earn money?—Click here for more info
URL:https://www.unitedskates.com/columbus/event/public-skating-and-birthdays-9/
LOCATION:United Skates Of America Columbus\, 3362 Refugee Rd\, Columbus\, OH\, 43232\, United States
CATEGORIES:Family Events,Public Skates,Special Events
ATTACH;FMTTYPE=image/jpeg:https://unitedskates-assets.sfo3.digitaloceanspaces.com/wp-content/uploads/sites/6/2025/04/600px-Summer-Fun-Skate-1200x1200-1.jpg
END:VEVENT
BEGIN:VEVENT
DTSTART;TZID=America/New_York:20250716T080000
DTEND;TZID=America/New_York:20250716T170000
DTSTAMP:20260424T071855
CREATED:20250430T170101Z
LAST-MODIFIED:20250430T170102Z
UID:19237-1752652800-1752685200@www.unitedskates.com
SUMMARY:Public Skating and Birthdays
DESCRIPTION:🛼✨ July 16th\, 2025 – Wednesday Skate Special with SONIC! ✨🛼 \n\nAdmission: $8.00\nSkate Rental: INCLUDED\nAdmission available to purchase online or at door https://bzone.bookingzone.com/EwAynD\n\n🚨 Important Info: \n\nAll guests ages 3-17 must pay admission & skate rental (or bring their own skates).\nNon-skating adults may enter at no charge.\nOnline waiver required for all guests—Click here to fill it out. Please have your signed waiver ready to show at check-in for a quicker process. Effective 10/11/24\n\n💥 Group Rates available for parties of 15+—Click here for reservations\n🎉 Birthday Parties available—CLICK HERE\n💡 Looking for a fun group event to earn money?—Click here for more info \n  \nMake Tuesdays your summer skate party! 🛼✨
URL:https://www.unitedskates.com/columbus/event/public-skating-and-birthdays-10/
LOCATION:OH
CATEGORIES:Family Events,Public Skates,Special Events
ATTACH;FMTTYPE=image/jpeg:https://unitedskates-assets.sfo3.digitaloceanspaces.com/wp-content/uploads/sites/6/2025/04/sonic-skate-071625.jpg
END:VEVENT
BEGIN:VEVENT
DTSTART;TZID=America/New_York:20250721T120000
DTEND;TZID=America/New_York:20250721T150000
DTSTAMP:20260424T071855
CREATED:20250429T190732Z
LAST-MODIFIED:20250610T184327Z
UID:19263-1753099200-1753110000@www.unitedskates.com
SUMMARY:Public Skating and Birthdays
DESCRIPTION:🛼✨ Monday Skate Special! ✨🛼 \nJoin us every Monday from 12pm-3:00pm for an amazing deal! \n\nAdmission: $5.00\nSkate Rental: $6\nAdmission available to purchase online or at door https://bzone.bookingzone.com/EwAynD\n\n🚨 Important Info: \n\nAll guests ages 3-17 must pay admission & skate rental (or bring their own skates).\nNon-skating adults may enter at no charge.\nOnline waiver required for all guests—Click here to fill it out. Please have your signed waiver ready to show at check-in for a quicker process. Effective 10/11/24\n\n💥 Group Rates available for parties of 15+—Click here for reservations\n🎉 Birthday Parties available—CLICK HERE\n💡 Looking for a fun group event to earn money?—Click here for more info \n  \nMake Mondays your summer skate party! 🛼✨
URL:https://www.unitedskates.com/columbus/event/public-skating-and-birthdays-6/2025-07-21/
LOCATION:United Skates Of America Columbus\, 3362 Refugee Rd\, Columbus\, OH\, 43232\, United States
CATEGORIES:Family Events,Public Skates
ATTACH;FMTTYPE=image/jpeg:https://unitedskates-assets.sfo3.digitaloceanspaces.com/wp-content/uploads/sites/6/2025/04/5-Dollar-Monday-2025-1.jpg
END:VEVENT
BEGIN:VEVENT
DTSTART;TZID=America/New_York:20250722T120000
DTEND;TZID=America/New_York:20250722T150000
DTSTAMP:20260424T071855
CREATED:20250429T180946Z
LAST-MODIFIED:20250430T171123Z
UID:19067-1753185600-1753196400@www.unitedskates.com
SUMMARY:Public Skating and Birthday Parties
DESCRIPTION:🛼✨ Tuesday Skate Special! ✨🛼 \nJoin us every Tuesday from 12pm-3:00pm or 6-8:30 PM for an amazing deal! \n\nAdmission: Two for $10 or One for $6\nSkate Rental: $6\nAdmission available to purchase online or at door https://bzone.bookingzone.com/EwAynD\n\n🚨 Important Info: \n\nAll guests ages 3-17 must pay admission & skate rental (or bring their own skates).\nNon-skating adults may enter at no charge.\nOnline waiver required for all guests—Click here to fill it out. Please have your signed waiver ready to show at check-in for a quicker process. Effective 10/11/24\n\n💥 Group Rates available for parties of 15+—Click here for reservations\n🎉 Birthday Parties available—CLICK HERE\n💡 Looking for a fun group event to earn money?—Click here for more info \n  \nMake Tuesdays your summer skate party! 🛼✨
URL:https://www.unitedskates.com/columbus/event/public-skating-and-birthday-parties-12/2025-07-22/
LOCATION:United Skates Of America Columbus\, 3362 Refugee Rd\, Columbus\, OH\, 43232\, United States
CATEGORIES:Family Events,Public Skates
ATTACH;FMTTYPE=image/jpeg:https://unitedskates-assets.sfo3.digitaloceanspaces.com/wp-content/uploads/sites/6/2025/04/438304187_828876685954232_5863325872703365779_n.jpg
END:VEVENT
BEGIN:VEVENT
DTSTART;TZID=America/New_York:20250723T120000
DTEND;TZID=America/New_York:20250723T150000
DTSTAMP:20260424T071855
CREATED:20250429T181450Z
LAST-MODIFIED:20250610T182502Z
UID:19057-1753272000-1753282800@www.unitedskates.com
SUMMARY:Public Skating and Birthday Parties
DESCRIPTION:🛼✨ Wednesday Skate Special! ✨🛼 \nJoin us every Wednesday from 12pm-3:00pm or 6-8:30 PM for an amazing deal! \n\nAdmission: $8.00\nSkate Rental: INCLUDED\nAdmission available to purchase online or at door https://bzone.bookingzone.com/EwAynD\n\n🚨 Important Info: \n\nAll guests ages 3-17 must pay admission & skate rental (or bring their own skates).\nNon-skating adults may enter at no charge.\nOnline waiver required for all guests—Click here to fill it out. Please have your signed waiver ready to show at check-in for a quicker process. Effective 10/11/24\n\n💥 Group Rates available for parties of 15+—Click here for reservations\n🎉 Birthday Parties available—CLICK HERE\n💡 Looking for a fun group event to earn money?—Click here for more info \n  \nMake Tuesdays your summer skate party! 🛼✨
URL:https://www.unitedskates.com/columbus/event/public-skating-and-birthday-parties-14-2025-06-11/2025-07-23/
LOCATION:United Skates Of America Columbus\, 3362 Refugee Rd\, Columbus\, OH\, 43232\, United States
CATEGORIES:Family Events,Public Skates
ATTACH;FMTTYPE=image/jpeg:https://unitedskates-assets.sfo3.digitaloceanspaces.com/wp-content/uploads/sites/6/2025/04/OH25-001-Skate-for-8-Summer-Break-Flyer-columbus-1-scaled.jpg
END:VEVENT
BEGIN:VEVENT
DTSTART;TZID=America/New_York:20250723T180000
DTEND;TZID=America/New_York:20250723T203000
DTSTAMP:20260424T071855
CREATED:20250429T181947Z
LAST-MODIFIED:20250805T194907Z
UID:19302-1753293600-1753302600@www.unitedskates.com
SUMMARY:Public Skating and Birthday Parties
DESCRIPTION:🛼✨ Wednesday Skate Special! ✨🛼 \nJoin us every Wednesday from 12pm-3:00pm or 6-8:30 PM for an amazing deal! \n\nAdmission: $8.00\nSkate Rental: INCLUDED\nAdmission available to purchase online or at door https://bzone.bookingzone.com/EwAynD\n\n🚨 Important Info: \n\nAll guests ages 3-17 must pay admission & skate rental (or bring their own skates).\nNon-skating adults may enter at no charge.\nOnline waiver required for all guests—Click here to fill it out. Please have your signed waiver ready to show at check-in for a quicker process. Effective 10/11/24\n\n💥 Group Rates available for parties of 15+—Click here for reservations\n🎉 Birthday Parties available—CLICK HERE\n💡 Looking for a fun group event to earn money?—Click here for more info \n  \nMake Tuesdays your summer skate party! 🛼✨
URL:https://www.unitedskates.com/columbus/event/public-skating-and-birthday-parties-15/2025-07-23/
LOCATION:OH
CATEGORIES:Family Events,Public Skates
ATTACH;FMTTYPE=image/jpeg:https://unitedskates-assets.sfo3.digitaloceanspaces.com/wp-content/uploads/sites/6/2025/04/OH25-001-Skate-for-8-Summer-Break-Flyer-columbus-1-scaled.jpg
END:VEVENT
BEGIN:VEVENT
DTSTART;TZID=America/New_York:20250724T120000
DTEND;TZID=America/New_York:20250724T150000
DTSTAMP:20260424T071855
CREATED:20250430T162544Z
LAST-MODIFIED:20250430T162544Z
UID:19167-1753358400-1753369200@www.unitedskates.com
SUMMARY:Public Skating and Birthday Parties
DESCRIPTION:🌟🛼 July 24th\, 2025 – Glow Skate & Game Time🛼🌟 \n\nAdmission: $10.00\nSkate Rental: $6.00\nFree 5 Credit Game Card with paid admission\n\n⏰ Session Times: Begin and end at the posted start & end time—no stayovers allowed. \n🚨 Important Info: \n\nAll guests ages 3-17 must pay admission & skate rental (or bring their own skates).\nNon-skating adults may enter at no charge.\nOnline waiver required for all adults and children entering the building. Click here to fill it out. Please have your signed waiver ready to show at check-in to make the process quick and easy. Effective 10/11/2024\n\n💥 Group Rates available for parties of 15+—Click here for reservations\n🎉 Birthday Parties available—CLICK HERE\n💡 Looking for a fun group event to earn money?—Click here for more info
URL:https://www.unitedskates.com/columbus/event/public-skating-and-birthday-parties-21/
LOCATION:United Skates Of America Columbus\, 3362 Refugee Rd\, Columbus\, OH\, 43232\, United States
CATEGORIES:Public Skates,Special Events
ATTACH;FMTTYPE=image/jpeg:https://unitedskates-assets.sfo3.digitaloceanspaces.com/wp-content/uploads/sites/6/2025/04/game-night-2022-1200x1200-1.jpg
END:VEVENT
BEGIN:VEVENT
DTSTART;TZID=America/New_York:20250724T180000
DTEND;TZID=America/New_York:20250724T203000
DTSTAMP:20260424T071855
CREATED:20250429T183401Z
LAST-MODIFIED:20250813T180844Z
UID:18744-1753380000-1753389000@www.unitedskates.com
SUMMARY:Public Skating and Birthdays
DESCRIPTION:1/2 Price Summertime Skate 😎💰 \nFamily Top 40 Pop Skate \n\nAdmission: $5.50\nSkate Rental: $6.00\n\n⏰ Session Times: Begin and end at the posted start & end time—no stayovers allowed. \n🚨 Important Info: \n\nAll guests ages 3-17 must pay admission & skate rental (or bring their own skates).\nNon-skating adults may enter at no charge.\nOnline waiver required for all adults and children entering the building. Click here to fill it out. Please have your signed waiver ready to show at check-in to make the process quick and easy. Effective 10/11/2024\n\n💥 Group Rates available for parties of 15+—Click here for reservations\n🎉 Birthday Parties available—CLICK HERE\n💡 Looking for a fun group event to earn money?—Click here for more info
URL:https://www.unitedskates.com/columbus/event/public-skating-birthdays/2025-07-24/
LOCATION:United Skates Of America Columbus\, 3362 Refugee Rd\, Columbus\, OH\, 43232\, United States
CATEGORIES:Family Events,Public Skates
ATTACH;FMTTYPE=image/jpeg:https://unitedskates-assets.sfo3.digitaloceanspaces.com/wp-content/uploads/sites/6/2025/04/Half-Price-Skate-2022-1200x1200-1.jpg
END:VEVENT
BEGIN:VEVENT
DTSTART;TZID=America/New_York:20250725T120000
DTEND;TZID=America/New_York:20250725T150000
DTSTAMP:20260424T071855
CREATED:20250429T183722Z
LAST-MODIFIED:20250430T164730Z
UID:19109-1753444800-1753455600@www.unitedskates.com
SUMMARY:Public Skating and Birthday Parties
DESCRIPTION:🎶🛼 Summer Daytime Top 40 Pop Skate 🎶🛼 \n\nAdmission: $10.00\nSkate Rental: $6.00\n\n⏰ Session Times: Begin and end at the posted start & end time—no stayovers allowed. \n🚨 Important Info: \n\nAll guests ages 3-17 must pay admission & skate rental (or bring their own skates).\nNon-skating adults may enter at no charge.\nOnline waiver required for all adults and children entering the building. Click here to fill it out. Please have your signed waiver ready to show at check-in to make the process quick and easy. Effective 10/11/2024\n\n💥 Group Rates available for parties of 15+—Click here for reservations\n🎉 Birthday Parties available—CLICK HERE\n💡 Looking for a fun group event to earn money?—Click here for more info
URL:https://www.unitedskates.com/columbus/event/public-skating-and-birthday-parties-17/2025-07-25/
LOCATION:United Skates Of America Columbus\, 3362 Refugee Rd\, Columbus\, OH\, 43232\, United States
CATEGORIES:Family Events,Public Skates
ATTACH;FMTTYPE=image/jpeg:https://unitedskates-assets.sfo3.digitaloceanspaces.com/wp-content/uploads/sites/6/2025/04/600px-Summer-Fun-Skate-1200x1200-1.jpg
END:VEVENT
BEGIN:VEVENT
DTSTART;TZID=America/New_York:20250726T120000
DTEND;TZID=America/New_York:20250726T150000
DTSTAMP:20260424T071855
CREATED:20250429T175727Z
LAST-MODIFIED:20260106T231812Z
UID:20874-1753531200-1753542000@www.unitedskates.com
SUMMARY:Public Skating and Birthdays
DESCRIPTION:🎶🛼 Family Top 40 Pop Skate 🎶🛼 \n\nAdmission: $11.00\nSkate Rental: $6.00\nAdmission available to purchase online or at door https://bzone.bookingzone.com/EwAynD\n\n⏰ Session Times: Begin and end at the posted start & end time—no stayovers allowed. \n🚨 Important Info: \n\nAll guests ages 3-17 must pay admission & skate rental (or bring their own skates).\nNon-skating adults may enter at no charge.\nOnline waiver required for all adults and children entering the building. Click here to fill it out. Please have your signed waiver ready to show at check-in to make the process quick and easy. Effective 10/11/2024\n\n💥 Group Rates available for parties of 15+—Click here for reservations\n🎉 Birthday Parties available—CLICK HERE\n💡 Looking for a fun group event to earn money?—Click here for more info
URL:https://www.unitedskates.com/columbus/event/public-skating-and-birthdays-3/2025-07-26/
LOCATION:United Skates Of America Columbus\, 3362 Refugee Rd\, Columbus\, OH\, 43232\, United States
CATEGORIES:Family Events,Public Skates
ATTACH;FMTTYPE=image/jpeg:https://unitedskates-assets.sfo3.digitaloceanspaces.com/wp-content/uploads/sites/6/2025/04/600px-Family-Skate-1200x1200-1.jpg
END:VEVENT
BEGIN:VEVENT
DTSTART;TZID=America/New_York:20250727T130000
DTEND;TZID=America/New_York:20250727T153000
DTSTAMP:20260424T071855
CREATED:20250723T180049Z
LAST-MODIFIED:20250723T180050Z
UID:19575-1753621200-1753630200@www.unitedskates.com
SUMMARY:$5 Sundays Family Skating
DESCRIPTION:🎶🛼 Family Top 40 Music Skate 🎶🛼 \n\nAdmission: $11.00\nSkate Rental: $6.00\nAdmission available to purchase online or at door https://bzone.bookingzone.com/EwAynD\n\n⏰ Session Times: Begin and end at the posted start & end time—no stayovers allowed. \n🚨 Important Info: \n\nAll guests ages 3-17 must pay admission & skate rental (or bring their own skates).\nNon-skating adults may enter at no charge.\nOnline waiver required for all adults and children entering the building. Click here to fill it out. Please have your signed waiver ready to show at check-in to make the process quick and easy. Effective 10/11/2024\n\n💥 Group Rates available for parties of 15+—Click here for reservations\n🎉 Birthday Parties available—CLICK HERE\n💡 Looking for a fun group event to earn money?—Click here for more info
URL:https://www.unitedskates.com/columbus/event/5-sundays-family-skating/2025-07-27/
LOCATION:United Skates Of America Columbus\, 3362 Refugee Rd\, Columbus\, OH\, 43232\, United States
CATEGORIES:Family Events,Public Skates
ATTACH;FMTTYPE=image/jpeg:https://unitedskates-assets.sfo3.digitaloceanspaces.com/wp-content/uploads/sites/6/2025/07/1-5-dollar-sundays.jpg
END:VEVENT
BEGIN:VEVENT
DTSTART;TZID=America/New_York:20250728T120000
DTEND;TZID=America/New_York:20250728T150000
DTSTAMP:20260424T071855
CREATED:20250430T170713Z
LAST-MODIFIED:20250610T183816Z
UID:19266-1753704000-1753714800@www.unitedskates.com
SUMMARY:Public Skating and Birthday Parties
DESCRIPTION:🛼✨ July 28th\, 2025 – Monday Skate Special and Olaf’s Beach Party! ✨🛼 \nJoin us every Monday from 12pm-3:00pm for an amazing deal! \n\nAdmission: $5.00\nSkate Rental: $6\nFrozen Cafe Items Dave $1.00\nAdmission available to purchase online or at door https://bzone.bookingzone.com/EwAynD\n\n🚨 Important Info: \n\nAll guests ages 3-17 must pay admission & skate rental (or bring their own skates).\nNon-skating adults may enter at no charge.\nOnline waiver required for all guests—Click here to fill it out. Please have your signed waiver ready to show at check-in for a quicker process. Effective 10/11/24\n\n💥 Group Rates available for parties of 15+—Click here for reservations\n🎉 Birthday Parties available—CLICK HERE\n💡 Looking for a fun group event to earn money?—Click here for more info \n  \nMake Mondays your summer skate party! 🛼✨
URL:https://www.unitedskates.com/columbus/event/public-skating-and-birthday-parties-23/
LOCATION:United Skates Of America Columbus\, 3362 Refugee Rd\, Columbus\, OH\, 43232\, United States
CATEGORIES:Family Events,Public Skates,Special Events
ATTACH;FMTTYPE=image/jpeg:https://unitedskates-assets.sfo3.digitaloceanspaces.com/wp-content/uploads/sites/6/2025/04/Olaf-Beach-Party-skate-072825-1.jpg
END:VEVENT
BEGIN:VEVENT
DTSTART;TZID=America/New_York:20250729T120000
DTEND;TZID=America/New_York:20250729T150000
DTSTAMP:20260424T071855
CREATED:20250429T180946Z
LAST-MODIFIED:20250430T171123Z
UID:19068-1753790400-1753801200@www.unitedskates.com
SUMMARY:Public Skating and Birthday Parties
DESCRIPTION:🛼✨ Tuesday Skate Special! ✨🛼 \nJoin us every Tuesday from 12pm-3:00pm or 6-8:30 PM for an amazing deal! \n\nAdmission: Two for $10 or One for $6\nSkate Rental: $6\nAdmission available to purchase online or at door https://bzone.bookingzone.com/EwAynD\n\n🚨 Important Info: \n\nAll guests ages 3-17 must pay admission & skate rental (or bring their own skates).\nNon-skating adults may enter at no charge.\nOnline waiver required for all guests—Click here to fill it out. Please have your signed waiver ready to show at check-in for a quicker process. Effective 10/11/24\n\n💥 Group Rates available for parties of 15+—Click here for reservations\n🎉 Birthday Parties available—CLICK HERE\n💡 Looking for a fun group event to earn money?—Click here for more info \n  \nMake Tuesdays your summer skate party! 🛼✨
URL:https://www.unitedskates.com/columbus/event/public-skating-and-birthday-parties-12/2025-07-29/
LOCATION:United Skates Of America Columbus\, 3362 Refugee Rd\, Columbus\, OH\, 43232\, United States
CATEGORIES:Family Events,Public Skates
ATTACH;FMTTYPE=image/jpeg:https://unitedskates-assets.sfo3.digitaloceanspaces.com/wp-content/uploads/sites/6/2025/04/438304187_828876685954232_5863325872703365779_n.jpg
END:VEVENT
BEGIN:VEVENT
DTSTART;TZID=America/New_York:20250730T120000
DTEND;TZID=America/New_York:20250730T150000
DTSTAMP:20260424T071856
CREATED:20250429T181450Z
LAST-MODIFIED:20250610T182503Z
UID:19058-1753876800-1753887600@www.unitedskates.com
SUMMARY:Public Skating and Birthday Parties
DESCRIPTION:🛼✨ Wednesday Skate Special! ✨🛼 \nJoin us every Wednesday from 12pm-3:00pm or 6-8:30 PM for an amazing deal! \n\nAdmission: $8.00\nSkate Rental: INCLUDED\nAdmission available to purchase online or at door https://bzone.bookingzone.com/EwAynD\n\n🚨 Important Info: \n\nAll guests ages 3-17 must pay admission & skate rental (or bring their own skates).\nNon-skating adults may enter at no charge.\nOnline waiver required for all guests—Click here to fill it out. Please have your signed waiver ready to show at check-in for a quicker process. Effective 10/11/24\n\n💥 Group Rates available for parties of 15+—Click here for reservations\n🎉 Birthday Parties available—CLICK HERE\n💡 Looking for a fun group event to earn money?—Click here for more info \n  \nMake Tuesdays your summer skate party! 🛼✨
URL:https://www.unitedskates.com/columbus/event/public-skating-and-birthday-parties-14-2025-06-11/2025-07-30/
LOCATION:United Skates Of America Columbus\, 3362 Refugee Rd\, Columbus\, OH\, 43232\, United States
CATEGORIES:Family Events,Public Skates
ATTACH;FMTTYPE=image/jpeg:https://unitedskates-assets.sfo3.digitaloceanspaces.com/wp-content/uploads/sites/6/2025/04/OH25-001-Skate-for-8-Summer-Break-Flyer-columbus-1-scaled.jpg
END:VEVENT
BEGIN:VEVENT
DTSTART;TZID=America/New_York:20250730T180000
DTEND;TZID=America/New_York:20250730T203000
DTSTAMP:20260424T071856
CREATED:20250429T181947Z
LAST-MODIFIED:20250805T194907Z
UID:19303-1753898400-1753907400@www.unitedskates.com
SUMMARY:Public Skating and Birthday Parties
DESCRIPTION:🛼✨ Wednesday Skate Special! ✨🛼 \nJoin us every Wednesday from 12pm-3:00pm or 6-8:30 PM for an amazing deal! \n\nAdmission: $8.00\nSkate Rental: INCLUDED\nAdmission available to purchase online or at door https://bzone.bookingzone.com/EwAynD\n\n🚨 Important Info: \n\nAll guests ages 3-17 must pay admission & skate rental (or bring their own skates).\nNon-skating adults may enter at no charge.\nOnline waiver required for all guests—Click here to fill it out. Please have your signed waiver ready to show at check-in for a quicker process. Effective 10/11/24\n\n💥 Group Rates available for parties of 15+—Click here for reservations\n🎉 Birthday Parties available—CLICK HERE\n💡 Looking for a fun group event to earn money?—Click here for more info \n  \nMake Tuesdays your summer skate party! 🛼✨
URL:https://www.unitedskates.com/columbus/event/public-skating-and-birthday-parties-15/2025-07-30/
LOCATION:OH
CATEGORIES:Family Events,Public Skates
ATTACH;FMTTYPE=image/jpeg:https://unitedskates-assets.sfo3.digitaloceanspaces.com/wp-content/uploads/sites/6/2025/04/OH25-001-Skate-for-8-Summer-Break-Flyer-columbus-1-scaled.jpg
END:VEVENT
BEGIN:VEVENT
DTSTART;TZID=America/New_York:20250731T120000
DTEND;TZID=America/New_York:20250731T150000
DTSTAMP:20260424T071856
CREATED:20250430T162902Z
LAST-MODIFIED:20250430T162902Z
UID:19170-1753963200-1753974000@www.unitedskates.com
SUMMARY:Public Skating and Birthday Parties
DESCRIPTION:🌟🛼 July 31st\, 2025 – Glow Skate & Cotton Candy🛼🌟 \n\nAdmission: $10.00\nSkate Rental: $6.00\nFree small cotton candy with paid admission\n\n⏰ Session Times: Begin and end at the posted start & end time—no stayovers allowed. \n🚨 Important Info: \n\nAll guests ages 3-17 must pay admission & skate rental (or bring their own skates).\nNon-skating adults may enter at no charge.\nOnline waiver required for all adults and children entering the building. Click here to fill it out. Please have your signed waiver ready to show at check-in to make the process quick and easy. Effective 10/11/2024\n\n💥 Group Rates available for parties of 15+—Click here for reservations\n🎉 Birthday Parties available—CLICK HERE\n💡 Looking for a fun group event to earn money?—Click here for more info
URL:https://www.unitedskates.com/columbus/event/public-skating-and-birthday-parties-22/
LOCATION:United Skates Of America Columbus\, 3362 Refugee Rd\, Columbus\, OH\, 43232\, United States
CATEGORIES:Family Events,Public Skates,Special Events
ATTACH;FMTTYPE=image/jpeg:https://unitedskates-assets.sfo3.digitaloceanspaces.com/wp-content/uploads/sites/6/2025/04/Free-CottonCandy-Skate-2022-1200x1200-1.jpg
END:VEVENT
BEGIN:VEVENT
DTSTART;TZID=America/New_York:20250731T180000
DTEND;TZID=America/New_York:20250731T203000
DTSTAMP:20260424T071856
CREATED:20250429T183401Z
LAST-MODIFIED:20250813T180844Z
UID:18745-1753984800-1753993800@www.unitedskates.com
SUMMARY:Public Skating and Birthdays
DESCRIPTION:1/2 Price Summertime Skate 😎💰 \nFamily Top 40 Pop Skate \n\nAdmission: $5.50\nSkate Rental: $6.00\n\n⏰ Session Times: Begin and end at the posted start & end time—no stayovers allowed. \n🚨 Important Info: \n\nAll guests ages 3-17 must pay admission & skate rental (or bring their own skates).\nNon-skating adults may enter at no charge.\nOnline waiver required for all adults and children entering the building. Click here to fill it out. Please have your signed waiver ready to show at check-in to make the process quick and easy. Effective 10/11/2024\n\n💥 Group Rates available for parties of 15+—Click here for reservations\n🎉 Birthday Parties available—CLICK HERE\n💡 Looking for a fun group event to earn money?—Click here for more info
URL:https://www.unitedskates.com/columbus/event/public-skating-birthdays/2025-07-31/
LOCATION:United Skates Of America Columbus\, 3362 Refugee Rd\, Columbus\, OH\, 43232\, United States
CATEGORIES:Family Events,Public Skates
ATTACH;FMTTYPE=image/jpeg:https://unitedskates-assets.sfo3.digitaloceanspaces.com/wp-content/uploads/sites/6/2025/04/Half-Price-Skate-2022-1200x1200-1.jpg
END:VEVENT
END:VCALENDAR