BEGIN:VCALENDAR
VERSION:2.0
PRODID:-//Rink 1 - Columbus - ECPv6.15.20//NONSGML v1.0//EN
CALSCALE:GREGORIAN
METHOD:PUBLISH
X-ORIGINAL-URL:https://www.unitedskates.com/columbus
X-WR-CALDESC:Events for Rink 1 - Columbus
REFRESH-INTERVAL;VALUE=DURATION:PT1H
X-Robots-Tag:noindex
X-PUBLISHED-TTL:PT1H
BEGIN:VTIMEZONE
TZID:America/New_York
BEGIN:DAYLIGHT
TZOFFSETFROM:-0500
TZOFFSETTO:-0400
TZNAME:EDT
DTSTART:20240310T070000
END:DAYLIGHT
BEGIN:STANDARD
TZOFFSETFROM:-0400
TZOFFSETTO:-0500
TZNAME:EST
DTSTART:20241103T060000
END:STANDARD
BEGIN:DAYLIGHT
TZOFFSETFROM:-0500
TZOFFSETTO:-0400
TZNAME:EDT
DTSTART:20250309T070000
END:DAYLIGHT
BEGIN:STANDARD
TZOFFSETFROM:-0400
TZOFFSETTO:-0500
TZNAME:EST
DTSTART:20251102T060000
END:STANDARD
BEGIN:DAYLIGHT
TZOFFSETFROM:-0500
TZOFFSETTO:-0400
TZNAME:EDT
DTSTART:20260308T070000
END:DAYLIGHT
BEGIN:STANDARD
TZOFFSETFROM:-0400
TZOFFSETTO:-0500
TZNAME:EST
DTSTART:20261101T060000
END:STANDARD
END:VTIMEZONE
BEGIN:VEVENT
DTSTART;TZID=America/New_York:20250602T120000
DTEND;TZID=America/New_York:20250602T150000
DTSTAMP:20260424T082911
CREATED:20250429T174355Z
LAST-MODIFIED:20250430T153306Z
UID:18513-1748865600-1748876400@www.unitedskates.com
SUMMARY:Summer KICKOFF - Cheap Skate
DESCRIPTION:Join us every Monday from 12pm-2:30pm for an amazing deal! \n\nAdmission: $5.00\nSkate Rental: $6\nAdmission available to purchase online or at door https://bzone.bookingzone.com/EwAynD\n\n🚨 Important Info: \n\nAll guests ages 3-17 must pay admission & skate rental (or bring their own skates).\nNon-skating adults may enter at no charge.\nOnline waiver required for all guests—Click here to fill it out. Please have your signed waiver ready to show at check-in for a quicker process. Effective 10/11/24\n\n💥 Group Rates available for parties of 15+—Click here for reservations\n🎉 Birthday Parties available—CLICK HERE\n💡 Looking for a fun group event to earn money?—Click here for more info \n  \nMake Tuesdays your summer skate party! 🛼✨
URL:https://www.unitedskates.com/columbus/event/summer-kickoff-cheap-skate/
LOCATION:United Skates Of America Columbus\, 3362 Refugee Rd\, Columbus\, OH\, 43232\, United States
CATEGORIES:Family Events,Public Skates,Special Events
ATTACH;FMTTYPE=image/jpeg:https://unitedskates-assets.sfo3.digitaloceanspaces.com/wp-content/uploads/sites/6/2025/04/600px-Summer-Kick-Off-2022-1200x1200-1.jpg
END:VEVENT
BEGIN:VEVENT
DTSTART;TZID=America/New_York:20250603T120000
DTEND;TZID=America/New_York:20250603T150000
DTSTAMP:20260424T082911
CREATED:20250429T180946Z
LAST-MODIFIED:20250430T171120Z
UID:18591-1748952000-1748962800@www.unitedskates.com
SUMMARY:Public Skating and Birthday Parties
DESCRIPTION:🛼✨ Tuesday Skate Special! ✨🛼 \nJoin us every Tuesday from 12pm-3:00pm or 6-8:30 PM for an amazing deal! \n\nAdmission: Two for $10 or One for $6\nSkate Rental: $6\nAdmission available to purchase online or at door https://bzone.bookingzone.com/EwAynD\n\n🚨 Important Info: \n\nAll guests ages 3-17 must pay admission & skate rental (or bring their own skates).\nNon-skating adults may enter at no charge.\nOnline waiver required for all guests—Click here to fill it out. Please have your signed waiver ready to show at check-in for a quicker process. Effective 10/11/24\n\n💥 Group Rates available for parties of 15+—Click here for reservations\n🎉 Birthday Parties available—CLICK HERE\n💡 Looking for a fun group event to earn money?—Click here for more info \n  \nMake Tuesdays your summer skate party! 🛼✨
URL:https://www.unitedskates.com/columbus/event/public-skating-and-birthday-parties-12/2025-06-03/
LOCATION:United Skates Of America Columbus\, 3362 Refugee Rd\, Columbus\, OH\, 43232\, United States
CATEGORIES:Family Events,Public Skates
ATTACH;FMTTYPE=image/jpeg:https://unitedskates-assets.sfo3.digitaloceanspaces.com/wp-content/uploads/sites/6/2025/04/438304187_828876685954232_5863325872703365779_n.jpg
END:VEVENT
BEGIN:VEVENT
DTSTART;TZID=America/New_York:20250604T120000
DTEND;TZID=America/New_York:20250604T150000
DTSTAMP:20260424T082911
CREATED:20250429T181450Z
LAST-MODIFIED:20250610T174624Z
UID:18619-1749038400-1749049200@www.unitedskates.com
SUMMARY:Public Skating and Birthday Parties
DESCRIPTION:🛼✨ Wednesday Skate Special! ✨🛼 \nJoin us every Wednesday from 12pm-3:00pm or 6-8:30 PM for an amazing deal! \n\nAdmission: $8.00\nSkate Rental: INCLUDED\nAdmission available to purchase online or at door https://bzone.bookingzone.com/EwAynD\n\n🚨 Important Info: \n\nAll guests ages 3-17 must pay admission & skate rental (or bring their own skates).\nNon-skating adults may enter at no charge.\nOnline waiver required for all guests—Click here to fill it out. Please have your signed waiver ready to show at check-in for a quicker process. Effective 10/11/24\n\n💥 Group Rates available for parties of 15+—Click here for reservations\n🎉 Birthday Parties available—CLICK HERE\n💡 Looking for a fun group event to earn money?—Click here for more info \n  \nMake Tuesdays your summer skate party! 🛼✨
URL:https://www.unitedskates.com/columbus/event/public-skating-and-birthday-parties-14/
LOCATION:United Skates Of America Columbus\, 3362 Refugee Rd\, Columbus\, OH\, 43232\, United States
CATEGORIES:Family Events,Public Skates
ATTACH;FMTTYPE=image/jpeg:https://unitedskates-assets.sfo3.digitaloceanspaces.com/wp-content/uploads/sites/6/2025/04/OH25-001-Skate-for-8-Summer-Break-Flyer-columbus-1-scaled.jpg
END:VEVENT
BEGIN:VEVENT
DTSTART;TZID=America/New_York:20250604T180000
DTEND;TZID=America/New_York:20250604T203000
DTSTAMP:20260424T082911
CREATED:20250429T181947Z
LAST-MODIFIED:20250805T194905Z
UID:18632-1749060000-1749069000@www.unitedskates.com
SUMMARY:Public Skating and Birthday Parties
DESCRIPTION:🛼✨ Wednesday Skate Special! ✨🛼 \nJoin us every Wednesday from 12pm-3:00pm or 6-8:30 PM for an amazing deal! \n\nAdmission: $8.00\nSkate Rental: INCLUDED\nAdmission available to purchase online or at door https://bzone.bookingzone.com/EwAynD\n\n🚨 Important Info: \n\nAll guests ages 3-17 must pay admission & skate rental (or bring their own skates).\nNon-skating adults may enter at no charge.\nOnline waiver required for all guests—Click here to fill it out. Please have your signed waiver ready to show at check-in for a quicker process. Effective 10/11/24\n\n💥 Group Rates available for parties of 15+—Click here for reservations\n🎉 Birthday Parties available—CLICK HERE\n💡 Looking for a fun group event to earn money?—Click here for more info \n  \nMake Tuesdays your summer skate party! 🛼✨
URL:https://www.unitedskates.com/columbus/event/public-skating-and-birthday-parties-15/2025-06-04/
LOCATION:OH
CATEGORIES:Family Events,Public Skates
ATTACH;FMTTYPE=image/jpeg:https://unitedskates-assets.sfo3.digitaloceanspaces.com/wp-content/uploads/sites/6/2025/04/OH25-001-Skate-for-8-Summer-Break-Flyer-columbus-1-scaled.jpg
END:VEVENT
BEGIN:VEVENT
DTSTART;TZID=America/New_York:20250605T120000
DTEND;TZID=America/New_York:20250605T150000
DTSTAMP:20260424T082911
CREATED:20250429T183010Z
LAST-MODIFIED:20250430T160424Z
UID:18711-1749124800-1749135600@www.unitedskates.com
SUMMARY:Public Skating and Birthday Parties
DESCRIPTION:🛼 Summer Top 40 Pop GLOW Skate 🛼 \n\nAdmission: $10.00\nSkate Rental: $6.00\n\n⏰ Session Times: Begin and end at the posted start & end time—no stayovers allowed. \n🚨 Important Info: \n\nAll guests ages 3-17 must pay admission & skate rental (or bring their own skates).\nNon-skating adults may enter at no charge.\nOnline waiver required for all adults and children entering the building. Click here to fill it out. Please have your signed waiver ready to show at check-in to make the process quick and easy. Effective 10/11/2024\n\n💥 Group Rates available for parties of 15+—Click here for reservations\n🎉 Birthday Parties available—CLICK HERE\n💡 Looking for a fun group event to earn money?—Click here for more info
URL:https://www.unitedskates.com/columbus/event/public-skating-and-birthday-parties-16/2025-06-05/
LOCATION:United Skates Of America Columbus\, 3362 Refugee Rd\, Columbus\, OH\, 43232\, United States
CATEGORIES:Family Events,Public Skates
ATTACH;FMTTYPE=image/jpeg:https://unitedskates-assets.sfo3.digitaloceanspaces.com/wp-content/uploads/sites/6/2025/04/Glow-Skate-1200x1200-1.jpg
END:VEVENT
BEGIN:VEVENT
DTSTART;TZID=America/New_York:20250605T180000
DTEND;TZID=America/New_York:20250605T203000
DTSTAMP:20260424T082911
CREATED:20250429T183401Z
LAST-MODIFIED:20250813T180842Z
UID:18734-1749146400-1749155400@www.unitedskates.com
SUMMARY:Public Skating and Birthdays
DESCRIPTION:1/2 Price Summertime Skate 😎💰 \nFamily Top 40 Pop Skate \n\nAdmission: $5.50\nSkate Rental: $6.00\n\n⏰ Session Times: Begin and end at the posted start & end time—no stayovers allowed. \n🚨 Important Info: \n\nAll guests ages 3-17 must pay admission & skate rental (or bring their own skates).\nNon-skating adults may enter at no charge.\nOnline waiver required for all adults and children entering the building. Click here to fill it out. Please have your signed waiver ready to show at check-in to make the process quick and easy. Effective 10/11/2024\n\n💥 Group Rates available for parties of 15+—Click here for reservations\n🎉 Birthday Parties available—CLICK HERE\n💡 Looking for a fun group event to earn money?—Click here for more info
URL:https://www.unitedskates.com/columbus/event/public-skating-birthdays/2025-06-05/
LOCATION:United Skates Of America Columbus\, 3362 Refugee Rd\, Columbus\, OH\, 43232\, United States
CATEGORIES:Family Events,Public Skates
ATTACH;FMTTYPE=image/jpeg:https://unitedskates-assets.sfo3.digitaloceanspaces.com/wp-content/uploads/sites/6/2025/04/Half-Price-Skate-2022-1200x1200-1.jpg
END:VEVENT
BEGIN:VEVENT
DTSTART;TZID=America/New_York:20250606T120000
DTEND;TZID=America/New_York:20250606T150000
DTSTAMP:20260424T082911
CREATED:20250430T153041Z
LAST-MODIFIED:20250430T153221Z
UID:19013-1749211200-1749222000@www.unitedskates.com
SUMMARY:Public Skating and Birthday Parties
DESCRIPTION:❤️💙 Friday June 6th\, 2025 – Skate With Super Mario!🎮🕹️ \n🎶🛼 Summer Daytime Top 40 Pop Skate 🎶🛼 \n\nAdmission: $10.00\nSkate Rental: $6.00\n\n⏰ Session Times: Begin and end at the posted start & end time—no stayovers allowed. \n🚨 Important Info: \n\nAll guests ages 3-17 must pay admission & skate rental (or bring their own skates).\nNon-skating adults may enter at no charge.\nOnline waiver required for all adults and children entering the building. Click here to fill it out. Please have your signed waiver ready to show at check-in to make the process quick and easy. Effective 10/11/2024\n\n💥 Group Rates available for parties of 15+—Click here for reservations\n🎉 Birthday Parties available—CLICK HERE\n💡 Looking for a fun group event to earn money?—Click here for more info
URL:https://www.unitedskates.com/columbus/event/public-skating-and-birthday-parties-18/
LOCATION:OH
CATEGORIES:Family Events,Public Skates,Special Events
ATTACH;FMTTYPE=image/jpeg:https://unitedskates-assets.sfo3.digitaloceanspaces.com/wp-content/uploads/sites/6/2025/04/MARIO-skate-2022-1200x1200-1.jpg
END:VEVENT
BEGIN:VEVENT
DTSTART;TZID=America/New_York:20250607T120000
DTEND;TZID=America/New_York:20250607T150000
DTSTAMP:20260424T082911
CREATED:20250429T175727Z
LAST-MODIFIED:20260106T231809Z
UID:18532-1749297600-1749308400@www.unitedskates.com
SUMMARY:Public Skating and Birthdays
DESCRIPTION:🎶🛼 Family Top 40 Pop Skate 🎶🛼 \n\nAdmission: $11.00\nSkate Rental: $6.00\nAdmission available to purchase online or at door https://bzone.bookingzone.com/EwAynD\n\n⏰ Session Times: Begin and end at the posted start & end time—no stayovers allowed. \n🚨 Important Info: \n\nAll guests ages 3-17 must pay admission & skate rental (or bring their own skates).\nNon-skating adults may enter at no charge.\nOnline waiver required for all adults and children entering the building. Click here to fill it out. Please have your signed waiver ready to show at check-in to make the process quick and easy. Effective 10/11/2024\n\n💥 Group Rates available for parties of 15+—Click here for reservations\n🎉 Birthday Parties available—CLICK HERE\n💡 Looking for a fun group event to earn money?—Click here for more info
URL:https://www.unitedskates.com/columbus/event/public-skating-and-birthdays-3/2025-06-07/
LOCATION:United Skates Of America Columbus\, 3362 Refugee Rd\, Columbus\, OH\, 43232\, United States
CATEGORIES:Family Events,Public Skates
ATTACH;FMTTYPE=image/jpeg:https://unitedskates-assets.sfo3.digitaloceanspaces.com/wp-content/uploads/sites/6/2025/04/600px-Family-Skate-1200x1200-1.jpg
END:VEVENT
BEGIN:VEVENT
DTSTART;TZID=America/New_York:20250608T130000
DTEND;TZID=America/New_York:20250608T153000
DTSTAMP:20260424T082911
CREATED:20250429T174938Z
LAST-MODIFIED:20250723T173934Z
UID:18516-1749387600-1749396600@www.unitedskates.com
SUMMARY:Public Skating and Birthdays
DESCRIPTION:🎶🛼 Family Hip-Hop Skate 🎶🛼 \n\nAdmission: $11.00\nSkate Rental: $6.00\nAdmission available to purchase online or at door https://bzone.bookingzone.com/EwAynD\n\n⏰ Session Times: Begin and end at the posted start & end time—no stayovers allowed. \n🚨 Important Info: \n\nAll guests ages 3-17 must pay admission & skate rental (or bring their own skates).\nNon-skating adults may enter at no charge.\nOnline waiver required for all adults and children entering the building. Click here to fill it out. Please have your signed waiver ready to show at check-in to make the process quick and easy. Effective 10/11/2024\n\n💥 Group Rates available for parties of 15+—Click here for reservations\n🎉 Birthday Parties available—CLICK HERE\n💡 Looking for a fun group event to earn money?—Click here for more info
URL:https://www.unitedskates.com/columbus/event/public-skating-and-birthdays/2025-06-08/
LOCATION:United Skates Of America Columbus\, 3362 Refugee Rd\, Columbus\, OH\, 43232\, United States
CATEGORIES:Family Events,Public Skates
ATTACH;FMTTYPE=image/jpeg:https://unitedskates-assets.sfo3.digitaloceanspaces.com/wp-content/uploads/sites/6/2025/04/600px-Family-Skate-1200x1200-1.jpg
END:VEVENT
BEGIN:VEVENT
DTSTART;TZID=America/New_York:20250608T160000
DTEND;TZID=America/New_York:20250608T190000
DTSTAMP:20260424T082911
CREATED:20250429T175535Z
LAST-MODIFIED:20260206T184715Z
UID:18530-1749398400-1749409200@www.unitedskates.com
SUMMARY:Public Skating and Birthdays
DESCRIPTION:🎶🛼 Family Hip-Hop Skate 🎶🛼 \n\nAdmission: $11.00\nSkate Rental: $6.00\nAdmission available to purchase online or at door https://bzone.bookingzone.com/EwAynD\n\n⏰ Session Times: Begin and end at the posted start & end time—no stayovers allowed. \n🚨 Important Info: \n\nAll guests ages 3-17 must pay admission & skate rental (or bring their own skates).\nNon-skating adults may enter at no charge.\nOnline waiver required for all adults and children entering the building. Click here to fill it out. Please have your signed waiver ready to show at check-in to make the process quick and easy. Effective 10/11/2024\n\n💥 Group Rates available for parties of 15+—Click here for reservations\n🎉 Birthday Parties available—CLICK HERE\n💡 Looking for a fun group event to earn money?—Click here for more info
URL:https://www.unitedskates.com/columbus/event/public-skating-and-birthdays-2/2025-06-08/
LOCATION:United Skates Of America Columbus\, 3362 Refugee Rd\, Columbus\, OH\, 43232\, United States
CATEGORIES:Family Events,Public Skates
ATTACH;FMTTYPE=image/jpeg:https://unitedskates-assets.sfo3.digitaloceanspaces.com/wp-content/uploads/sites/6/2025/04/600px-Family-Skate-1200x1200-1.jpg
END:VEVENT
BEGIN:VEVENT
DTSTART;TZID=America/New_York:20250609T120000
DTEND;TZID=America/New_York:20250609T150000
DTSTAMP:20260424T082911
CREATED:20250429T190732Z
LAST-MODIFIED:20250610T184326Z
UID:18985-1749470400-1749481200@www.unitedskates.com
SUMMARY:Public Skating and Birthdays
DESCRIPTION:🛼✨ Monday Skate Special! ✨🛼 \nJoin us every Monday from 12pm-3:00pm for an amazing deal! \n\nAdmission: $5.00\nSkate Rental: $6\nAdmission available to purchase online or at door https://bzone.bookingzone.com/EwAynD\n\n🚨 Important Info: \n\nAll guests ages 3-17 must pay admission & skate rental (or bring their own skates).\nNon-skating adults may enter at no charge.\nOnline waiver required for all guests—Click here to fill it out. Please have your signed waiver ready to show at check-in for a quicker process. Effective 10/11/24\n\n💥 Group Rates available for parties of 15+—Click here for reservations\n🎉 Birthday Parties available—CLICK HERE\n💡 Looking for a fun group event to earn money?—Click here for more info \n  \nMake Mondays your summer skate party! 🛼✨
URL:https://www.unitedskates.com/columbus/event/public-skating-and-birthdays-6/2025-06-09/
LOCATION:United Skates Of America Columbus\, 3362 Refugee Rd\, Columbus\, OH\, 43232\, United States
CATEGORIES:Family Events,Public Skates
ATTACH;FMTTYPE=image/jpeg:https://unitedskates-assets.sfo3.digitaloceanspaces.com/wp-content/uploads/sites/6/2025/04/5-Dollar-Monday-2025-1.jpg
END:VEVENT
BEGIN:VEVENT
DTSTART;TZID=America/New_York:20250611T120000
DTEND;TZID=America/New_York:20250611T150000
DTSTAMP:20260424T082911
CREATED:20250429T181450Z
LAST-MODIFIED:20250610T182459Z
UID:19051-1749643200-1749654000@www.unitedskates.com
SUMMARY:Public Skating and Birthday Parties
DESCRIPTION:🛼✨ Wednesday Skate Special! ✨🛼 \nJoin us every Wednesday from 12pm-3:00pm or 6-8:30 PM for an amazing deal! \n\nAdmission: $8.00\nSkate Rental: INCLUDED\nAdmission available to purchase online or at door https://bzone.bookingzone.com/EwAynD\n\n🚨 Important Info: \n\nAll guests ages 3-17 must pay admission & skate rental (or bring their own skates).\nNon-skating adults may enter at no charge.\nOnline waiver required for all guests—Click here to fill it out. Please have your signed waiver ready to show at check-in for a quicker process. Effective 10/11/24\n\n💥 Group Rates available for parties of 15+—Click here for reservations\n🎉 Birthday Parties available—CLICK HERE\n💡 Looking for a fun group event to earn money?—Click here for more info \n  \nMake Tuesdays your summer skate party! 🛼✨
URL:https://www.unitedskates.com/columbus/event/public-skating-and-birthday-parties-14-2025-06-11/2025-06-11/
LOCATION:United Skates Of America Columbus\, 3362 Refugee Rd\, Columbus\, OH\, 43232\, United States
CATEGORIES:Family Events,Public Skates
ATTACH;FMTTYPE=image/jpeg:https://unitedskates-assets.sfo3.digitaloceanspaces.com/wp-content/uploads/sites/6/2025/04/OH25-001-Skate-for-8-Summer-Break-Flyer-columbus-1-scaled.jpg
END:VEVENT
BEGIN:VEVENT
DTSTART;TZID=America/New_York:20250612T120000
DTEND;TZID=America/New_York:20250612T150000
DTSTAMP:20260424T082911
CREATED:20250430T160632Z
LAST-MODIFIED:20250430T160633Z
UID:19118-1749729600-1749740400@www.unitedskates.com
SUMMARY:Public Skating and Birthday Parties
DESCRIPTION:🛼 June 12th\, 2025 – Summer Top 40 Pop GLOW Skate with SKATO 🛼 \n\nAdmission: $10.00\nSkate Rental: $6.00\n\n⏰ Session Times: Begin and end at the posted start & end time—no stayovers allowed. \n🚨 Important Info: \n\nAll guests ages 3-17 must pay admission & skate rental (or bring their own skates).\nNon-skating adults may enter at no charge.\nOnline waiver required for all adults and children entering the building. Click here to fill it out. Please have your signed waiver ready to show at check-in to make the process quick and easy. Effective 10/11/2024\n\n💥 Group Rates available for parties of 15+—Click here for reservations\n🎉 Birthday Parties available—CLICK HERE\n💡 Looking for a fun group event to earn money?—Click here for more info
URL:https://www.unitedskates.com/columbus/event/public-skating-and-birthday-parties-19/
LOCATION:United Skates Of America Columbus\, 3362 Refugee Rd\, Columbus\, OH\, 43232\, United States
CATEGORIES:Family Events,Public Skates,Special Events
ATTACH;FMTTYPE=image/jpeg:https://unitedskates-assets.sfo3.digitaloceanspaces.com/wp-content/uploads/sites/6/2025/04/glow-with-skato-1200x1200-1.jpg
END:VEVENT
BEGIN:VEVENT
DTSTART;TZID=America/New_York:20250613T120000
DTEND;TZID=America/New_York:20250613T150000
DTSTAMP:20260424T082911
CREATED:20250429T183722Z
LAST-MODIFIED:20250430T164728Z
UID:18751-1749816000-1749826800@www.unitedskates.com
SUMMARY:Public Skating and Birthday Parties
DESCRIPTION:🎶🛼 Summer Daytime Top 40 Pop Skate 🎶🛼 \n\nAdmission: $10.00\nSkate Rental: $6.00\n\n⏰ Session Times: Begin and end at the posted start & end time—no stayovers allowed. \n🚨 Important Info: \n\nAll guests ages 3-17 must pay admission & skate rental (or bring their own skates).\nNon-skating adults may enter at no charge.\nOnline waiver required for all adults and children entering the building. Click here to fill it out. Please have your signed waiver ready to show at check-in to make the process quick and easy. Effective 10/11/2024\n\n💥 Group Rates available for parties of 15+—Click here for reservations\n🎉 Birthday Parties available—CLICK HERE\n💡 Looking for a fun group event to earn money?—Click here for more info
URL:https://www.unitedskates.com/columbus/event/public-skating-and-birthday-parties-17/2025-06-13/
LOCATION:United Skates Of America Columbus\, 3362 Refugee Rd\, Columbus\, OH\, 43232\, United States
CATEGORIES:Family Events,Public Skates
ATTACH;FMTTYPE=image/jpeg:https://unitedskates-assets.sfo3.digitaloceanspaces.com/wp-content/uploads/sites/6/2025/04/600px-Summer-Fun-Skate-1200x1200-1.jpg
END:VEVENT
BEGIN:VEVENT
DTSTART;TZID=America/New_York:20250613T180000
DTEND;TZID=America/New_York:20250613T210000
DTSTAMP:20260424T082911
CREATED:20250430T162146Z
LAST-MODIFIED:20260106T225343Z
UID:19137-1749837600-1749848400@www.unitedskates.com
SUMMARY:Friday Night Family Skating & Birthday Parties
DESCRIPTION:🌟🛼 Family GLOW Hip-Hop Skate Night! 🛼🌟 \n\nAdmission: $11.00\nSkate Rental: $6.00\n\n⏰ Session Times: Begin and end at the posted start & end time—no stayovers allowed. \n🚨 Important Info: \n\nAll guests ages 3-17 must pay admission & skate rental (or bring their own skates).\nNon-skating adults may enter at no charge.\nOnline waiver required for all adults and children entering the building. Click here to fill it out. Please have your signed waiver ready to show at check-in to make the process quick and easy. Effective 10/11/2024\n\n💥 Group Rates available for parties of 15+—Click here for reservations\n🎉 Birthday Parties available—CLICK HERE\n💡 Looking for a fun group event to earn money?—Click here for more info
URL:https://www.unitedskates.com/columbus/event/public-skating-and-birthdays-8/
LOCATION:United Skates Of America Columbus\, 3362 Refugee Rd\, Columbus\, OH\, 43232\, United States
CATEGORIES:Family Events,Public Skates
ATTACH;FMTTYPE=image/jpeg:https://unitedskates-assets.sfo3.digitaloceanspaces.com/wp-content/uploads/sites/6/2024/10/glow-family-skate-2022-1200x1200-1.jpg
END:VEVENT
BEGIN:VEVENT
DTSTART;TZID=America/New_York:20250614T160000
DTEND;TZID=America/New_York:20250614T190000
DTSTAMP:20260424T082911
CREATED:20250429T175901Z
LAST-MODIFIED:20260206T180627Z
UID:18547-1749916800-1749927600@www.unitedskates.com
SUMMARY:Public Skating and Birthdays
DESCRIPTION:🎶🛼 Family Hip-Hop Skate 🎶🛼 \n\nAdmission: $11.00\nSkate Rental: $6.00\nAdmission available to purchase online or at door https://bzone.bookingzone.com/EwAynD\n\n⏰ Session Times: Begin and end at the posted start & end time—no stayovers allowed. \n🚨 Important Info: \n\nAll guests ages 3-17 must pay admission & skate rental (or bring their own skates).\nNon-skating adults may enter at no charge.\nOnline waiver required for all adults and children entering the building. Click here to fill it out. Please have your signed waiver ready to show at check-in to make the process quick and easy. Effective 10/11/2024\n\n💥 Group Rates available for parties of 15+—Click here for reservations\n🎉 Birthday Parties available—CLICK HERE\n💡 Looking for a fun group event to earn money?—Click here for more info
URL:https://www.unitedskates.com/columbus/event/public-skating-and-birthdays-4/2025-06-14/
LOCATION:United Skates Of America Columbus\, 3362 Refugee Rd\, Columbus\, OH\, 43232\, United States
CATEGORIES:Family Events,Public Skates
ATTACH;FMTTYPE=image/jpeg:https://unitedskates-assets.sfo3.digitaloceanspaces.com/wp-content/uploads/sites/6/2025/04/600px-Family-Skate-1200x1200-1.jpg
END:VEVENT
BEGIN:VEVENT
DTSTART;TZID=America/New_York:20250614T193000
DTEND;TZID=America/New_York:20250614T220000
DTSTAMP:20260424T082911
CREATED:20250429T180030Z
LAST-MODIFIED:20260414T144756Z
UID:18561-1749929400-1749938400@www.unitedskates.com
SUMMARY:🪩 Saturday Night Hip-Hop Skate (All ages) 🤩
DESCRIPTION:🎶🛼 Saturday Night Hip-Hop Skate 🎶🛼 \n🎵 Live DJ Set by DJ Jay T 🎶 \n\nAdmission: $12.00\nSkate Rental: $6.00\nPlease note: All guests must pay for skate rental unless they have their own pair\nSave $ when you purchase tickets in advance online. All online admission tickets must be purchased by 7:25 PM. \n\nAdmission available to purchase online or at door https://bzone.bookingzone.com/EwAynD \n  \n⏰ Session Times: Begin and end at the posted start & end time. \n🚨 Important Info: \n\nAll guests ages 3-24 must pay admission & skate rental (or bring their own skates).\nNon-skating adults may enter at no charge.\nOnline waiver required for all adults and children entering the building. Click here to fill it out. Please have your signed waiver ready to show at check-in to make the process quick and easy. Effective 10/11/2024\n\n💥 Group Rates available for parties of 15+—Click here for reservations\n💡 Looking for a fun group event to earn money?—Click here for more info
URL:https://www.unitedskates.com/columbus/event/public-skating-and-birthdays-5/2025-06-14/
LOCATION:United Skates Of America Columbus\, 3362 Refugee Rd\, Columbus\, OH\, 43232\, United States
CATEGORIES:Family Events,Public Skates
ATTACH;FMTTYPE=image/jpeg:https://unitedskates-assets.sfo3.digitaloceanspaces.com/wp-content/uploads/sites/6/2025/04/1080x1350-Saturday-Hip-Hop.jpg
END:VEVENT
BEGIN:VEVENT
DTSTART;TZID=America/New_York:20250615T160000
DTEND;TZID=America/New_York:20250615T190000
DTSTAMP:20260424T082911
CREATED:20250429T174938Z
LAST-MODIFIED:20250611T132716Z
UID:18519-1750003200-1750014000@www.unitedskates.com
SUMMARY:Father's Day Skate
DESCRIPTION:🎶🛼 Father’s Day Hip-Hop Skate 🎶🛼 \nCome celebrate the best Dad Sunday\, June 15!  DAD’S SKATE FREE!! \nFamily of FOUR Deal: 4 Admissions\, 4 Skate rentals\, 1 Large Cheese pizza\, and 1 soft drink pitcher for only $69 \n\nAdmission: $11.00\nSkate Rental: $6.00\nAdmission available to purchase online or at door https://bzone.bookingzone.com/EwAynD\n\n⏰ Session Times: Begin and end at the posted start & end time—no stayovers allowed. \n🚨 Important Info: \n\nAll guests ages 3-17 must pay admission & skate rental (or bring their own skates).\nNon-skating adults may enter at no charge.\nOnline waiver required for all adults and children entering the building. Click here to fill it out. Please have your signed waiver ready to show at check-in to make the process quick and easy. Effective 10/11/2024\n\n💥 Group Rates available for parties of 15+—Click here for reservations\n🎉 Birthday Parties available—CLICK HERE\n💡 Looking for a fun group event to earn money?—Click here for more info
URL:https://www.unitedskates.com/columbus/event/public-skating-and-birthdays-2025-06-15/
LOCATION:United Skates Of America Columbus\, 3362 Refugee Rd\, Columbus\, OH\, 43232\, United States
CATEGORIES:Family Events,Public Skates
ATTACH;FMTTYPE=image/jpeg:https://unitedskates-assets.sfo3.digitaloceanspaces.com/wp-content/uploads/sites/6/2025/04/Fathers-Day-Skate-2025.jpg
END:VEVENT
BEGIN:VEVENT
DTSTART;TZID=America/New_York:20250619T180000
DTEND;TZID=America/New_York:20250619T203000
DTSTAMP:20260424T082911
CREATED:20250429T183401Z
LAST-MODIFIED:20250514T052424Z
UID:18739-1750356000-1750365000@www.unitedskates.com
SUMMARY:Juneteenth Celebration Skate
DESCRIPTION:Join us to celebrate Juneteenth on the roller rink! 1/2 Price! 😎💰 \nFamily Hip-Hop Skate with DJ Jay T spinning the hottest sounds. \n\nAdmission: $5.50\nSkate Rental: $6.00\n\n⏰ Session Times: Begin and end at the posted start & end time—no stayovers allowed. \n🚨 Important Info: \n\nAll guests ages 3-17 must pay admission & skate rental (or bring their own skates).\nNon-skating adults may enter at no charge.\nOnline waiver required for all adults and children entering the building. Click here to fill it out. Please have your signed waiver ready to show at check-in to make the process quick and easy. Effective 10/11/2024\n\n💥 Group Rates available for parties of 15+—Click here for reservations\n🎉 Birthday Parties available—CLICK HERE\n💡 Looking for a fun group event to earn money?—Click here for more info
URL:https://www.unitedskates.com/columbus/event/public-skating-birthdays-2025-06-19/
LOCATION:United Skates Of America Columbus\, 3362 Refugee Rd\, Columbus\, OH\, 43232\, United States
CATEGORIES:Family Events,Public Skates
ATTACH;FMTTYPE=image/jpeg:https://unitedskates-assets.sfo3.digitaloceanspaces.com/wp-content/uploads/sites/6/2025/04/2025-JUNETEENTH-SKATE-ANNOUNCEMENT.jpg
END:VEVENT
END:VCALENDAR