BEGIN:VCALENDAR
VERSION:2.0
PRODID:-//Rink 1 - Columbus - ECPv6.15.20//NONSGML v1.0//EN
CALSCALE:GREGORIAN
METHOD:PUBLISH
X-ORIGINAL-URL:https://www.unitedskates.com/columbus
X-WR-CALDESC:Events for Rink 1 - Columbus
REFRESH-INTERVAL;VALUE=DURATION:PT1H
X-Robots-Tag:noindex
X-PUBLISHED-TTL:PT1H
BEGIN:VTIMEZONE
TZID:America/New_York
BEGIN:DAYLIGHT
TZOFFSETFROM:-0500
TZOFFSETTO:-0400
TZNAME:EDT
DTSTART:20230312T070000
END:DAYLIGHT
BEGIN:STANDARD
TZOFFSETFROM:-0400
TZOFFSETTO:-0500
TZNAME:EST
DTSTART:20231105T060000
END:STANDARD
BEGIN:DAYLIGHT
TZOFFSETFROM:-0500
TZOFFSETTO:-0400
TZNAME:EDT
DTSTART:20240310T070000
END:DAYLIGHT
BEGIN:STANDARD
TZOFFSETFROM:-0400
TZOFFSETTO:-0500
TZNAME:EST
DTSTART:20241103T060000
END:STANDARD
BEGIN:DAYLIGHT
TZOFFSETFROM:-0500
TZOFFSETTO:-0400
TZNAME:EDT
DTSTART:20250309T070000
END:DAYLIGHT
BEGIN:STANDARD
TZOFFSETFROM:-0400
TZOFFSETTO:-0500
TZNAME:EST
DTSTART:20251102T060000
END:STANDARD
BEGIN:DAYLIGHT
TZOFFSETFROM:-0500
TZOFFSETTO:-0400
TZNAME:EDT
DTSTART:20260308T070000
END:DAYLIGHT
BEGIN:STANDARD
TZOFFSETFROM:-0400
TZOFFSETTO:-0500
TZNAME:EST
DTSTART:20261101T060000
END:STANDARD
END:VTIMEZONE
BEGIN:VEVENT
DTSTART;VALUE=DATE:20241220
DTEND;VALUE=DATE:20250107
DTSTAMP:20260425T214201
CREATED:20241101T192155Z
LAST-MODIFIED:20241101T192155Z
UID:17260-1734670800-1736139599@www.unitedskates.com
SUMMARY:❤️💚Winter Break Special Events and Rollerskating Schedule💚❤️
DESCRIPTION:Winter Break Roller Skating!! \nAvailable Friday December 20th 2024 – Sunday January 5th 2025 \nJoin us for Special Events with Olaf\, Rudolph & Minions! Affordable Family Skating\, and our Biggest New Years Eve Bash \nHappy Holidays!
URL:https://www.unitedskates.com/columbus/event/%e2%9d%a4%ef%b8%8f%f0%9f%92%9awinter-break-special-events-and-rollerskating-schedule%f0%9f%92%9a%e2%9d%a4%ef%b8%8f/
LOCATION:OH
CATEGORIES:Adult Events,Family Events,Public Skates,Special Events
ATTACH;FMTTYPE=image/jpeg:https://unitedskates-assets.sfo3.digitaloceanspaces.com/wp-content/uploads/sites/6/2024/11/Winter-Break-Calendar-front-2024-1-1.jpg
END:VEVENT
BEGIN:VEVENT
DTSTART;TZID=America/New_York:20250101T120000
DTEND;TZID=America/New_York:20250101T143000
DTSTAMP:20260425T214201
CREATED:20241101T200102Z
LAST-MODIFIED:20241219T140154Z
UID:17273-1735732800-1735741800@www.unitedskates.com
SUMMARY:NYD Family Skate Party
DESCRIPTION:NYD Family Skate\n🎶🛼 Family Top 40 Pop Skate 🎶🛼 \n\nAdmission: $11.00 Admission **Arrive before 1pm and get admission half price\nSkate Rental: $6.00\n\n⏰ Session Times: Begin and end at the posted start & end time—no stayovers allowed. \n🚨 Important Info: \n\nAll guests ages 3-17 must pay admission & skate rental (or bring their own skates).\nNon-skating adults may enter at no charge.\nOnline waiver required for all adults and children entering the building. Click here to fill it out. Please have your signed waiver ready to show at check-in to make the process quick and easy. Effective 10/11/2024\n\n💥 Group Rates available for parties of 15+—Click here for reservations\n🎉 Birthday Parties available—CLICK HERE\n💡 Looking for a fun group event to earn money?—Click here for more info
URL:https://www.unitedskates.com/columbus/event/nyd-family-skate-party/
LOCATION:United Skates Of America Columbus\, 3362 Refugee Rd\, Columbus\, OH\, 43232\, United States
CATEGORIES:Family Events,Public Skates,Special Events
ATTACH;FMTTYPE=image/jpeg:https://unitedskates-assets.sfo3.digitaloceanspaces.com/wp-content/uploads/sites/6/2024/11/new-years-day-2025-12-230.jpg
END:VEVENT
BEGIN:VEVENT
DTSTART;TZID=America/New_York:20250101T180000
DTEND;TZID=America/New_York:20250101T203000
DTSTAMP:20260425T214201
CREATED:20241101T200228Z
LAST-MODIFIED:20241219T155129Z
UID:17276-1735754400-1735763400@www.unitedskates.com
SUMMARY:New Years Day Family Skate
DESCRIPTION:NYD Family Skate\n🎶🛼 Family Top 40 Pop Skate 🎶🛼 \n\nAdmission: $6.00\nSkate Rental: $6.00\n\n⏰ Session Times: Begin and end at the posted start & end time—no stayovers allowed. \n🚨 Important Info: \n\nAll guests ages 3-17 must pay admission & skate rental (or bring their own skates).\nNon-skating adults may enter at no charge.\nOnline waiver required for all adults and children entering the building. Click here to fill it out. Please have your signed waiver ready to show at check-in to make the process quick and easy. Effective 10/11/2024\n\n💥 Group Rates available for parties of 15+—Click here for reservations\n🎉 Birthday Parties available—CLICK HERE\n💡 Looking for a fun group event to earn money?—Click here for more info
URL:https://www.unitedskates.com/columbus/event/new-years-day-family-skate/
LOCATION:United Skates Of America Columbus\, 3362 Refugee Rd\, Columbus\, OH\, 43232\, United States
CATEGORIES:Family Events,Public Skates,Special Events
ATTACH;FMTTYPE=image/jpeg:https://unitedskates-assets.sfo3.digitaloceanspaces.com/wp-content/uploads/sites/6/2024/11/2025-new-years-day-5E1.jpg
END:VEVENT
BEGIN:VEVENT
DTSTART;TZID=America/New_York:20250102T120000
DTEND;TZID=America/New_York:20250102T143000
DTSTAMP:20260425T214201
CREATED:20241101T200542Z
LAST-MODIFIED:20241101T201135Z
UID:17278-1735819200-1735828200@www.unitedskates.com
SUMMARY:❄️Winter Break Skating and Birthday Parties: Mickey and Minnie Skate🐭
DESCRIPTION:🎶🛼 Family Top 40 Pop 🎶🛼 \nCome Visit & get your Selfie with our Special Guest – Mickey & Minnie🦌 \n\nAdmission: $11.00\nSkate Rental: $6.00\n\n⏰ Session Times: Begin and end at the posted start & end time—no stayovers allowed. \n🚨 Important Info: \n\nAll guests ages 3-17 must pay admission & skate rental (or bring their own skates).\nNon-skating adults may enter at no charge.\nOnline waiver required for all adults and children entering the building. Click here to fill it out. Please have your signed waiver ready to show at check-in to make the process quick and easy. Effective 10/11/2024\n\n💥 Group Rates available for parties of 15+—Click here for reservations\n🎉 Birthday Parties available—CLICK HERE\n💡 Looking for a fun group event to earn money?—Click here for more info
URL:https://www.unitedskates.com/columbus/event/winter-break-skating-and-birthday-parties-mickey-and-minnie-skate/
LOCATION:United Skates Of America Columbus\, 3362 Refugee Rd\, Columbus\, OH\, 43232\, United States
CATEGORIES:Family Events,Public Skates,Special Events
ATTACH;FMTTYPE=image/jpeg:https://unitedskates-assets.sfo3.digitaloceanspaces.com/wp-content/uploads/sites/6/2024/11/R1.-Mickey-and-Minnie-010225.jpg
END:VEVENT
BEGIN:VEVENT
DTSTART;TZID=America/New_York:20250102T180000
DTEND;TZID=America/New_York:20250102T203000
DTSTAMP:20260425T214201
CREATED:20241101T201304Z
LAST-MODIFIED:20241101T201304Z
UID:17283-1735840800-1735849800@www.unitedskates.com
SUMMARY:Winter Break Affordable Skating and Birthday Parties
DESCRIPTION:🎶🛼 Family Top 40 Pop 🎶🛼 \n\nAdmission: $6.00\nSkate Rental: $6.00\n\n⏰ Session Times: Begin and end at the posted start & end time—no stayovers allowed. \n🚨 Important Info: \n\nAll guests ages 3-17 must pay admission & skate rental (or bring their own skates).\nNon-skating adults may enter at no charge.\nOnline waiver required for all adults and children entering the building. Click here to fill it out. Please have your signed waiver ready to show at check-in to make the process quick and easy. Effective 10/11/2024\n\n💥 Group Rates available for parties of 15+—Click here for reservations\n🎉 Birthday Parties available—CLICK HERE\n💡 Looking for a fun group event to earn money?—Click here for more info
URL:https://www.unitedskates.com/columbus/event/winter-break-affordable-skating-and-birthday-parties/
LOCATION:United Skates Of America Columbus\, 3362 Refugee Rd\, Columbus\, OH\, 43232\, United States
CATEGORIES:Family Events,Public Skates,Special Events
ATTACH;FMTTYPE=image/jpeg:https://unitedskates-assets.sfo3.digitaloceanspaces.com/wp-content/uploads/sites/6/2024/11/aff-skate-1200x1200-1.jpg
END:VEVENT
BEGIN:VEVENT
DTSTART;TZID=America/New_York:20250104T120000
DTEND;TZID=America/New_York:20250104T150000
DTSTAMP:20260425T214201
CREATED:20241101T201439Z
LAST-MODIFIED:20241101T201439Z
UID:17286-1735992000-1736002800@www.unitedskates.com
SUMMARY:Winter Break Skating and Birthday Parties
DESCRIPTION:🎶🛼 Family Top 40 Pop 🎶🛼 \n\nAdmission: $11.00\nSkate Rental: $6.00\n\n⏰ Session Times: Begin and end at the posted start & end time—no stayovers allowed. \n🚨 Important Info: \n\nAll guests ages 3-17 must pay admission & skate rental (or bring their own skates).\nNon-skating adults may enter at no charge.\nOnline waiver required for all adults and children entering the building. Click here to fill it out. Please have your signed waiver ready to show at check-in to make the process quick and easy. Effective 10/11/2024\n\n💥 Group Rates available for parties of 15+—Click here for reservations\n🎉 Birthday Parties available—CLICK HERE\n💡 Looking for a fun group event to earn money?—Click here for more info
URL:https://www.unitedskates.com/columbus/event/winter-break-skating-and-birthday-parties/
LOCATION:United Skates Of America Columbus\, 3362 Refugee Rd\, Columbus\, OH\, 43232\, United States
CATEGORIES:Family Events,Public Skates,Special Events
ATTACH;FMTTYPE=image/jpeg:https://unitedskates-assets.sfo3.digitaloceanspaces.com/wp-content/uploads/sites/6/2024/11/WB-skate-2022-1200x1200-1.jpg
END:VEVENT
BEGIN:VEVENT
DTSTART;TZID=America/New_York:20250107T180000
DTEND;TZID=America/New_York:20250107T203000
DTSTAMP:20260425T214201
CREATED:20241127T173056Z
LAST-MODIFIED:20250429T180617Z
UID:17332-1736272800-1736281800@www.unitedskates.com
SUMMARY:Two for $10 Family Skate
DESCRIPTION:🛼✨ Tuesday Night Skate Special! ✨🛼 \nJoin us every Tuesday Night from 6-8:30 PM for an amazing deal! \n\nAdmission: Two for $10 or One for $6\nSkate Rental: $6\n\n🚨 Important Info: \n\nAll guests ages 3-17 must pay admission & skate rental (or bring their own skates).\nNon-skating adults may enter at no charge.\nOnline waiver required for all guests—Click here to fill it out. Please have your signed waiver ready to show at check-in for a quicker process. Effective 10/11/24\n\n💥 Group Rates available for parties of 15+—Click here for reservations\n🎉 Birthday Parties available—CLICK HERE\n💡 Looking for a fun group event to earn money?—Click here for more info \n  \nMake Tuesday night your new skate night! 🛼✨
URL:https://www.unitedskates.com/columbus/event/two-for-10-family-skate-3/2025-01-07/
LOCATION:United Skates Of America Columbus\, 3362 Refugee Rd\, Columbus\, OH\, 43232\, United States
CATEGORIES:Family Events,Public Skates
ATTACH;FMTTYPE=image/jpeg:https://unitedskates-assets.sfo3.digitaloceanspaces.com/wp-content/uploads/sites/6/2024/08/2-for-10-dollars-2022-1200x1200-1.jpg
END:VEVENT
BEGIN:VEVENT
DTSTART;TZID=America/New_York:20250110T180000
DTEND;TZID=America/New_York:20250110T210000
DTSTAMP:20260425T214201
CREATED:20241127T174039Z
LAST-MODIFIED:20260204T172405Z
UID:17387-1736532000-1736542800@www.unitedskates.com
SUMMARY:Glow Public Skate and Birthdays Parties
DESCRIPTION:🌟🛼 Family GLOW Hip-Hop Skate Night! 🛼🌟 \n\nAdmission: $11.00\nSkate Rental: $6.00\n\n⏰ Session Times: Begin and end at the posted start & end time—no stayovers allowed. \n🚨 Important Info: \n\nAll guests ages 3-17 must pay admission & skate rental (or bring their own skates).\nNon-skating adults may enter at no charge.\nOnline waiver required for all adults and children entering the building. Click here to fill it out. Please have your signed waiver ready to show at check-in to make the process quick and easy. Effective 10/11/2024\n\n💥 Group Rates available for parties of 15+—Click here for reservations\n🎉 Birthday Parties available—CLICK HERE\n💡 Looking for a fun group event to earn money?—Click here for more info
URL:https://www.unitedskates.com/columbus/event/glow-public-skate-and-birthdays-parties-2/
LOCATION:United Skates Of America Columbus\, 3362 Refugee Rd\, Columbus\, OH\, 43232\, United States
CATEGORIES:Family Events,Public Skates
ATTACH;FMTTYPE=image/jpeg:https://unitedskates-assets.sfo3.digitaloceanspaces.com/wp-content/uploads/sites/6/2024/07/343053083_673651464524643_1698441044530308476_n.jpg
END:VEVENT
BEGIN:VEVENT
DTSTART;TZID=America/New_York:20250111T120000
DTEND;TZID=America/New_York:20250111T150000
DTSTAMP:20260425T214201
CREATED:20241127T174400Z
LAST-MODIFIED:20250326T210726Z
UID:17413-1736596800-1736607600@www.unitedskates.com
SUMMARY:Public Skate and Birthday Parties
DESCRIPTION:🎶🛼 Family Top 40 Pop Skate 🎶🛼 \n\nAdmission: $11.00\nSkate Rental: $6.00\n\n⏰ Session Times: Begin and end at the posted start & end time—no stayovers allowed. \n🚨 Important Info: \n\nAll guests ages 3-17 must pay admission & skate rental (or bring their own skates).\nNon-skating adults may enter at no charge.\nOnline waiver required for all adults and children entering the building. Click here to fill it out. Please have your signed waiver ready to show at check-in to make the process quick and easy. Effective 10/11/2024\n\n💥 Group Rates available for parties of 15+—Click here for reservations\n🎉 Birthday Parties available—CLICK HERE\n💡 Looking for a fun group event to earn money?—Click here for more info
URL:https://www.unitedskates.com/columbus/event/public-skate-and-birthday-parties-2/2025-01-11/
LOCATION:United Skates Of America Columbus\, 3362 Refugee Rd\, Columbus\, OH\, 43232\, United States
CATEGORIES:Family Events,Public Skates
ATTACH;FMTTYPE=image/jpeg:https://unitedskates-assets.sfo3.digitaloceanspaces.com/wp-content/uploads/sites/6/2024/07/600px-Public-Skate-1200x1200-v2.jpg
END:VEVENT
BEGIN:VEVENT
DTSTART;TZID=America/New_York:20250111T160000
DTEND;TZID=America/New_York:20250111T190000
DTSTAMP:20260425T214201
CREATED:20241127T174634Z
LAST-MODIFIED:20250127T160511Z
UID:17427-1736611200-1736622000@www.unitedskates.com
SUMMARY:Public Skating and Birthday Parties
DESCRIPTION:🎶🛼 Family Hip-Hop Skate 🎶🛼 \n\nAdmission: $11.00\nSkate Rental: $6.00\n\n⏰ Session Times: Begin and end at the posted start & end time—no stayovers allowed. \n🚨 Important Info: \n\nAll guests ages 3-17 must pay admission & skate rental (or bring their own skates).\nNon-skating adults may enter at no charge.\nOnline waiver required for all adults and children entering the building. Click here to fill it out. Please have your signed waiver ready to show at check-in to make the process quick and easy. Effective 10/11/2024\n\n💥 Group Rates available for parties of 15+—Click here for reservations\n🎉 Birthday Parties available—CLICK HERE\n💡 Looking for a fun group event to earn money?—Click here for more info
URL:https://www.unitedskates.com/columbus/event/public-skating-and-birthday-parties/2025-01-11/
LOCATION:OH
CATEGORIES:Family Events,Public Skates
ATTACH;FMTTYPE=image/jpeg:https://unitedskates-assets.sfo3.digitaloceanspaces.com/wp-content/uploads/sites/6/2024/07/600px-Public-Skate-1200x1200-v2.jpg
END:VEVENT
BEGIN:VEVENT
DTSTART;TZID=America/New_York:20250111T193000
DTEND;TZID=America/New_York:20250111T220000
DTSTAMP:20260425T214201
CREATED:20241127T175804Z
LAST-MODIFIED:20250127T160623Z
UID:17474-1736623800-1736632800@www.unitedskates.com
SUMMARY:Public Skating and Birthday Parties
DESCRIPTION:🎶🛼 Family Hip-Hop / R&B Skate 🎶🛼 \n\nAdmission: $12.00\nSkate Rental: $6.00\n\n⏰ Session Times: Begin and end at the posted start & end time—no stayovers allowed. \n🚨 Important Info: \n\nAll guests ages 3-17 must pay admission & skate rental (or bring their own skates).\nNon-skating adults may enter at no charge.\nOnline waiver required for all adults and children entering the building. Click here to fill it out. Please have your signed waiver ready to show at check-in to make the process quick and easy. Effective 10/11/2024\n\n💥 Group Rates available for parties of 15+—Click here for reservations\n🎉 Birthday Parties available—CLICK HERE\n💡 Looking for a fun group event to earn money?—Click here for more info
URL:https://www.unitedskates.com/columbus/event/public-skating-and-birthday-parties-9/2025-01-11/
LOCATION:United Skates Of America Columbus\, 3362 Refugee Rd\, Columbus\, OH\, 43232\, United States
CATEGORIES:Family Events,Public Skates
ATTACH;FMTTYPE=image/jpeg:https://unitedskates-assets.sfo3.digitaloceanspaces.com/wp-content/uploads/sites/6/2024/07/600px-Public-Skate-1200x1200-v2.jpg
END:VEVENT
BEGIN:VEVENT
DTSTART;TZID=America/New_York:20250112T130000
DTEND;TZID=America/New_York:20250112T153000
DTSTAMP:20260425T214201
CREATED:20241127T175146Z
LAST-MODIFIED:20250409T161422Z
UID:17443-1736686800-1736695800@www.unitedskates.com
SUMMARY:Public Skating and Birthday Parties
DESCRIPTION:🎶🛼 Family Hip-Hop Skate Night 🎶🛼 \n\nAdmission: $11.00\nSkate Rental: $6.00\n\n⏰ Session Times: Begin and end at the posted start & end time—no stayovers allowed. \n🚨 Important Info: \n\nAll guests ages 3-17 must pay admission & skate rental (or bring their own skates).\nNon-skating adults may enter at no charge.\nOnline waiver required for all adults and children entering the building. Click here to fill it out. Please have your signed waiver ready to show at check-in to make the process quick and easy. Effective 10/11/2024\n\n💥 Group Rates available for parties of 15+—Click here for reservations\n🎉 Birthday Parties available—CLICK HERE\n💡 Looking for a fun group event to earn money?—Click here for more info
URL:https://www.unitedskates.com/columbus/event/public-skating-and-birthday-parties-3/2025-01-12/
LOCATION:United Skates Of America Columbus\, 3362 Refugee Rd\, Columbus\, OH\, 43232\, United States
CATEGORIES:Family Events,Public Skates
ATTACH;FMTTYPE=image/jpeg:https://unitedskates-assets.sfo3.digitaloceanspaces.com/wp-content/uploads/sites/6/2024/07/600px-Public-Skate-1200x1200-v2.jpg
END:VEVENT
BEGIN:VEVENT
DTSTART;TZID=America/New_York:20250112T160000
DTEND;TZID=America/New_York:20250112T190000
DTSTAMP:20260425T214201
CREATED:20241127T175304Z
LAST-MODIFIED:20250409T161942Z
UID:17457-1736697600-1736708400@www.unitedskates.com
SUMMARY:Public Skating and Birthday Parties
DESCRIPTION:🎶🛼 Family Hip-Hop Skate Night 🎶🛼 \n\nAdmission: $11.00\nSkate Rental: $6.00\n\n⏰ Session Times: Begin and end at the posted start & end time—no stayovers allowed. \n🚨 Important Info: \n\nAll guests ages 3-17 must pay admission & skate rental (or bring their own skates).\nNon-skating adults may enter at no charge.\nOnline waiver required for all adults and children entering the building. Click here to fill it out. Please have your signed waiver ready to show at check-in to make the process quick and easy.\n\nEffective 10/11/2024 \n💥 Group Rates available for parties of 15+—Click here for reservations\n🎉 Birthday Parties available—CLICK HERE\n💡 Looking for a fun group event to earn money?—Click here for more info \nCome join the fun at Family Hip-Hop Skate Night!
URL:https://www.unitedskates.com/columbus/event/public-skating-and-birthday-parties-8/2025-01-12/
LOCATION:United Skates Of America Columbus\, 3362 Refugee Rd\, Columbus\, OH\, 43232\, United States
CATEGORIES:Family Events,Public Skates
ATTACH;FMTTYPE=image/jpeg:https://unitedskates-assets.sfo3.digitaloceanspaces.com/wp-content/uploads/sites/6/2024/07/600px-Public-Skate-1200x1200-v2.jpg
END:VEVENT
BEGIN:VEVENT
DTSTART;VALUE=DATE:20250117
DTEND;VALUE=DATE:20250122
DTSTAMP:20260425T214201
CREATED:20250106T182030Z
LAST-MODIFIED:20250106T182030Z
UID:17803-1737090000-1737435599@www.unitedskates.com
SUMMARY:2025 MLK Weekend Skating
DESCRIPTION:We are OPEN For MLK Weekend Skating! Join us for fun Family skating\, Birthday Party Reservations and Amazing Special Events!
URL:https://www.unitedskates.com/columbus/event/2025-mlk-weekend-skating/
LOCATION:United Skates Of America Columbus\, 3362 Refugee Rd\, Columbus\, OH\, 43232\, United States
CATEGORIES:Family Events,Public Skates,Special Events
ATTACH;FMTTYPE=image/jpeg:https://unitedskates-assets.sfo3.digitaloceanspaces.com/wp-content/uploads/sites/6/2025/01/MLK-weekend-break-2025-calendar-Front-rink1.jpg
END:VEVENT
BEGIN:VEVENT
DTSTART;TZID=America/New_York:20250117T180000
DTEND;TZID=America/New_York:20250117T210000
DTSTAMP:20260425T214201
CREATED:20250109T174402Z
LAST-MODIFIED:20250109T174425Z
UID:17868-1737136800-1737147600@www.unitedskates.com
SUMMARY:MLK GLOW Skate
DESCRIPTION:🌟🛼 Family GLOW Hip-Hop Skate Night! 🛼🌟 \n\nFriday January 17th\nAdmission: $11.00 includes FREE Glow Stick\nSkate Rental: $6.00\n\n⏰ Session Times: Begin and end at the posted start & end time—no stayovers allowed. \n🚨 Important Info: \n\nAll guests ages 3-17 must pay admission & skate rental (or bring their own skates).\nNon-skating adults may enter at no charge.\nOnline waiver required for all adults and children entering the building. Click here to fill it out. Please have your signed waiver ready to show at check-in to make the process quick and easy. Effective 10/11/2024\n\n💥 Group Rates available for parties of 15+—Click here for reservations\n🎉 Birthday Parties available—CLICK HERE\n💡 Looking for a fun group event to earn money?—Click here for more info
URL:https://www.unitedskates.com/columbus/event/mlk-glow-skate/
LOCATION:United Skates Of America Columbus\, 3362 Refugee Rd\, Columbus\, OH\, 43232\, United States
CATEGORIES:Family Events,Public Skates,Special Events
ATTACH;FMTTYPE=image/jpeg:https://unitedskates-assets.sfo3.digitaloceanspaces.com/wp-content/uploads/sites/6/2025/01/glow-skate-011725.jpg
END:VEVENT
BEGIN:VEVENT
DTSTART;TZID=America/New_York:20250119T130000
DTEND;TZID=America/New_York:20250119T153000
DTSTAMP:20260425T214201
CREATED:20250109T174635Z
LAST-MODIFIED:20250109T174636Z
UID:17872-1737291600-1737300600@www.unitedskates.com
SUMMARY:
DESCRIPTION:🌟🛼 Family GLOW Top 40 Pop Skate 🛼🌟 \n\nSunday January 19th\nAdmission: $11.00 includes FREE Glow Stick\nSkate Rental: $6.00\n\n⏰ Session Times: Begin and end at the posted start & end time—no stayovers allowed. \n🚨 Important Info: \n\nAll guests ages 3-17 must pay admission & skate rental (or bring their own skates).\nNon-skating adults may enter at no charge.\nOnline waiver required for all adults and children entering the building. Click here to fill it out. Please have your signed waiver ready to show at check-in to make the process quick and easy. Effective 10/11/2024\n\n💥 Group Rates available for parties of 15+—Click here for reservations\n🎉 Birthday Parties available—CLICK HERE\n💡 Looking for a fun group event to earn money?—Click here for more info
URL:https://www.unitedskates.com/columbus/event/17872/
LOCATION:United Skates Of America Columbus\, 3362 Refugee Rd\, Columbus\, OH\, 43232\, United States
CATEGORIES:Family Events,Public Skates,Special Events
ATTACH;FMTTYPE=image/jpeg:https://unitedskates-assets.sfo3.digitaloceanspaces.com/wp-content/uploads/sites/6/2025/01/glow-skate-011925.jpg
END:VEVENT
BEGIN:VEVENT
DTSTART;TZID=America/New_York:20250120T110000
DTEND;TZID=America/New_York:20250120T133000
DTSTAMP:20260425T214201
CREATED:20250109T175731Z
LAST-MODIFIED:20250109T175731Z
UID:17875-1737370800-1737379800@www.unitedskates.com
SUMMARY:MLK Day Skating & Birthday Parties
DESCRIPTION:🌟🛼 Family Game Card Skate ! 🛼🌟 \n\nMonday January 20th\nAdmission: $11.00 includes FREE Glow Stick\nSkate Rental: $6.00\n\n⏰ Session Times: Begin and end at the posted start & end time—no stayovers allowed. \n🚨 Important Info: \n\nAll guests ages 3-17 must pay admission & skate rental (or bring their own skates).\nNon-skating adults may enter at no charge.\nOnline waiver required for all adults and children entering the building. Click here to fill it out. Please have your signed waiver ready to show at check-in to make the process quick and easy. Effective 10/11/2024\n\n💥 Group Rates available for parties of 15+—Click here for reservations\n🎉 Birthday Parties available—CLICK HERE\n💡 Looking for a fun group event to earn money?—Click here for more info
URL:https://www.unitedskates.com/columbus/event/mlk-day-skating-birthday-parties/
LOCATION:United Skates Of America Columbus\, 3362 Refugee Rd\, Columbus\, OH\, 43232\, United States
CATEGORIES:Family Events,Public Skates,Special Events
ATTACH;FMTTYPE=image/jpeg:https://unitedskates-assets.sfo3.digitaloceanspaces.com/wp-content/uploads/sites/6/2025/01/mlk-day-singleday-2025-jpg.jpg
END:VEVENT
BEGIN:VEVENT
DTSTART;TZID=America/New_York:20250120T133000
DTEND;TZID=America/New_York:20250120T160000
DTSTAMP:20260425T214201
CREATED:20250109T175916Z
LAST-MODIFIED:20250109T175946Z
UID:17879-1737379800-1737388800@www.unitedskates.com
SUMMARY:MLK Day Family Skating and Birthday Parties
DESCRIPTION:🌟🛼 Family Hip-Hop / R&B Skate ! 🛼🌟 \n\nMonday January 20th\nAdmission: $11.00\nSkate Rental: $6.00\n\n⏰ Session Times: Begin and end at the posted start & end time—no stayovers allowed. \n🚨 Important Info: \n\nAll guests ages 3-17 must pay admission & skate rental (or bring their own skates).\nNon-skating adults may enter at no charge.\nOnline waiver required for all adults and children entering the building. Click here to fill it out. Please have your signed waiver ready to show at check-in to make the process quick and easy. Effective 10/11/2024\n\n💥 Group Rates available for parties of 15+—Click here for reservations\n🎉 Birthday Parties available—CLICK HERE\n💡 Looking for a fun group event to earn money?—Click here for more info
URL:https://www.unitedskates.com/columbus/event/17879/
LOCATION:United Skates Of America Columbus\, 3362 Refugee Rd\, Columbus\, OH\, 43232\, United States
CATEGORIES:Family Events,Public Skates,Special Events
ATTACH;FMTTYPE=image/jpeg:https://unitedskates-assets.sfo3.digitaloceanspaces.com/wp-content/uploads/sites/6/2025/01/mlk-day-singleday-2025-jpg.jpg
END:VEVENT
BEGIN:VEVENT
DTSTART;TZID=America/New_York:20250121T120000
DTEND;TZID=America/New_York:20250121T143000
DTSTAMP:20260425T214201
CREATED:20250109T180620Z
LAST-MODIFIED:20250109T180621Z
UID:17884-1737460800-1737469800@www.unitedskates.com
SUMMARY:School Day Out Skating and Birthday Parties
DESCRIPTION:🌟🛼 No School – Come Skate! ! 🛼🌟 \n\nTuesday & Wednesday January 21st & 22nd\nAdmission: $5.00\nSkate Rental: $6.00\n\n⏰ Session Times: Begin and end at the posted start & end time—no stayovers allowed. \n🚨 Important Info: \n\nAll guests ages 3-17 must pay admission & skate rental (or bring their own skates).\nNon-skating adults may enter at no charge.\nOnline waiver required for all adults and children entering the building. Click here to fill it out. Please have your signed waiver ready to show at check-in to make the process quick and easy. Effective 10/11/2024\n\n💥 Group Rates available for parties of 15+—Click here for reservations\n🎉 Birthday Parties available—CLICK HERE\n💡 Looking for a fun group event to earn money?—Click here for more info
URL:https://www.unitedskates.com/columbus/event/school-day-out-skating-and-birthday-parties/2025-01-21/
LOCATION:United Skates Of America Columbus\, 3362 Refugee Rd\, Columbus\, OH\, 43232\, United States
CATEGORIES:Family Events,Public Skates,Special Events
ATTACH;FMTTYPE=image/jpeg:https://unitedskates-assets.sfo3.digitaloceanspaces.com/wp-content/uploads/sites/6/2025/01/sdo-012125.jpg
END:VEVENT
END:VCALENDAR