BEGIN:VCALENDAR
VERSION:2.0
PRODID:-//Rink 1 - Columbus - ECPv6.15.20//NONSGML v1.0//EN
CALSCALE:GREGORIAN
METHOD:PUBLISH
X-ORIGINAL-URL:https://www.unitedskates.com/columbus
X-WR-CALDESC:Events for Rink 1 - Columbus
REFRESH-INTERVAL;VALUE=DURATION:PT1H
X-Robots-Tag:noindex
X-PUBLISHED-TTL:PT1H
BEGIN:VTIMEZONE
TZID:America/New_York
BEGIN:DAYLIGHT
TZOFFSETFROM:-0500
TZOFFSETTO:-0400
TZNAME:EDT
DTSTART:20250309T070000
END:DAYLIGHT
BEGIN:STANDARD
TZOFFSETFROM:-0400
TZOFFSETTO:-0500
TZNAME:EST
DTSTART:20251102T060000
END:STANDARD
BEGIN:DAYLIGHT
TZOFFSETFROM:-0500
TZOFFSETTO:-0400
TZNAME:EDT
DTSTART:20260308T070000
END:DAYLIGHT
BEGIN:STANDARD
TZOFFSETFROM:-0400
TZOFFSETTO:-0500
TZNAME:EST
DTSTART:20261101T060000
END:STANDARD
BEGIN:DAYLIGHT
TZOFFSETFROM:-0500
TZOFFSETTO:-0400
TZNAME:EDT
DTSTART:20270314T070000
END:DAYLIGHT
BEGIN:STANDARD
TZOFFSETFROM:-0400
TZOFFSETTO:-0500
TZNAME:EST
DTSTART:20271107T060000
END:STANDARD
END:VTIMEZONE
BEGIN:VEVENT
DTSTART;TZID=America/New_York:20260117T120000
DTEND;TZID=America/New_York:20260117T150000
DTSTAMP:20260419T095601
CREATED:20251204T142958Z
LAST-MODIFIED:20260113T160621Z
UID:21574-1768651200-1768662000@www.unitedskates.com
SUMMARY:MLK Weekend Skating!
DESCRIPTION:MLK Roller Skating \nJoin us for these sessions as we honor the legacy of Martin Luther King Jr.!\nKicking the weekend off\, Friday\, January 16: 6:00 PM – 9:00 PM | Friday Night Family Glow Skate & Birthday Parties\n\nAdmission: $11.00\nSkate Rental: $6.00\n\nSaturday\, January 17: 12:00 PM – 3:00 PM | Top 40 Family Skate & Birthday Parties\n\nAdmission: $11.00\nSkate Rental: $6.00\n\nSaturday\, January 17: 4:00 PM – 7:00 PM | Hip Hop + R&B Family Skate & Birthday Parties\n\nAdmission: $11.00\nSkate Rental: $6.00\n\nSaturday\, January 17: 7:30 PM – 10:00 PM | Hip Hop + R&B Public Skate\n\nAdmission: $12.00\nSkate Rental: $6.00\n\nSunday\, January 18: 1:00 PM – 3:30 PM | Top 40 Family Skate & Birthday Parties\n\nAdmission: $11.00\nSkate Rental: $6.00\n\nSunday\, January 18: 4:00 PM – 7:00 PM | Hip Hop + R&B Family Skate & Birthday Parties\n\nAdmission: $11.00\nSkate Rental: $6.00\n\nMonday\, January 19: 10:00 AM – 12:00 PM | Early Bird Family Skate\n\nAdmission: $5.00\nSkate Rental: $6.00\n\nMonday\, January 19: 12:00 PM – 3:00 PM | Top 40 Family Skate & Birthday Parties\n\nAdmission: $8.00\nSkate Rental: $6.00\n\nMonday\, January 19: 3:30 PM – 6:30 PM | Hip Hop + R&B Family Skate & Birthday Parties\n\nAdmission: $8.00\nSkate Rental: $6.00\n\nTuesday\, January 20: 12:00 PM – 2:30 PM | Top 40 Family Skate\n\nAdmission: $5.00\nSkate Rental: $6.00\n\nTuesday\, January 20: 6:00 PM – 8:30 PM | Hip Hop + R&B Family Skate & Birthday Parties\n\nAdmission: $6.00\nSkate Rental: $6.00\n\n Session Times: Begin and end at the posted start & end time—no stayovers allowed. \n Important Info: \n\nAll guests ages 3-17 must pay admission & skate rental (or bring their own skates).\nNon-skating adults may enter at no charge.\nOnline waiver required for all adults and children entering the building. Click here to fill it out. Please have your signed waiver ready to show at check-in to make the process quick and easy. Effective 10/11/2024\n\n Group Rates available for parties of 15+—Click here for reservations\n Birthday Parties available—CLICK HERE\n Looking for a fun group event to earn money?—Click here for more info
URL:https://www.unitedskates.com/columbus/event/mlk-weekend-skating/2026-01-17/
LOCATION:United Skates Of America Columbus\, 3362 Refugee Rd\, Columbus\, OH\, 43232\, United States
CATEGORIES:Family Events,Public Skates
ATTACH;FMTTYPE=image/jpeg:https://unitedskates-assets.sfo3.digitaloceanspaces.com/wp-content/uploads/sites/6/2025/12/Dr.-MLK-Jr.-Roller-Skate-Weekend.jpg
END:VEVENT
BEGIN:VEVENT
DTSTART;TZID=America/New_York:20260117T160000
DTEND;TZID=America/New_York:20260117T190000
DTSTAMP:20260419T095601
CREATED:20251204T142958Z
LAST-MODIFIED:20260113T160621Z
UID:21575-1768665600-1768676400@www.unitedskates.com
SUMMARY:MLK Weekend Skating!
DESCRIPTION:MLK Roller Skating \nJoin us for these sessions as we honor the legacy of Martin Luther King Jr.!\nKicking the weekend off\, Friday\, January 16: 6:00 PM – 9:00 PM | Friday Night Family Glow Skate & Birthday Parties\n\nAdmission: $11.00\nSkate Rental: $6.00\n\nSaturday\, January 17: 12:00 PM – 3:00 PM | Top 40 Family Skate & Birthday Parties\n\nAdmission: $11.00\nSkate Rental: $6.00\n\nSaturday\, January 17: 4:00 PM – 7:00 PM | Hip Hop + R&B Family Skate & Birthday Parties\n\nAdmission: $11.00\nSkate Rental: $6.00\n\nSaturday\, January 17: 7:30 PM – 10:00 PM | Hip Hop + R&B Public Skate\n\nAdmission: $12.00\nSkate Rental: $6.00\n\nSunday\, January 18: 1:00 PM – 3:30 PM | Top 40 Family Skate & Birthday Parties\n\nAdmission: $11.00\nSkate Rental: $6.00\n\nSunday\, January 18: 4:00 PM – 7:00 PM | Hip Hop + R&B Family Skate & Birthday Parties\n\nAdmission: $11.00\nSkate Rental: $6.00\n\nMonday\, January 19: 10:00 AM – 12:00 PM | Early Bird Family Skate\n\nAdmission: $5.00\nSkate Rental: $6.00\n\nMonday\, January 19: 12:00 PM – 3:00 PM | Top 40 Family Skate & Birthday Parties\n\nAdmission: $8.00\nSkate Rental: $6.00\n\nMonday\, January 19: 3:30 PM – 6:30 PM | Hip Hop + R&B Family Skate & Birthday Parties\n\nAdmission: $8.00\nSkate Rental: $6.00\n\nTuesday\, January 20: 12:00 PM – 2:30 PM | Top 40 Family Skate\n\nAdmission: $5.00\nSkate Rental: $6.00\n\nTuesday\, January 20: 6:00 PM – 8:30 PM | Hip Hop + R&B Family Skate & Birthday Parties\n\nAdmission: $6.00\nSkate Rental: $6.00\n\n Session Times: Begin and end at the posted start & end time—no stayovers allowed. \n Important Info: \n\nAll guests ages 3-17 must pay admission & skate rental (or bring their own skates).\nNon-skating adults may enter at no charge.\nOnline waiver required for all adults and children entering the building. Click here to fill it out. Please have your signed waiver ready to show at check-in to make the process quick and easy. Effective 10/11/2024\n\n Group Rates available for parties of 15+—Click here for reservations\n Birthday Parties available—CLICK HERE\n Looking for a fun group event to earn money?—Click here for more info
URL:https://www.unitedskates.com/columbus/event/mlk-weekend-skating/2026-01-17/2/
LOCATION:United Skates Of America Columbus\, 3362 Refugee Rd\, Columbus\, OH\, 43232\, United States
CATEGORIES:Family Events,Public Skates
ATTACH;FMTTYPE=image/jpeg:https://unitedskates-assets.sfo3.digitaloceanspaces.com/wp-content/uploads/sites/6/2025/12/Dr.-MLK-Jr.-Roller-Skate-Weekend.jpg
END:VEVENT
BEGIN:VEVENT
DTSTART;TZID=America/New_York:20260117T193000
DTEND;TZID=America/New_York:20260117T220000
DTSTAMP:20260419T095601
CREATED:20251204T142958Z
LAST-MODIFIED:20251204T142958Z
UID:21749-1768678200-1768687200@www.unitedskates.com
SUMMARY:MLK Weekend Skating!
DESCRIPTION:MLK Roller Skating \nJoin us for these sessions as we honor the legacy of Martin Luther King Jr.!\nKicking the weekend off\, Friday\, January 16: 6:00 PM – 9:00 PM | Friday Night Family Glow Skate & Birthday Parties\n\nAdmission: $11.00\nSkate Rental: $6.00\n\nSaturday\, January 17: 12:00 PM – 3:00 PM | Top 40 Family Skate & Birthday Parties\n\nAdmission: $11.00\nSkate Rental: $6.00\n\nSaturday\, January 17: 4:00 PM – 7:00 PM | Hip Hop + R&B Family Skate & Birthday Parties\n\nAdmission: $11.00\nSkate Rental: $6.00\n\nSaturday\, January 17: 7:30 PM – 10:00 PM | Hip Hop + R&B Public Skate\n\nAdmission: $12.00\nSkate Rental: $6.00\n\nSunday\, January 18: 1:00 PM – 3:30 PM | Top 40 Family Skate & Birthday Parties\n\nAdmission: $11.00\nSkate Rental: $6.00\n\nSunday\, January 18: 4:00 PM – 7:00 PM | Hip Hop + R&B Family Skate & Birthday Parties\n\nAdmission: $11.00\nSkate Rental: $6.00\n\nMonday\, January 19: 10:00 AM – 12:00 PM | Early Bird Family Skate\n\nAdmission: $5.00\nSkate Rental: $6.00\n\nMonday\, January 19: 12:00 PM – 3:00 PM | Top 40 Family Skate & Birthday Parties\n\nAdmission: $8.00\nSkate Rental: $6.00\n\nMonday\, January 19: 3:30 PM – 6:30 PM | Hip Hop + R&B Family Skate & Birthday Parties\n\nAdmission: $8.00\nSkate Rental: $6.00\n\nTuesday\, January 20: 12:00 PM – 2:30 PM | Top 40 Family Skate\n\nAdmission: $5.00\nSkate Rental: $6.00\n\nTuesday\, January 20: 6:00 PM – 8:30 PM | Hip Hop + R&B Family Skate & Birthday Parties\n\nAdmission: $6.00\nSkate Rental: $6.00\n\n Session Times: Begin and end at the posted start & end time—no stayovers allowed. \n Important Info: \n\nAll guests ages 3-17 must pay admission & skate rental (or bring their own skates).\nNon-skating adults may enter at no charge.\nOnline waiver required for all adults and children entering the building. Click here to fill it out. Please have your signed waiver ready to show at check-in to make the process quick and easy. Effective 10/11/2024\n\n Group Rates available for parties of 15+—Click here for reservations\n Birthday Parties available—CLICK HERE\n Looking for a fun group event to earn money?—Click here for more info
URL:https://www.unitedskates.com/columbus/event/mlk-weekend-skating/2026-01-17/
LOCATION:United Skates Of America Columbus\, 3362 Refugee Rd\, Columbus\, OH\, 43232\, United States
CATEGORIES:Family Events,Public Skates
ATTACH;FMTTYPE=image/jpeg:https://unitedskates-assets.sfo3.digitaloceanspaces.com/wp-content/uploads/sites/6/2025/12/Dr.-MLK-Jr.-Roller-Skate-Weekend.jpg
END:VEVENT
END:VCALENDAR