BEGIN:VCALENDAR
VERSION:2.0
PRODID:-//Rink 1 - Columbus - ECPv6.15.20//NONSGML v1.0//EN
CALSCALE:GREGORIAN
METHOD:PUBLISH
X-ORIGINAL-URL:https://www.unitedskates.com/columbus
X-WR-CALDESC:Events for Rink 1 - Columbus
REFRESH-INTERVAL;VALUE=DURATION:PT1H
X-Robots-Tag:noindex
X-PUBLISHED-TTL:PT1H
BEGIN:VTIMEZONE
TZID:America/New_York
BEGIN:DAYLIGHT
TZOFFSETFROM:-0500
TZOFFSETTO:-0400
TZNAME:EDT
DTSTART:20250309T070000
END:DAYLIGHT
BEGIN:STANDARD
TZOFFSETFROM:-0400
TZOFFSETTO:-0500
TZNAME:EST
DTSTART:20251102T060000
END:STANDARD
BEGIN:DAYLIGHT
TZOFFSETFROM:-0500
TZOFFSETTO:-0400
TZNAME:EDT
DTSTART:20260308T070000
END:DAYLIGHT
BEGIN:STANDARD
TZOFFSETFROM:-0400
TZOFFSETTO:-0500
TZNAME:EST
DTSTART:20261101T060000
END:STANDARD
BEGIN:DAYLIGHT
TZOFFSETFROM:-0500
TZOFFSETTO:-0400
TZNAME:EDT
DTSTART:20270314T070000
END:DAYLIGHT
BEGIN:STANDARD
TZOFFSETFROM:-0400
TZOFFSETTO:-0500
TZNAME:EST
DTSTART:20271107T060000
END:STANDARD
END:VTIMEZONE
BEGIN:VEVENT
DTSTART;TZID=America/New_York:20260107T180000
DTEND;TZID=America/New_York:20260107T200000
DTSTAMP:20260419T093858
CREATED:20260101T203747Z
LAST-MODIFIED:20260106T220528Z
UID:20845-1767808800-1767816000@www.unitedskates.com
SUMMARY:STILL Golden\, let's get Rollin'! K-POP Music Skate Party
DESCRIPTION:🔥🌟🛼 K-POP MUSIC ROLLER SKATE PARTY 🛼🔥Wednesday\, January 7 from 6:00 PM – 8:00PM \nIt’s time to slay and glow up the skating rink floor! ✨  \nJoin us for a high-energy night featuring:🎶 K-Pop hits🎶 Soundtrack from K-Pop Demon Hunters🎶 Netflix K-Pop Demon Hunters Silent Screening \nDress to shine\, bring your crew\, and light up the floor with us! 💜⚡️ \n\nAdmission: $11.00\nSkate Rental: $6.00\n\n⏰ Session Times: Begin and end at the posted start & end time—no stayovers allowed. \n🚨 Important Info: \n\nAll guests ages 3-17 must pay admission & skate rental (or bring their own skates).\nNon-skating adults may enter at no charge.\nOnline waiver required for all adults and children entering the building. Click here to fill it out. Please have your signed waiver ready to show at check-in to make the process quick and easy. Effective 10/11/2024\n\n💥 Group Rates available for parties of 15+—Click here for reservations\n🎉 Birthday Parties available—CLICK HERE\n💡 Looking for a fun group event to earn money?—Click here for more info
URL:https://www.unitedskates.com/columbus/event/still-golden-lets-get-rollin-k-pop-music-skate-party/
LOCATION:United Skates Of America Columbus\, 3362 Refugee Rd\, Columbus\, OH\, 43232\, United States
CATEGORIES:Family Events,Public Skates,Special Events
ATTACH;FMTTYPE=image/jpeg:https://unitedskates-assets.sfo3.digitaloceanspaces.com/wp-content/uploads/sites/6/2025/04/KPOPskate-Jan.7.2026.jpg
END:VEVENT
END:VCALENDAR