BEGIN:VCALENDAR
VERSION:2.0
PRODID:-//Rink 1 - Columbus - ECPv6.15.20//NONSGML v1.0//EN
CALSCALE:GREGORIAN
METHOD:PUBLISH
X-WR-CALNAME:Rink 1 - Columbus
X-ORIGINAL-URL:https://www.unitedskates.com/columbus
X-WR-CALDESC:Events for Rink 1 - Columbus
REFRESH-INTERVAL;VALUE=DURATION:PT1H
X-Robots-Tag:noindex
X-PUBLISHED-TTL:PT1H
BEGIN:VTIMEZONE
TZID:America/New_York
BEGIN:DAYLIGHT
TZOFFSETFROM:-0500
TZOFFSETTO:-0400
TZNAME:EDT
DTSTART:20240310T070000
END:DAYLIGHT
BEGIN:STANDARD
TZOFFSETFROM:-0400
TZOFFSETTO:-0500
TZNAME:EST
DTSTART:20241103T060000
END:STANDARD
BEGIN:DAYLIGHT
TZOFFSETFROM:-0500
TZOFFSETTO:-0400
TZNAME:EDT
DTSTART:20250309T070000
END:DAYLIGHT
BEGIN:STANDARD
TZOFFSETFROM:-0400
TZOFFSETTO:-0500
TZNAME:EST
DTSTART:20251102T060000
END:STANDARD
BEGIN:DAYLIGHT
TZOFFSETFROM:-0500
TZOFFSETTO:-0400
TZNAME:EDT
DTSTART:20260308T070000
END:DAYLIGHT
BEGIN:STANDARD
TZOFFSETFROM:-0400
TZOFFSETTO:-0500
TZNAME:EST
DTSTART:20261101T060000
END:STANDARD
END:VTIMEZONE
BEGIN:VEVENT
DTSTART;TZID=America/New_York:20251225T080000
DTEND;TZID=America/New_York:20251225T210000
DTSTAMP:20260424T134059
CREATED:20250910T182845Z
LAST-MODIFIED:20260115T210911Z
UID:21043-1766649600-1766696400@www.unitedskates.com
SUMMARY:Closed for Private Events
DESCRIPTION:🎉 Daytime and Evening Private Events 🎉\n🛼 School Parties\, Fundraisers\, Birthday Parties & MORE!\n📞 Contact Us for Availability: 614-239-7202\n⭐ Reservations Required ⭐ \n📚 SCHOOL STEM OR FUN FIELD TRIPS (Min 75 Guests)\n🏢 CORPORATE EVENTS\n🧍‍♂️ ALL SKATERS (Adults & Parents of Children) must sign a 📝 Liability Waiver \n⏰ All sessions start and end at posted times – No stayovers
URL:https://www.unitedskates.com/columbus/event/closed-for-private-events/2025-12-25/
LOCATION:OH
CATEGORIES:Private Parties
ATTACH;FMTTYPE=image/jpeg:https://unitedskates-assets.sfo3.digitaloceanspaces.com/wp-content/uploads/sites/6/2025/09/1080x1080-ClosedforPrivateevent-1.jpg
END:VEVENT
BEGIN:VEVENT
DTSTART;TZID=America/New_York:20251225T180000
DTEND;TZID=America/New_York:20251225T203000
DTSTAMP:20260424T134059
CREATED:20251204T121643Z
LAST-MODIFIED:20251210T183437Z
UID:20394-1766685600-1766694600@www.unitedskates.com
SUMMARY:Merry Christmas! Let's Roll!
DESCRIPTION:🎅 Merry Christmas! Family Old School Skating 🎄🎅\nThursday\, December 25 from 6:00 PM – 8:30 PM\nWe are open for Christmas! Come roll with us!\n\nAdmission: $6.00\nSkate Rental: $6.00\nDiscounted Admission available to purchase online (tickets must be purchased before the session) https://bzone.bookingzone.com/EwAynD\n\n Session Times: Begin and end at the posted start & end time—no stayovers allowed. \n Important Info: \n\nAll guests ages 3-17 must pay admission & skate rental (or bring their own skates).\nNon-skating adults may enter at no charge.\nOnline waiver required for all adults and children entering the building. Click here to fill it out. Please have your signed waiver ready to show at check-in to make the process quick and easy. Effective 10/11/2024\n\n Group Rates available for parties of 15+—Click here for reservations\n Birthday Parties available—CLICK HERE\n Looking for a fun group event to earn money?—Click here for more info
URL:https://www.unitedskates.com/columbus/event/merry-christmas-lets-roll/
LOCATION:United Skates Of America Columbus\, 3362 Refugee Rd\, Columbus\, OH\, 43232\, United States
CATEGORIES:Family Events,Public Skates,Special Events
ATTACH;FMTTYPE=image/jpeg:https://unitedskates-assets.sfo3.digitaloceanspaces.com/wp-content/uploads/sites/6/2025/12/rink1-2025-christmasdayskate.jpg
END:VEVENT
END:VCALENDAR