BEGIN:VCALENDAR
VERSION:2.0
PRODID:-//Rink 1 - Columbus - ECPv6.15.20//NONSGML v1.0//EN
CALSCALE:GREGORIAN
METHOD:PUBLISH
X-ORIGINAL-URL:https://www.unitedskates.com/columbus
X-WR-CALDESC:Events for Rink 1 - Columbus
REFRESH-INTERVAL;VALUE=DURATION:PT1H
X-Robots-Tag:noindex
X-PUBLISHED-TTL:PT1H
BEGIN:VTIMEZONE
TZID:America/New_York
BEGIN:DAYLIGHT
TZOFFSETFROM:-0500
TZOFFSETTO:-0400
TZNAME:EDT
DTSTART:20240310T070000
END:DAYLIGHT
BEGIN:STANDARD
TZOFFSETFROM:-0400
TZOFFSETTO:-0500
TZNAME:EST
DTSTART:20241103T060000
END:STANDARD
BEGIN:DAYLIGHT
TZOFFSETFROM:-0500
TZOFFSETTO:-0400
TZNAME:EDT
DTSTART:20250309T070000
END:DAYLIGHT
BEGIN:STANDARD
TZOFFSETFROM:-0400
TZOFFSETTO:-0500
TZNAME:EST
DTSTART:20251102T060000
END:STANDARD
BEGIN:DAYLIGHT
TZOFFSETFROM:-0500
TZOFFSETTO:-0400
TZNAME:EDT
DTSTART:20260308T070000
END:DAYLIGHT
BEGIN:STANDARD
TZOFFSETFROM:-0400
TZOFFSETTO:-0500
TZNAME:EST
DTSTART:20261101T060000
END:STANDARD
END:VTIMEZONE
BEGIN:VEVENT
DTSTART;TZID=America/New_York:20250804T120000
DTEND;TZID=America/New_York:20250804T150000
DTSTAMP:20260425T124451
CREATED:20250429T190732Z
LAST-MODIFIED:20250610T184328Z
UID:19264-1754308800-1754319600@www.unitedskates.com
SUMMARY:Public Skating and Birthdays
DESCRIPTION:🛼✨ Monday Skate Special! ✨🛼 \nJoin us every Monday from 12pm-3:00pm for an amazing deal! \n\nAdmission: $5.00\nSkate Rental: $6\nAdmission available to purchase online or at door https://bzone.bookingzone.com/EwAynD\n\n🚨 Important Info: \n\nAll guests ages 3-17 must pay admission & skate rental (or bring their own skates).\nNon-skating adults may enter at no charge.\nOnline waiver required for all guests—Click here to fill it out. Please have your signed waiver ready to show at check-in for a quicker process. Effective 10/11/24\n\n💥 Group Rates available for parties of 15+—Click here for reservations\n🎉 Birthday Parties available—CLICK HERE\n💡 Looking for a fun group event to earn money?—Click here for more info \n  \nMake Mondays your summer skate party! 🛼✨
URL:https://www.unitedskates.com/columbus/event/public-skating-and-birthdays-6/2025-08-04/
LOCATION:United Skates Of America Columbus\, 3362 Refugee Rd\, Columbus\, OH\, 43232\, United States
CATEGORIES:Family Events,Public Skates
ATTACH;FMTTYPE=image/jpeg:https://unitedskates-assets.sfo3.digitaloceanspaces.com/wp-content/uploads/sites/6/2025/04/5-Dollar-Monday-2025-1.jpg
END:VEVENT
BEGIN:VEVENT
DTSTART;TZID=America/New_York:20250804T190000
DTEND;TZID=America/New_York:20250804T220000
DTSTAMP:20260425T124451
CREATED:20250429T182458Z
LAST-MODIFIED:20250429T182458Z
UID:18657-1754334000-1754344800@www.unitedskates.com
SUMMARY:Adult Skating - Newbie Night
DESCRIPTION:🛼🎶 Newbie Adult Skate Night! 🎶🛼 \nWhether you’re a new skater or getting back into the groove\, this night is for you! \n\nAdmission: $11.00\nSkate Rental: $6.00\nCollege Discount: Show a valid college photo ID for $2.00 off admission! 🎓\n\n📅 For Ages 18+ (must show valid photo ID)\nGet ready to skate to the smooth sounds of Soul and R&B music all night long! 🎶💃 \n🚨 Important Info: \n\nOnline waiver required for all guests—Click here to fill it out. Please have your signed waiver ready to show at check-in for a quicker process. -Effective 10/11/2024\n\nCome enjoy a fun and relaxed night at Newbie Adult Skate Night! 🛼
URL:https://www.unitedskates.com/columbus/event/adult-skating-newbie-night/2025-08-04/
LOCATION:United Skates Of America Columbus\, 3362 Refugee Rd\, Columbus\, OH\, 43232\, United States
CATEGORIES:Adult Events
ATTACH;FMTTYPE=image/jpeg:https://unitedskates-assets.sfo3.digitaloceanspaces.com/wp-content/uploads/sites/6/2025/04/600px-Newbie-Skate-1200x1200-1.jpg
END:VEVENT
END:VCALENDAR