BEGIN:VCALENDAR
VERSION:2.0
PRODID:-//Rink 1 - Columbus - ECPv6.15.20//NONSGML v1.0//EN
CALSCALE:GREGORIAN
METHOD:PUBLISH
X-WR-CALNAME:Rink 1 - Columbus
X-ORIGINAL-URL:https://www.unitedskates.com/columbus
X-WR-CALDESC:Events for Rink 1 - Columbus
REFRESH-INTERVAL;VALUE=DURATION:PT1H
X-Robots-Tag:noindex
X-PUBLISHED-TTL:PT1H
BEGIN:VTIMEZONE
TZID:America/New_York
BEGIN:DAYLIGHT
TZOFFSETFROM:-0500
TZOFFSETTO:-0400
TZNAME:EDT
DTSTART:20240310T070000
END:DAYLIGHT
BEGIN:STANDARD
TZOFFSETFROM:-0400
TZOFFSETTO:-0500
TZNAME:EST
DTSTART:20241103T060000
END:STANDARD
BEGIN:DAYLIGHT
TZOFFSETFROM:-0500
TZOFFSETTO:-0400
TZNAME:EDT
DTSTART:20250309T070000
END:DAYLIGHT
BEGIN:STANDARD
TZOFFSETFROM:-0400
TZOFFSETTO:-0500
TZNAME:EST
DTSTART:20251102T060000
END:STANDARD
BEGIN:DAYLIGHT
TZOFFSETFROM:-0500
TZOFFSETTO:-0400
TZNAME:EDT
DTSTART:20260308T070000
END:DAYLIGHT
BEGIN:STANDARD
TZOFFSETFROM:-0400
TZOFFSETTO:-0500
TZNAME:EST
DTSTART:20261101T060000
END:STANDARD
END:VTIMEZONE
BEGIN:VEVENT
DTSTART;TZID=America/New_York:20250701T210000
DTEND;TZID=America/New_York:20250701T235900
DTSTAMP:20260425T170436
CREATED:20250429T182733Z
LAST-MODIFIED:20250820T152856Z
UID:18684-1751403600-1751414340@www.unitedskates.com
SUMMARY:Adult Skate Night
DESCRIPTION:🛼🎶 Adult Skate Night! 🎶🛼\n\n\n\n\n\n\n\n\n\n\nWhether you’re a new skater or getting back in Stride\, this Adult night is for you! \n\nAdmission: $11.00\nSkate Rental: $6.00\n\n📅 For Ages 18+ (must show valid photo ID)\nGet ready to skate to Soul\, R&B\, Hip-Hop\, and G-Funk all night long! Live set by DJ Jay T 🎶🔥 \n🚨 Important Info: \n\nOnline waiver required for all guests—Click here to fill it out. Please have your signed waiver ready to show at check-in for a quicker process. Effective 10/11/2024
URL:https://www.unitedskates.com/columbus/event/adult-skating-3-2025-07-01/2025-07-01/
LOCATION:OH
CATEGORIES:Adult Events
ATTACH;FMTTYPE=image/jpeg:https://unitedskates-assets.sfo3.digitaloceanspaces.com/wp-content/uploads/sites/6/2025/04/1080X1080-TuesAdultSkate-forwebsite-1.jpg
END:VEVENT
END:VCALENDAR