BEGIN:VCALENDAR
VERSION:2.0
PRODID:-//Rink 1 - Columbus - ECPv6.15.20//NONSGML v1.0//EN
CALSCALE:GREGORIAN
METHOD:PUBLISH
X-WR-CALNAME:Rink 1 - Columbus
X-ORIGINAL-URL:https://www.unitedskates.com/columbus
X-WR-CALDESC:Events for Rink 1 - Columbus
REFRESH-INTERVAL;VALUE=DURATION:PT1H
X-Robots-Tag:noindex
X-PUBLISHED-TTL:PT1H
BEGIN:VTIMEZONE
TZID:America/New_York
BEGIN:DAYLIGHT
TZOFFSETFROM:-0500
TZOFFSETTO:-0400
TZNAME:EDT
DTSTART:20240310T070000
END:DAYLIGHT
BEGIN:STANDARD
TZOFFSETFROM:-0400
TZOFFSETTO:-0500
TZNAME:EST
DTSTART:20241103T060000
END:STANDARD
BEGIN:DAYLIGHT
TZOFFSETFROM:-0500
TZOFFSETTO:-0400
TZNAME:EDT
DTSTART:20250309T070000
END:DAYLIGHT
BEGIN:STANDARD
TZOFFSETFROM:-0400
TZOFFSETTO:-0500
TZNAME:EST
DTSTART:20251102T060000
END:STANDARD
BEGIN:DAYLIGHT
TZOFFSETFROM:-0500
TZOFFSETTO:-0400
TZNAME:EDT
DTSTART:20260308T070000
END:DAYLIGHT
BEGIN:STANDARD
TZOFFSETFROM:-0400
TZOFFSETTO:-0500
TZNAME:EST
DTSTART:20261101T060000
END:STANDARD
END:VTIMEZONE
BEGIN:VEVENT
DTSTART;TZID=America/New_York:20250503T120000
DTEND;TZID=America/New_York:20250503T150000
DTSTAMP:20260425T211113
CREATED:20250404T190545Z
LAST-MODIFIED:20250404T190917Z
UID:18454-1746273600-1746284400@www.unitedskates.com
SUMMARY:Public Skating and Birthday Parties: Luau Skate with STITCH
DESCRIPTION:Luau Skate with STITCH 💙💐 \n🎶🛼 Family Top 40 Pop Skate 🎶🛼 \n\nAdmission: $11.00\nSkate Rental: $6.00\nVisit STITCH at the Skating Rink! Selfies\, Games & More!!\n\n⏰ Session Times: Begin and end at the posted start & end time—no stayovers allowed. \n🚨 Important Info: \n\nAll guests ages 3-17 must pay admission & skate rental (or bring their own skates).\nNon-skating adults may enter at no charge.\nOnline waiver required for all adults and children entering the building. Click here to fill it out. Please have your signed waiver ready to show at check-in to make the process quick and easy. Effective 10/11/2024\n\n💥 Group Rates available for parties of 15+—Click here for reservations\n🎉 Birthday Parties available—CLICK HERE\n💡 Looking for a fun group event to earn money?—Click here for more info
URL:https://www.unitedskates.com/columbus/event/public-skating-and-birthday-parties-luau-skate-with-stitch/
LOCATION:United Skates Of America Columbus\, 3362 Refugee Rd\, Columbus\, OH\, 43232\, United States
CATEGORIES:Family Events,Public Skates,Special Events
ATTACH;FMTTYPE=image/jpeg:https://unitedskates-assets.sfo3.digitaloceanspaces.com/wp-content/uploads/sites/6/2025/04/skate-luau-with-Stitch-050325.jpg
END:VEVENT
BEGIN:VEVENT
DTSTART;TZID=America/New_York:20250504T130000
DTEND;TZID=America/New_York:20250504T153000
DTSTAMP:20260425T211113
CREATED:20250409T161750Z
LAST-MODIFIED:20250409T205702Z
UID:18466-1746363600-1746372600@www.unitedskates.com
SUMMARY:Public Skating: $5 Sundays
DESCRIPTION:🎶🛼 Family Hip-Hop Skate 🎶🛼 \n\nAdmission: $5.00\nSkate Rental: $6.00\n\n⏰ Session Times: Begin and end at the posted start & end time—no stayovers allowed. \n🚨 Important Info: \n\nAll guests ages 3-17 must pay admission & skate rental (or bring their own skates).\nNon-skating adults may enter at no charge.\nOnline waiver required for all adults and children entering the building. Click here to fill it out. Please have your signed waiver ready to show at check-in to make the process quick and easy. Effective 10/11/2024\n\n💥 Group Rates available for parties of 15+—Click here for reservations\n🎉 Birthday Parties available—CLICK HERE\n💡 Looking for a fun group event to earn money?—Click here for more info
URL:https://www.unitedskates.com/columbus/event/public-skating-5-sundays/2025-05-04/
LOCATION:United Skates Of America Columbus\, 3362 Refugee Rd\, Columbus\, OH\, 43232\, United States
CATEGORIES:Family Events,Public Skates,Special Events
ATTACH;FMTTYPE=image/jpeg:https://unitedskates-assets.sfo3.digitaloceanspaces.com/wp-content/uploads/sites/6/2025/04/R1.-5-Dollar-Sunday-MAY2025.jpg
END:VEVENT
BEGIN:VEVENT
DTSTART;TZID=America/New_York:20250504T160000
DTEND;TZID=America/New_York:20250504T190000
DTSTAMP:20260425T211113
CREATED:20250409T162138Z
LAST-MODIFIED:20250409T162138Z
UID:18471-1746374400-1746385200@www.unitedskates.com
SUMMARY:Public Skate: $5.00 Sundays
DESCRIPTION:🎶🛼 Family Hip-Hop Skate 🎶🛼 \n\nAdmission: $5.00\nSkate Rental: $6.00\n\n⏰ Session Times: Begin and end at the posted start & end time—no stayovers allowed. \n🚨 Important Info: \n\nAll guests ages 3-17 must pay admission & skate rental (or bring their own skates).\nNon-skating adults may enter at no charge.\nOnline waiver required for all adults and children entering the building. Click here to fill it out. Please have your signed waiver ready to show at check-in to make the process quick and easy. Effective 10/11/2024\n\n💥 Group Rates available for parties of 15+—Click here for reservations\n🎉 Birthday Parties available—CLICK HERE\n💡 Looking for a fun group event to earn money?—Click here for more info
URL:https://www.unitedskates.com/columbus/event/public-skate-5-00-sundays/2025-05-04/
LOCATION:OH
CATEGORIES:Family Events,Public Skates,Special Events
ATTACH;FMTTYPE=image/jpeg:https://unitedskates-assets.sfo3.digitaloceanspaces.com/wp-content/uploads/sites/6/2025/04/R1.-5-Dollar-Sunday-MAY2025.jpg
END:VEVENT
BEGIN:VEVENT
DTSTART;TZID=America/New_York:20250505T160000
DTEND;TZID=America/New_York:20250505T183000
DTSTAMP:20260425T211113
CREATED:20250409T163200Z
LAST-MODIFIED:20250409T163200Z
UID:18475-1746460800-1746469800@www.unitedskates.com
SUMMARY:Public Skate: Cinco de Mayo Celebration
DESCRIPTION:🌮🛼 May 5th – Celebrate Cinco de Mayo!🪇🛼 \n\nOpen for all guests 4PM-6:30PM\nAdmission: $5.00\nSkate Rental: $6.00\n\n⏰ Session Times: Begin and end at the posted start & end time—no stayovers allowed. \n🚨 Important Info: \n\nAll guests ages 3-17 must pay admission & skate rental (or bring their own skates).\nNon-skating adults may enter at no charge.\nOnline waiver required for all adults and children entering the building. Click here to fill it out. Please have your signed waiver ready to show at check-in to make the process quick and easy. Effective 10/11/2024\n\n💥 Group Rates available for parties of 15+—Click here for reservations\n🎉 Birthday Parties available—CLICK HERE\n💡 Looking for a fun group event to earn money?—Click here for more info
URL:https://www.unitedskates.com/columbus/event/public-skate-cinco-de-mayo-celebration/
LOCATION:United Skates Of America Columbus\, 3362 Refugee Rd\, Columbus\, OH\, 43232\, United States
CATEGORIES:Family Events,Public Skates,Special Events
ATTACH;FMTTYPE=image/jpeg:https://unitedskates-assets.sfo3.digitaloceanspaces.com/wp-content/uploads/sites/6/2025/04/R1.-Cinco-de-Mayo-2025.jpg
END:VEVENT
BEGIN:VEVENT
DTSTART;TZID=America/New_York:20250507T120000
DTEND;TZID=America/New_York:20250507T143000
DTSTAMP:20260425T211113
CREATED:20250409T204421Z
LAST-MODIFIED:20250409T204422Z
UID:18484-1746619200-1746628200@www.unitedskates.com
SUMMARY:Public Skate: Schools Out
DESCRIPTION:🎶🛼 Family Top 40 & Hip Hop Skate 🎶🛼 \n\nAdmission: $5.00\nSkate Rental: $6.00\n\n⏰ Session Times: Begin and end at the posted start & end time—no stayovers allowed. \n🚨 Important Info: \n\nAll guests ages 3-17 must pay admission & skate rental (or bring their own skates).\nNon-skating adults may enter at no charge.\nOnline waiver required for all adults and children entering the building. Click here to fill it out. Please have your signed waiver ready to show at check-in to make the process quick and easy. Effective 10/11/2024\n\n💥 Group Rates available for parties of 15+—Click here for reservations\n🎉 Birthday Parties available—CLICK HERE\n💡 Looking for a fun group event to earn money?—Click here for more info
URL:https://www.unitedskates.com/columbus/event/public-skate-schools-out/
LOCATION:United Skates Of America Columbus\, 3362 Refugee Rd\, Columbus\, OH\, 43232\, United States
CATEGORIES:Family Events,Special Events
ATTACH;FMTTYPE=image/jpeg:https://unitedskates-assets.sfo3.digitaloceanspaces.com/wp-content/uploads/sites/6/2025/04/R1.-Schools-Out-050725.jpg
END:VEVENT
BEGIN:VEVENT
DTSTART;TZID=America/New_York:20250511T160000
DTEND;TZID=America/New_York:20250511T190000
DTSTAMP:20260425T211113
CREATED:20250404T184439Z
LAST-MODIFIED:20250404T185519Z
UID:18451-1746979200-1746990000@www.unitedskates.com
SUMMARY:Public Family Skate: Mothers Day
DESCRIPTION:Mother Day May 11th\, 2025💐💐 \n🎶🛼 Family Hip-Hop Skate Night 🎶🛼 \n\nAdmission: $11.00\nSkate Rental: $6.00\nMom’s Skate FREE with paid child admission\nMothers Day Family Meal Deal – $75 includes; 4 Admissions with Skate Rental\, Large Cheese Pizza & Soda Pitcher\, and 50 Game Card Credits\n\n⏰ Session Times: Begin and end at the posted start & end time—no stayovers allowed. \n🚨 Important Info: \n\nAll guests ages 3-17 must pay admission & skate rental (or bring their own skates).\nNon-skating adults may enter at no charge.\nOnline waiver required for all adults and children entering the building. Click here to fill it out. Please have your signed waiver ready to show at check-in to make the process quick and easy.\n\nEffective 10/11/2024 \n💥 Group Rates available for parties of 15+—Click here for reservations\n🎉 Birthday Parties available—CLICK HERE\n💡 Looking for a fun group event to earn money?—Click here for more info \nCome join the fun at Family Hip-Hop Skate Night!
URL:https://www.unitedskates.com/columbus/event/public-family-skate-mothers-day/
LOCATION:United Skates Of America Columbus\, 3362 Refugee Rd\, Columbus\, OH\, 43232\, United States
CATEGORIES:Family Events,Public Skates,Special Events
ATTACH;FMTTYPE=image/jpeg:https://unitedskates-assets.sfo3.digitaloceanspaces.com/wp-content/uploads/sites/6/2025/04/Mothers-Day-Skate-051325.jpg
END:VEVENT
BEGIN:VEVENT
DTSTART;TZID=America/New_York:20250523T180000
DTEND;TZID=America/New_York:20250523T210000
DTSTAMP:20260425T211113
CREATED:20250409T205026Z
LAST-MODIFIED:20250409T205027Z
UID:18494-1748023200-1748034000@www.unitedskates.com
SUMMARY:Public Skate: Legends of HIP-HOP
DESCRIPTION:🌟🛼 Family GLOW Hip-Hop Skate Night! 🛼🌟 \n\nAdmission: $11.00\nSkate Rental: $6.00\n\n⏰ Session Times: Begin and end at the posted start & end time—no stayovers allowed. \n🚨 Important Info: \n\nAll guests ages 3-17 must pay admission & skate rental (or bring their own skates).\nNon-skating adults may enter at no charge.\nOnline waiver required for all adults and children entering the building. Click here to fill it out. Please have your signed waiver ready to show at check-in to make the process quick and easy. Effective 10/11/2024\n\n💥 Group Rates available for parties of 15+—Click here for reservations\n🎉 Birthday Parties available—CLICK HERE\n💡 Looking for a fun group event to earn money?—Click here for more info
URL:https://www.unitedskates.com/columbus/event/public-skate-legends-of-hip-hop/
LOCATION:United Skates Of America Columbus\, 3362 Refugee Rd\, Columbus\, OH\, 43232\, United States
CATEGORIES:Family Events,Public Skates,Special Events
ATTACH;FMTTYPE=image/jpeg:https://unitedskates-assets.sfo3.digitaloceanspaces.com/wp-content/uploads/sites/6/2025/04/LEGENDS-of-hiphop-rb-skate-052325.jpg
END:VEVENT
BEGIN:VEVENT
DTSTART;TZID=America/New_York:20250524T120000
DTEND;TZID=America/New_York:20250524T150000
DTSTAMP:20260425T211113
CREATED:20250409T205538Z
LAST-MODIFIED:20250409T205538Z
UID:18500-1748088000-1748098800@www.unitedskates.com
SUMMARY:Public Skating and Birthdays; STITCH Skate Party 🛼💙
DESCRIPTION:🎶🛼 Family Top 40 Pop Skate 🎶🛼 \n\nAdmission: $11.00\nSkate Rental: $6.00\nCome Skate with STITCH!!!\n\n⏰ Session Times: Begin and end at the posted start & end time—no stayovers allowed. \n🚨 Important Info: \n\nAll guests ages 3-17 must pay admission & skate rental (or bring their own skates).\nNon-skating adults may enter at no charge.\nOnline waiver required for all adults and children entering the building. Click here to fill it out. Please have your signed waiver ready to show at check-in to make the process quick and easy. Effective 10/11/2024\n\n💥 Group Rates available for parties of 15+—Click here for reservations\n🎉 Birthday Parties available—CLICK HERE\n💡 Looking for a fun group event to earn money?—Click here for more info
URL:https://www.unitedskates.com/columbus/event/public-skating-and-birthdays-stitch-skate-party-%f0%9f%9b%bc%f0%9f%92%99/
LOCATION:United Skates Of America Columbus\, 3362 Refugee Rd\, Columbus\, OH\, 43232\, United States
CATEGORIES:Family Events,Public Skates,Special Events
ATTACH;FMTTYPE=image/jpeg:https://unitedskates-assets.sfo3.digitaloceanspaces.com/wp-content/uploads/sites/6/2025/04/Stitch-skate-052425.jpg
END:VEVENT
BEGIN:VEVENT
DTSTART;TZID=America/New_York:20250526T120000
DTEND;TZID=America/New_York:20250526T150000
DTSTAMP:20260425T211113
CREATED:20250404T193434Z
LAST-MODIFIED:20250404T193450Z
UID:18463-1748260800-1748271600@www.unitedskates.com
SUMMARY:Public Skate and Birthdays: Memorial Day
DESCRIPTION:Memorial Day Skate Party❤️🤍💙  \n\nAdmission: $5.00\nSkate Rental: $6.00\n\n⏰ Session Times: Begin and end at the posted start & end time—no stayovers allowed. \n🚨 Important Info: \n\nAll guests ages 3-17 must pay admission & skate rental (or bring their own skates).\nNon-skating adults may enter at no charge.\nOnline waiver required for all adults and children entering the building. Click here to fill it out. Please have your signed waiver ready to show at check-in to make the process quick and easy. Effective 10/11/2024\n\n💥 Group Rates available for parties of 15+—Click here for reservations\n🎉 Birthday Parties available—CLICK HERE\n💡 Looking for a fun group event to earn money?—Click here for more info
URL:https://www.unitedskates.com/columbus/event/public-skate-and-birthdays-memorial-day/
LOCATION:OH
CATEGORIES:Family Events,Public Skates,Special Events
ATTACH;FMTTYPE=image/jpeg:https://unitedskates-assets.sfo3.digitaloceanspaces.com/wp-content/uploads/sites/6/2025/04/Memorial-Day-052625.jpg
END:VEVENT
BEGIN:VEVENT
DTSTART;TZID=America/New_York:20250526T190000
DTEND;TZID=America/New_York:20250526T220000
DTSTAMP:20260425T211113
CREATED:20250404T193115Z
LAST-MODIFIED:20250404T193235Z
UID:18458-1748286000-1748296800@www.unitedskates.com
SUMMARY:Adult Skate: Memorial Day Old School Skate Party❤️🤍💙
DESCRIPTION:❤️🤍💙Memorial Day Newbie Adult Skate Night! ❤️🤍💙 \nWhether you’re a new skater or getting back into the groove\, this night is for you! \n\nAdmission: $11.00\nSkate Rental: $6.00\nCollege Discount: Show a valid college photo ID for $2.00 off admission! 🎓\n\n📅 For Ages 18+ (must show valid photo ID)\nGet ready to skate to the smooth sounds of Soul and R&B music all night long! 🎶💃 \n🚨 Important Info: \n\nOnline waiver required for all guests—Click here to fill it out. Please have your signed waiver ready to show at check-in for a quicker process. -Effective 10/11/2024\n\nCome enjoy a fun and relaxed night at Newbie Adult Skate Night! 🛼
URL:https://www.unitedskates.com/columbus/event/adult-skate-memorial-day-old-school-skate-party/
LOCATION:United Skates Of America Columbus\, 3362 Refugee Rd\, Columbus\, OH\, 43232\, United States
CATEGORIES:Adult Events,Special Events
ATTACH;FMTTYPE=image/jpeg:https://unitedskates-assets.sfo3.digitaloceanspaces.com/wp-content/uploads/sites/6/2025/04/Memorial-Day-old-school-adult-skate-052625.jpg
END:VEVENT
END:VCALENDAR