BEGIN:VCALENDAR
VERSION:2.0
PRODID:-//Rink 1 - Columbus - ECPv6.15.20//NONSGML v1.0//EN
CALSCALE:GREGORIAN
METHOD:PUBLISH
X-ORIGINAL-URL:https://www.unitedskates.com/columbus
X-WR-CALDESC:Events for Rink 1 - Columbus
REFRESH-INTERVAL;VALUE=DURATION:PT1H
X-Robots-Tag:noindex
X-PUBLISHED-TTL:PT1H
BEGIN:VTIMEZONE
TZID:America/New_York
BEGIN:DAYLIGHT
TZOFFSETFROM:-0500
TZOFFSETTO:-0400
TZNAME:EDT
DTSTART:20230312T070000
END:DAYLIGHT
BEGIN:STANDARD
TZOFFSETFROM:-0400
TZOFFSETTO:-0500
TZNAME:EST
DTSTART:20231105T060000
END:STANDARD
BEGIN:DAYLIGHT
TZOFFSETFROM:-0500
TZOFFSETTO:-0400
TZNAME:EDT
DTSTART:20240310T070000
END:DAYLIGHT
BEGIN:STANDARD
TZOFFSETFROM:-0400
TZOFFSETTO:-0500
TZNAME:EST
DTSTART:20241103T060000
END:STANDARD
BEGIN:DAYLIGHT
TZOFFSETFROM:-0500
TZOFFSETTO:-0400
TZNAME:EDT
DTSTART:20250309T070000
END:DAYLIGHT
BEGIN:STANDARD
TZOFFSETFROM:-0400
TZOFFSETTO:-0500
TZNAME:EST
DTSTART:20251102T060000
END:STANDARD
END:VTIMEZONE
BEGIN:VEVENT
DTSTART;TZID=America/New_York:20240922T130000
DTEND;TZID=America/New_York:20240922T153000
DTSTAMP:20260425T233746
CREATED:20240802T192438Z
LAST-MODIFIED:20240802T192438Z
UID:16158-1727010000-1727019000@www.unitedskates.com
SUMMARY:SONIC Game Day Skate 🎮🕹️
DESCRIPTION:Sunday Sept 22nd\nFamily Hip-Hop\n\n\n$11.00 Admission *includes FREE 5 Credit Game Card\n\n\n$6.00 Skate Rental\n\n\nMeet and Greet with Sonic!!! 💙🎮🕹️\n\n\nSession times begin and end at posted start & end time. – no stayovers\n\n\nAll guests ages 3-17 Must pay admission & skate rental (or bring their own). Non-Skating Adults may enter at no charge\nAll Adult skaters 18+ are required to fill out our Liability Waiver – Now available online. CLICK HERE\nGroup rates available for parties of 15+ – Click here for reservations\n🎂Birthday Parties Available – CLICK HERE\nIs your group looking for a fun event and earn money? – Click here for more information!
URL:https://www.unitedskates.com/columbus/event/sonic-game-day-skate-%f0%9f%8e%ae%f0%9f%95%b9%ef%b8%8f/
LOCATION:United Skates Of America Columbus\, 3362 Refugee Rd\, Columbus\, OH\, 43232\, United States
CATEGORIES:Family Events,Public Skates,Special Events
ATTACH;FMTTYPE=image/jpeg:https://unitedskates-assets.sfo3.digitaloceanspaces.com/wp-content/uploads/sites/6/2024/08/sonic-skate-092224.jpg
END:VEVENT
END:VCALENDAR