BEGIN:VCALENDAR
VERSION:2.0
PRODID:-//Rink 1 - Columbus - ECPv6.15.20//NONSGML v1.0//EN
CALSCALE:GREGORIAN
METHOD:PUBLISH
X-ORIGINAL-URL:https://www.unitedskates.com/columbus
X-WR-CALDESC:Events for Rink 1 - Columbus
REFRESH-INTERVAL;VALUE=DURATION:PT1H
X-Robots-Tag:noindex
X-PUBLISHED-TTL:PT1H
BEGIN:VTIMEZONE
TZID:America/New_York
BEGIN:DAYLIGHT
TZOFFSETFROM:-0500
TZOFFSETTO:-0400
TZNAME:EDT
DTSTART:20230312T070000
END:DAYLIGHT
BEGIN:STANDARD
TZOFFSETFROM:-0400
TZOFFSETTO:-0500
TZNAME:EST
DTSTART:20231105T060000
END:STANDARD
BEGIN:DAYLIGHT
TZOFFSETFROM:-0500
TZOFFSETTO:-0400
TZNAME:EDT
DTSTART:20240310T070000
END:DAYLIGHT
BEGIN:STANDARD
TZOFFSETFROM:-0400
TZOFFSETTO:-0500
TZNAME:EST
DTSTART:20241103T060000
END:STANDARD
BEGIN:DAYLIGHT
TZOFFSETFROM:-0500
TZOFFSETTO:-0400
TZNAME:EDT
DTSTART:20250309T070000
END:DAYLIGHT
BEGIN:STANDARD
TZOFFSETFROM:-0400
TZOFFSETTO:-0500
TZNAME:EST
DTSTART:20251102T060000
END:STANDARD
END:VTIMEZONE
BEGIN:VEVENT
DTSTART;TZID=America/New_York:20240903T180000
DTEND;TZID=America/New_York:20240903T203000
DTSTAMP:20260425T233741
CREATED:20240802T170625Z
LAST-MODIFIED:20241017T175855Z
UID:15715-1725386400-1725395400@www.unitedskates.com
SUMMARY:Two for $10 Family Skate
DESCRIPTION:🛼✨ Tuesday Night Skate Special! ✨🛼 \nJoin us every Tuesday Night from 6-8:30 PM for an amazing deal! \n\nAdmission: Two for $10 or One for $6\nSkate Rental: $6\n\n🚨 Important Info: \n\nAll guests ages 3-17 must pay admission & skate rental (or bring their own skates).\nNon-skating adults may enter at no charge.\nOnline waiver required for all guests—Click here to fill it out. Please have your signed waiver ready to show at check-in for a quicker process. Effective 10/11/24\n\n💥 Group Rates available for parties of 15+—Click here for reservations\n🎉 Birthday Parties available—CLICK HERE\n💡 Looking for a fun group event to earn money?—Click here for more info \n  \nMake Tuesday night your new skate night! 🛼✨
URL:https://www.unitedskates.com/columbus/event/two-for-10-family-skate-2/2024-09-03/
LOCATION:United Skates Of America Columbus\, 3362 Refugee Rd\, Columbus\, OH\, 43232\, United States
CATEGORIES:Family Events,Public Skates
ATTACH;FMTTYPE=image/jpeg:https://unitedskates-assets.sfo3.digitaloceanspaces.com/wp-content/uploads/sites/6/2024/08/2-for-10-dollars-2022-1200x1200-1.jpg
END:VEVENT
BEGIN:VEVENT
DTSTART;TZID=America/New_York:20240903T210000
DTEND;TZID=America/New_York:20240903T235900
DTSTAMP:20260425T233741
CREATED:20240802T175542Z
LAST-MODIFIED:20241017T183214Z
UID:16049-1725397200-1725407940@www.unitedskates.com
SUMMARY:Adult Skating
DESCRIPTION:🛼🎶 Adult Skate Night! 🎶🛼\n\n\n\n\n\n\n\n\n\n\nWhether you’re a new skater or getting back into the groove\, this night is for you! \n\nAdmission: $11.00\nSkate Rental: $6.00\n\n📅 For Ages 18+ (must show valid photo ID)\nGet ready to skate to the smooth sounds of Soul and R&B music all night long! 🎶💃 \n🚨 Important Info: \n\nOnline waiver required for all guests—Click here to fill it out. Please have your signed waiver ready to show at check-in for a quicker process. Effective 10/11/2024\n\n 
URL:https://www.unitedskates.com/columbus/event/adult-skating/2024-09-03/
LOCATION:United Skates Of America Columbus\, 3362 Refugee Rd\, Columbus\, OH\, 43232\, United States
CATEGORIES:Adult Events
ATTACH;FMTTYPE=image/jpeg:https://unitedskates-assets.sfo3.digitaloceanspaces.com/wp-content/uploads/sites/6/2024/08/Adult_-Skate-2022-1200x1200-1.jpg
END:VEVENT
END:VCALENDAR