BEGIN:VCALENDAR
VERSION:2.0
PRODID:-//Rink 1 - Columbus - ECPv6.15.20//NONSGML v1.0//EN
CALSCALE:GREGORIAN
METHOD:PUBLISH
X-WR-CALNAME:Rink 1 - Columbus
X-ORIGINAL-URL:https://www.unitedskates.com/columbus
X-WR-CALDESC:Events for Rink 1 - Columbus
REFRESH-INTERVAL;VALUE=DURATION:PT1H
X-Robots-Tag:noindex
X-PUBLISHED-TTL:PT1H
BEGIN:VTIMEZONE
TZID:America/New_York
BEGIN:DAYLIGHT
TZOFFSETFROM:-0500
TZOFFSETTO:-0400
TZNAME:EDT
DTSTART:20230312T070000
END:DAYLIGHT
BEGIN:STANDARD
TZOFFSETFROM:-0400
TZOFFSETTO:-0500
TZNAME:EST
DTSTART:20231105T060000
END:STANDARD
BEGIN:DAYLIGHT
TZOFFSETFROM:-0500
TZOFFSETTO:-0400
TZNAME:EDT
DTSTART:20240310T070000
END:DAYLIGHT
BEGIN:STANDARD
TZOFFSETFROM:-0400
TZOFFSETTO:-0500
TZNAME:EST
DTSTART:20241103T060000
END:STANDARD
BEGIN:DAYLIGHT
TZOFFSETFROM:-0500
TZOFFSETTO:-0400
TZNAME:EDT
DTSTART:20250309T070000
END:DAYLIGHT
BEGIN:STANDARD
TZOFFSETFROM:-0400
TZOFFSETTO:-0500
TZNAME:EST
DTSTART:20251102T060000
END:STANDARD
END:VTIMEZONE
BEGIN:VEVENT
DTSTART;TZID=America/New_York:20240812T120000
DTEND;TZID=America/New_York:20240812T123000
DTSTAMP:20260425T211118
CREATED:20240725T163152Z
LAST-MODIFIED:20240725T163440Z
UID:15238-1723464000-1723465800@www.unitedskates.com
SUMMARY:Back to School Skate - Teachers Skate FREE
DESCRIPTION:Monday August 12th\nTuesdays August 13th\n12:00-2:30pm \nJoin us for our last 2 Daytime sessions of the 2024 Summer Season! \nStop in and skate for Discounted Skating! Teachers with Valid School ID Skate for FREE! (admission & skate rental both includes!! \n\n$5.00 Admission\n$5.00 Skate Rental
URL:https://www.unitedskates.com/columbus/event/back-to-school-skate-teachers-skate-free/
LOCATION:United Skates Of America Columbus\, 3362 Refugee Rd\, Columbus\, OH\, 43232\, United States
CATEGORIES:Family Events,Public Skates,Special Events
ATTACH;FMTTYPE=image/jpeg:https://unitedskates-assets.sfo3.digitaloceanspaces.com/wp-content/uploads/sites/6/2024/07/BTS-Skate.-Teachers-Free-2024.jpg
END:VEVENT
BEGIN:VEVENT
DTSTART;VALUE=DATE:20240816
DTEND;VALUE=DATE:20240820
DTSTAMP:20260425T211118
CREATED:20240725T165327Z
LAST-MODIFIED:20240725T165352Z
UID:15277-1723784400-1724043599@www.unitedskates.com
SUMMARY:Back to School Weekend🚸🏫
DESCRIPTION:🛼Come Skate This Weekend! Back to School Themed Skating Sessions!🎒\n\n\nFriday August 16th – Donate School Supplies for a Reduced Admission Price\n\n\nSaturday August 17th – Meet & Greet with Bluey\n\n\nSunday August 18th – Half Price Admission; Both Sessions!
URL:https://www.unitedskates.com/columbus/event/back-to-school-weekend/
LOCATION:United Skates Of America Columbus\, 3362 Refugee Rd\, Columbus\, OH\, 43232\, United States
CATEGORIES:Family Events,Public Skates,Special Events
ATTACH;FMTTYPE=image/jpeg:https://unitedskates-assets.sfo3.digitaloceanspaces.com/wp-content/uploads/sites/6/2024/07/R1.-BTS-Weekend-2024.jpg
END:VEVENT
BEGIN:VEVENT
DTSTART;TZID=America/New_York:20240816T180000
DTEND;TZID=America/New_York:20240816T210000
DTSTAMP:20260425T211118
CREATED:20240725T170026Z
LAST-MODIFIED:20240725T170027Z
UID:15284-1723831200-1723842000@www.unitedskates.com
SUMMARY:School Supply Skate Party🎒
DESCRIPTION:Family HIP-HOP Skate\n\n\n$10.00 Admission\n\n\nSkate Rental $5.00\n\n\nDonate an Approved School Supply\, and receive $3.00 off admission price\n\n\n🎒Approved NEW Supplies: Book Bags\, Pencil Packs\, Pen Packs\, Paint Packs\, Chalk Packs\, Rulers\, Scissors\, Crayons\, Cleaning Supplies\n\n\n\n\nAll guests ages 3-17 Must pay admission & skate rental (or bring their own). Non-Skating Adults may enter at no charge\nAll Adult skaters 18+ are required to fill out our Liability Waiver – Now available online. CLICK HERE\nGroup rates available for parties of 15+ – Click here for reservations\nBirthday Parties Available – CLICK HERE\nIs your group looking for a fun event and earn money? – Click here for more information!
URL:https://www.unitedskates.com/columbus/event/school-supply-skate-party%f0%9f%8e%92/
LOCATION:United Skates Of America Columbus\, 3362 Refugee Rd\, Columbus\, OH\, 43232\, United States
CATEGORIES:Family Events,Public Skates,Special Events
ATTACH;FMTTYPE=image/jpeg:https://unitedskates-assets.sfo3.digitaloceanspaces.com/wp-content/uploads/sites/6/2024/07/R1.back-to-school-drive-flyer-081624.-jpg.jpg
END:VEVENT
BEGIN:VEVENT
DTSTART;VALUE=DATE:20240817
DTEND;VALUE=DATE:20240819
DTSTAMP:20260425T211118
CREATED:20240801T164249Z
LAST-MODIFIED:20240801T175619Z
UID:15412-1723870800-1723957199@www.unitedskates.com
SUMMARY:Columbus School Resource Fair * Fort Hayes Campus
DESCRIPTION:Come see us Saturday August 17th \n10:00am-2:00pm at the Columbus City Schools – Back to School Resource Fair & Back Back Give away! \nSee Flyer for more information!
URL:https://www.unitedskates.com/columbus/event/columbus-school-resource-fair-fort-hayes-campus/
LOCATION:OH
CATEGORIES:Special Events
ATTACH;FMTTYPE=image/jpeg:https://unitedskates-assets.sfo3.digitaloceanspaces.com/wp-content/uploads/sites/6/2024/08/CCS-BTS-Event-2024.jpg
END:VEVENT
BEGIN:VEVENT
DTSTART;TZID=America/New_York:20240817T120000
DTEND;TZID=America/New_York:20240817T150000
DTSTAMP:20260425T211118
CREATED:20240725T164519Z
LAST-MODIFIED:20240813T173135Z
UID:15274-1723896000-1723906800@www.unitedskates.com
SUMMARY:BTS Skate 💙
DESCRIPTION:Family Top 40 Pop\n\n\n$10.00 Admission\n\n\n$5.00 Skate Rental\n\n\nMeet and Greet with our Bluey Character\n\n\nAll guests ages 3-17 Must pay admission & skate rental (or bring their own). Non-Skating Adults may enter at no charge\nAll Adult skaters 18+ are required to fill out our Liability Waiver – Now available online. CLICK HERE\nGroup rates available for parties of 15+ – Click here for reservations\nBirthday Parties Available – CLICK HERE\nIs your group looking for a fun event and earn money? – Click here for more information!
URL:https://www.unitedskates.com/columbus/event/bts-skate-with-bluey-%f0%9f%92%99/
LOCATION:United Skates Of America Columbus\, 3362 Refugee Rd\, Columbus\, OH\, 43232\, United States
CATEGORIES:Family Events,Public Skates,Special Events
ATTACH;FMTTYPE=image/jpeg:https://unitedskates-assets.sfo3.digitaloceanspaces.com/wp-content/uploads/sites/6/2024/07/600px-Public-Skate-1200x1200-v2.jpg
END:VEVENT
BEGIN:VEVENT
DTSTART;TZID=America/New_York:20240828T180000
DTEND;TZID=America/New_York:20240828T203000
DTSTAMP:20260425T211118
CREATED:20240802T181219Z
LAST-MODIFIED:20240802T181219Z
UID:16116-1724868000-1724877000@www.unitedskates.com
SUMMARY:PRIVATE EVENTS
DESCRIPTION:Wednesday Evening Hours Available for Private Party Rentals *Advance Reservations Required\n\n\nFundraiser Parties for School or Organizations\n\n\nCorporate Events\n\n\nPrivate Birthday Parties\n\n\nContact us for Availability at jjones@usa-skating.com or #614-239-7202
URL:https://www.unitedskates.com/columbus/event/private-events-16/
LOCATION:United Skates Of America Columbus\, 3362 Refugee Rd\, Columbus\, OH\, 43232\, United States
CATEGORIES:Private Parties
ATTACH;FMTTYPE=image/jpeg:https://unitedskates-assets.sfo3.digitaloceanspaces.com/wp-content/uploads/sites/6/2024/08/private-party-1200x1200-1.jpg
END:VEVENT
BEGIN:VEVENT
DTSTART;VALUE=DATE:20240830
DTEND;VALUE=DATE:20240904
DTSTAMP:20260425T211118
CREATED:20240725T181325Z
LAST-MODIFIED:20240725T181326Z
UID:15341-1724994000-1725339599@www.unitedskates.com
SUMMARY:Labor Day Weekend Skating🛼❤️🤍💙
DESCRIPTION:Skate over the Holiday for RWB Family Fun!!\n\n\nFriday Aug. 30th – Wear Your PJ’s skating and get a $2.00 Admission discount\n\n\nSaturday Aug 31st – It’s the start of our Buckeye Tail-skates! Pre-Game & Watch the OSU Game. Wear your Ohio State gear and get $3.00 off admission when you mention the promo!\n\n\nSunday September 1st – It’s our RWB Beyonce Skate Party! Dress\, Like\, Skate Like\, and Skate to the Best of Beyonce!\n\n\nMonday September 2nd – We are Open from 12-3pm on Labor Day! Just $5.00 Admission!
URL:https://www.unitedskates.com/columbus/event/labor-day-weekend-skating%f0%9f%9b%bc%e2%9d%a4%ef%b8%8f%f0%9f%a4%8d%f0%9f%92%99/
LOCATION:United Skates Of America Columbus\, 3362 Refugee Rd\, Columbus\, OH\, 43232\, United States
CATEGORIES:Family Events,Public Skates,Special Events
ATTACH;FMTTYPE=image/jpeg:https://unitedskates-assets.sfo3.digitaloceanspaces.com/wp-content/uploads/sites/6/2024/07/R1.-Labor-day-weekend-2024-4day.jpg
END:VEVENT
BEGIN:VEVENT
DTSTART;TZID=America/New_York:20240830T180000
DTEND;TZID=America/New_York:20240830T210000
DTSTAMP:20260425T211118
CREATED:20240725T180557Z
LAST-MODIFIED:20240725T180557Z
UID:15321-1725040800-1725051600@www.unitedskates.com
SUMMARY:Pajama Jam Skate Party 🛼
DESCRIPTION:Family HIP-HOP Skate\n\n\n$10.00 Admission\n\n\nSkate Rental $5.00\n\n\nWear your Pajamas for $2.00 off your Admission!!👯\n\n\nGames\, Contests & More!\n\n\nAll guests ages 3-17 Must pay admission & skate rental (or bring their own). Non-Skating Adults may enter at no charge\nAll Adult skaters 18+ are required to fill out our Liability Waiver – Now available online. CLICK HERE\nGroup rates available for parties of 15+ – Click here for reservations\nBirthday Parties Available – CLICK HERE\nIs your group looking for a fun event and earn money? – Click here for more information!
URL:https://www.unitedskates.com/columbus/event/pajama-jam-skate-party-%f0%9f%9b%bc/
LOCATION:United Skates Of America Columbus\, 3362 Refugee Rd\, Columbus\, OH\, 43232\, United States
CATEGORIES:Family Events,Public Skates,Special Events
ATTACH;FMTTYPE=image/jpeg:https://unitedskates-assets.sfo3.digitaloceanspaces.com/wp-content/uploads/sites/6/2024/07/roller-skating-pj-skate-083024.jpg
END:VEVENT
BEGIN:VEVENT
DTSTART;TZID=America/New_York:20240831T120000
DTEND;TZID=America/New_York:20240831T150000
DTSTAMP:20260425T211118
CREATED:20240725T182043Z
LAST-MODIFIED:20240725T182126Z
UID:15345-1725105600-1725116400@www.unitedskates.com
SUMMARY:Buckeye Tail-Gate Skate and Birthday Parties ❤️🩶
DESCRIPTION:Family Top 40 Pop\n\n\n$10.00 Admission\n\n\n$5.00 Skate Rental\n\n\nWear your OSU Attire and get $3.00 off Admission when you mention this promotion🩶❤️\n\n\nWatch the Game on our Big Screen!!\n\n\nAll guests ages 3-17 Must pay admission & skate rental (or bring their own). Non-Skating Adults may enter at no charge\nAll Adult skaters 18+ are required to fill out our Liability Waiver – Now available online. CLICK HERE\nGroup rates available for parties of 15+ – Click here for reservations\nBirthday Parties Available – CLICK HERE\nIs your group looking for a fun event and earn money? – Click here for more information!
URL:https://www.unitedskates.com/columbus/event/buckeye-tail-gate-party-birthday-parties-%e2%9d%a4%ef%b8%8f%f0%9f%a9%b6/
LOCATION:United Skates Of America Columbus\, 3362 Refugee Rd\, Columbus\, OH\, 43232\, United States
CATEGORIES:Family Events,Public Skates,Special Events
ATTACH;FMTTYPE=image/jpeg:https://unitedskates-assets.sfo3.digitaloceanspaces.com/wp-content/uploads/sites/6/2024/07/tailgate-skate-2022-1200x1200-1.jpg
END:VEVENT
END:VCALENDAR