BEGIN:VCALENDAR
VERSION:2.0
PRODID:-//Rink 1 - Columbus - ECPv6.15.20//NONSGML v1.0//EN
CALSCALE:GREGORIAN
METHOD:PUBLISH
X-WR-CALNAME:Rink 1 - Columbus
X-ORIGINAL-URL:https://www.unitedskates.com/columbus
X-WR-CALDESC:Events for Rink 1 - Columbus
REFRESH-INTERVAL;VALUE=DURATION:PT1H
X-Robots-Tag:noindex
X-PUBLISHED-TTL:PT1H
BEGIN:VTIMEZONE
TZID:America/New_York
BEGIN:DAYLIGHT
TZOFFSETFROM:-0500
TZOFFSETTO:-0400
TZNAME:EDT
DTSTART:20230312T070000
END:DAYLIGHT
BEGIN:STANDARD
TZOFFSETFROM:-0400
TZOFFSETTO:-0500
TZNAME:EST
DTSTART:20231105T060000
END:STANDARD
BEGIN:DAYLIGHT
TZOFFSETFROM:-0500
TZOFFSETTO:-0400
TZNAME:EDT
DTSTART:20240310T070000
END:DAYLIGHT
BEGIN:STANDARD
TZOFFSETFROM:-0400
TZOFFSETTO:-0500
TZNAME:EST
DTSTART:20241103T060000
END:STANDARD
BEGIN:DAYLIGHT
TZOFFSETFROM:-0500
TZOFFSETTO:-0400
TZNAME:EDT
DTSTART:20250309T070000
END:DAYLIGHT
BEGIN:STANDARD
TZOFFSETFROM:-0400
TZOFFSETTO:-0500
TZNAME:EST
DTSTART:20251102T060000
END:STANDARD
END:VTIMEZONE
BEGIN:VEVENT
DTSTART;VALUE=DATE:20240816
DTEND;VALUE=DATE:20240820
DTSTAMP:20260425T170433
CREATED:20240725T165327Z
LAST-MODIFIED:20240725T165352Z
UID:15277-1723784400-1724043599@www.unitedskates.com
SUMMARY:Back to School Weekend🚸🏫
DESCRIPTION:🛼Come Skate This Weekend! Back to School Themed Skating Sessions!🎒\n\n\nFriday August 16th – Donate School Supplies for a Reduced Admission Price\n\n\nSaturday August 17th – Meet & Greet with Bluey\n\n\nSunday August 18th – Half Price Admission; Both Sessions!
URL:https://www.unitedskates.com/columbus/event/back-to-school-weekend/
LOCATION:United Skates Of America Columbus\, 3362 Refugee Rd\, Columbus\, OH\, 43232\, United States
CATEGORIES:Family Events,Public Skates,Special Events
ATTACH;FMTTYPE=image/jpeg:https://unitedskates-assets.sfo3.digitaloceanspaces.com/wp-content/uploads/sites/6/2024/07/R1.-BTS-Weekend-2024.jpg
END:VEVENT
BEGIN:VEVENT
DTSTART;VALUE=DATE:20240817
DTEND;VALUE=DATE:20240819
DTSTAMP:20260425T170433
CREATED:20240801T164249Z
LAST-MODIFIED:20240801T175619Z
UID:15412-1723870800-1723957199@www.unitedskates.com
SUMMARY:Columbus School Resource Fair * Fort Hayes Campus
DESCRIPTION:Come see us Saturday August 17th \n10:00am-2:00pm at the Columbus City Schools – Back to School Resource Fair & Back Back Give away! \nSee Flyer for more information!
URL:https://www.unitedskates.com/columbus/event/columbus-school-resource-fair-fort-hayes-campus/
LOCATION:OH
CATEGORIES:Special Events
ATTACH;FMTTYPE=image/jpeg:https://unitedskates-assets.sfo3.digitaloceanspaces.com/wp-content/uploads/sites/6/2024/08/CCS-BTS-Event-2024.jpg
END:VEVENT
BEGIN:VEVENT
DTSTART;TZID=America/New_York:20240817T120000
DTEND;TZID=America/New_York:20240817T150000
DTSTAMP:20260425T170433
CREATED:20240725T164519Z
LAST-MODIFIED:20240813T173135Z
UID:15274-1723896000-1723906800@www.unitedskates.com
SUMMARY:BTS Skate 💙
DESCRIPTION:Family Top 40 Pop\n\n\n$10.00 Admission\n\n\n$5.00 Skate Rental\n\n\nMeet and Greet with our Bluey Character\n\n\nAll guests ages 3-17 Must pay admission & skate rental (or bring their own). Non-Skating Adults may enter at no charge\nAll Adult skaters 18+ are required to fill out our Liability Waiver – Now available online. CLICK HERE\nGroup rates available for parties of 15+ – Click here for reservations\nBirthday Parties Available – CLICK HERE\nIs your group looking for a fun event and earn money? – Click here for more information!
URL:https://www.unitedskates.com/columbus/event/bts-skate-with-bluey-%f0%9f%92%99/
LOCATION:United Skates Of America Columbus\, 3362 Refugee Rd\, Columbus\, OH\, 43232\, United States
CATEGORIES:Family Events,Public Skates,Special Events
ATTACH;FMTTYPE=image/jpeg:https://unitedskates-assets.sfo3.digitaloceanspaces.com/wp-content/uploads/sites/6/2024/07/600px-Public-Skate-1200x1200-v2.jpg
END:VEVENT
END:VCALENDAR