BEGIN:VCALENDAR
VERSION:2.0
PRODID:-//Rink 1 - Columbus - ECPv6.15.20//NONSGML v1.0//EN
CALSCALE:GREGORIAN
METHOD:PUBLISH
X-ORIGINAL-URL:https://www.unitedskates.com/columbus
X-WR-CALDESC:Events for Rink 1 - Columbus
REFRESH-INTERVAL;VALUE=DURATION:PT1H
X-Robots-Tag:noindex
X-PUBLISHED-TTL:PT1H
BEGIN:VTIMEZONE
TZID:America/New_York
BEGIN:DAYLIGHT
TZOFFSETFROM:-0500
TZOFFSETTO:-0400
TZNAME:EDT
DTSTART:20230312T070000
END:DAYLIGHT
BEGIN:STANDARD
TZOFFSETFROM:-0400
TZOFFSETTO:-0500
TZNAME:EST
DTSTART:20231105T060000
END:STANDARD
BEGIN:DAYLIGHT
TZOFFSETFROM:-0500
TZOFFSETTO:-0400
TZNAME:EDT
DTSTART:20240310T070000
END:DAYLIGHT
BEGIN:STANDARD
TZOFFSETFROM:-0400
TZOFFSETTO:-0500
TZNAME:EST
DTSTART:20241103T060000
END:STANDARD
BEGIN:DAYLIGHT
TZOFFSETFROM:-0500
TZOFFSETTO:-0400
TZNAME:EDT
DTSTART:20250309T070000
END:DAYLIGHT
BEGIN:STANDARD
TZOFFSETFROM:-0400
TZOFFSETTO:-0500
TZNAME:EST
DTSTART:20251102T060000
END:STANDARD
END:VTIMEZONE
BEGIN:VEVENT
DTSTART;TZID=America/New_York:20240601T120000
DTEND;TZID=America/New_York:20240601T150000
DTSTAMP:20260425T125737
CREATED:20240523T180341Z
LAST-MODIFIED:20240523T181036Z
UID:15006-1717243200-1717254000@www.unitedskates.com
SUMMARY:Mario Kart Saturdays in June; Public Skating
DESCRIPTION:Family Top 40 Pop\n\n\n$10.00 Admission\n\n\n$5.00 Skate Rental\n\n\nEvery Saturday 12-3 in June (6/1\, 6/8\, 6/15\, 6/22\, 6/29) Come Meet & Greet with Mario & Friends!\n\n\nAll guests ages 3-17 Must pay admission & skate rental (or bring their own). Non-Skating Adults may enter at no charge\nAll Adult skaters 18+ are required to fill out our Liability Waiver – Now available online. CLICK HERE\nGroup rates available for parties of 15+ – Click here for reservations\nBirthday Parties Available – CLICK HERE\nIs your group looking for a fun event and earn money? – Click here for more information!
URL:https://www.unitedskates.com/columbus/event/mario-kart-saturdays-in-june-public-skating/
LOCATION:United Skates Of America Columbus\, 3362 Refugee Rd\, Columbus\, OH\, 43232\, United States
CATEGORIES:Family Events,Public Skates,Special Events
ATTACH;FMTTYPE=image/jpeg:https://unitedskates-assets.sfo3.digitaloceanspaces.com/wp-content/uploads/sites/6/2024/05/MARIO-KART-June-2024.jpg
END:VEVENT
BEGIN:VEVENT
DTSTART;TZID=America/New_York:20240603T120000
DTEND;TZID=America/New_York:20240603T143000
DTSTAMP:20260425T125737
CREATED:20240522T193215Z
LAST-MODIFIED:20240522T193216Z
UID:14924-1717416000-1717425000@www.unitedskates.com
SUMMARY:Daytime Skating: Monday Character Skates
DESCRIPTION:Mondays Summer 2024 \n12:00-2:30pm\nCome Skate with our Weekly Character at United Skates Columbus\n\n\nJune 3rd – Mickey & Minnie Mouse\n\n\nJune 10th – Mario\n\n\nJune 17th – Bluey\n\n\nJune 24th – Trolls\n\n\nJuly 1st – SKATO\n\n\nJuly 8th – Sonic\n\n\nJuly 15th – Baby Yoda\n\n\nJuly 22nd – Christmas in July: Grinch\, Rudolph & Frosty\n\n\nJuly 29th – Mario & Luigi\n\n\nAug 5th – Skato & Friends HUGE PARTY!\n\n\nAdmission $10 / Skate Rental $5.00\nBirthday Parties Available starting at $99! –CLICK HERE TO RESERVE\nGroup Rates Available for parties of 10+ – CLICK HERE FOR MORE INFO\nWant to Fundraise for your group? CLICK HERE FOR MORE INFORMATION
URL:https://www.unitedskates.com/columbus/event/daytime-skating-monday-character-skates/2024-06-03/
LOCATION:United Skates Of America Columbus\, 3362 Refugee Rd\, Columbus\, OH\, 43232\, United States
CATEGORIES:Family Events,Public Skates,Special Events
ATTACH;FMTTYPE=image/jpeg:https://unitedskates-assets.sfo3.digitaloceanspaces.com/wp-content/uploads/sites/6/2024/05/Summer-Character-Skate-rink-1.jpg
END:VEVENT
BEGIN:VEVENT
DTSTART;TZID=America/New_York:20240604T120000
DTEND;TZID=America/New_York:20240604T143000
DTSTAMP:20260425T125737
CREATED:20240522T193535Z
LAST-MODIFIED:20240522T193535Z
UID:14936-1717502400-1717511400@www.unitedskates.com
SUMMARY:Daytime Skating
DESCRIPTION:Tuesdays Summer 2024 \n12:00-2:30pm\nAdmission $10 / Skate Rental $5.00\nBirthday Parties Available starting at $99! –CLICK HERE TO RESERVE\nGroup Rates Available for parties of 10+ – CLICK HERE FOR MORE INFO\nWant to Fundraise for your group? CLICK HERE FOR MORE INFORMATION
URL:https://www.unitedskates.com/columbus/event/daytime-skating/2024-06-04/
LOCATION:United Skates Of America Columbus\, 3362 Refugee Rd\, Columbus\, OH\, 43232\, United States
CATEGORIES:Family Events,Public Skates
ATTACH;FMTTYPE=image/jpeg:https://unitedskates-assets.sfo3.digitaloceanspaces.com/wp-content/uploads/sites/6/2024/05/600px-Summer-Fun-Skate-1200x1200-1.jpg
END:VEVENT
BEGIN:VEVENT
DTSTART;TZID=America/New_York:20240605T120000
DTEND;TZID=America/New_York:20240605T143000
DTSTAMP:20260425T125737
CREATED:20240522T193746Z
LAST-MODIFIED:20240522T193746Z
UID:14948-1717588800-1717597800@www.unitedskates.com
SUMMARY:Daytime Skating
DESCRIPTION:Wednesdays Summer 2024 \n12:00-2:30pm\nAdmission $10 / Skate Rental $5.00\nBirthday Parties Available starting at $99! –CLICK HERE TO RESERVE\nGroup Rates Available for parties of 10+ – CLICK HERE FOR MORE INFO\nWant to Fundraise for your group? CLICK HERE FOR MORE INFORMATION
URL:https://www.unitedskates.com/columbus/event/daytime-skating-2/2024-06-05/
LOCATION:United Skates Of America Columbus\, 3362 Refugee Rd\, Columbus\, OH\, 43232\, United States
CATEGORIES:Family Events,Public Skates
ATTACH;FMTTYPE=image/jpeg:https://unitedskates-assets.sfo3.digitaloceanspaces.com/wp-content/uploads/sites/6/2024/05/600px-Summer-Fun-Skate-1200x1200-1.jpg
END:VEVENT
BEGIN:VEVENT
DTSTART;TZID=America/New_York:20240606T120000
DTEND;TZID=America/New_York:20240606T143000
DTSTAMP:20260425T125737
CREATED:20240522T194521Z
LAST-MODIFIED:20240522T194522Z
UID:14959-1717675200-1717684200@www.unitedskates.com
SUMMARY:Daytime Skating; Thursday Sweet Treats
DESCRIPTION:Thursdays Summer 2024 \n12:00-2:30pm\nAdmission $10 / Skate Rental $5.00\nEvery Thursday receive a FREE Treat with each paid admission!!\n\n\nJune 6th – Free Cookie Skate \n\n\nJune 13th – FREE Popsicle \n\n\nJune 20th – Juneteenth Candy Bags \n\n\nJune 27th – FREE ICEE \n\n\nJuly 11th – Small Cotton Candy Bag \n\n\nJuly 18th – Candyland – small candy bag \n\n\nJuly 25th – Chips a Hoy skate \n\n\nAug 1st – NERDS Skate \n\n\nAug 8th – End of Summer Skittles skate\n\n\nBirthday Parties Available starting at $99! –CLICK HERE TO RESERVE\nGroup Rates Available for parties of 10+ – CLICK HERE FOR MORE INFO\nWant to Fundraise for your group? CLICK HERE FOR MORE INFORMATION
URL:https://www.unitedskates.com/columbus/event/daytime-skating-thursday-sweet-treats/2024-06-06/
LOCATION:United Skates Of America Columbus\, 3362 Refugee Rd\, Columbus\, OH\, 43232\, United States
CATEGORIES:Family Events,Public Skates,Special Events
ATTACH;FMTTYPE=image/jpeg:https://unitedskates-assets.sfo3.digitaloceanspaces.com/wp-content/uploads/sites/6/2024/05/Sweet-Treat-Thursday-rink-1-1.jpg
END:VEVENT
BEGIN:VEVENT
DTSTART;TZID=America/New_York:20240607T120000
DTEND;TZID=America/New_York:20240607T143000
DTSTAMP:20260425T125737
CREATED:20240522T194747Z
LAST-MODIFIED:20240522T200401Z
UID:14972-1717761600-1717770600@www.unitedskates.com
SUMMARY:Daytime Skating
DESCRIPTION:Fridays Summer 2024 \n12:00-2:30pm\nAdmission $10 / Skate Rental $5.00\n**Arrive before 1pm and get admission per person for just $5.00!!\nBirthday Parties Available starting at $99! –CLICK HERE TO RESERVE\nGroup Rates Available for parties of 10+ – CLICK HERE FOR MORE INFO\nWant to Fundraise for your group? CLICK HERE FOR MORE INFORMATION
URL:https://www.unitedskates.com/columbus/event/daytime-skating-3/
LOCATION:United Skates Of America Columbus\, 3362 Refugee Rd\, Columbus\, OH\, 43232\, United States
CATEGORIES:Family Events,Public Skates
ATTACH;FMTTYPE=image/jpeg:https://unitedskates-assets.sfo3.digitaloceanspaces.com/wp-content/uploads/sites/6/2024/05/5dollar-Friday-2024.jpg
END:VEVENT
BEGIN:VEVENT
DTSTART;VALUE=DATE:20240616
DTEND;VALUE=DATE:20240618
DTSTAMP:20260425T125737
CREATED:20240529T165304Z
LAST-MODIFIED:20240614T205705Z
UID:15133-1718514000-1718600399@www.unitedskates.com
SUMMARY:Happy Fathers Day
DESCRIPTION:
URL:https://www.unitedskates.com/columbus/event/happy-fathers-day/
LOCATION:United Skates Of America Columbus\, 3362 Refugee Rd\, Columbus\, OH\, 43232\, United States
ATTACH;FMTTYPE=image/jpeg:https://unitedskates-assets.sfo3.digitaloceanspaces.com/wp-content/uploads/sites/6/2024/05/happy-fathers-day-2024-sticker.jpg
END:VEVENT
BEGIN:VEVENT
DTSTART;TZID=America/New_York:20240616T160000
DTEND;TZID=America/New_York:20240616T190000
DTSTAMP:20260425T125737
CREATED:20240529T160147Z
LAST-MODIFIED:20240606T143440Z
UID:15129-1718553600-1718564400@www.unitedskates.com
SUMMARY:Father's Day Skate Party
DESCRIPTION:Father’s Day Skate – June 16th\, 2024 \nFamily Hip-Hop \n4:00-7:00pm – Come Celebrate Dad at United Skates! \n\n$10.00 Admission\nFather’s Day Family Deal – $60 includes; 4 Admissions with Skate Rental\, One Large Pizza & Soda Pitcher!\n$5.00 Skate Rental\n\nAll guests ages 3-17 Must pay admission & skate rental (or bring their own). Non-Skating Adults may enter at no charge \nAll Adult skaters 18+ are required to fill out our Liability Waiver – Now available online. CLICK HERE \nGroup rates available for parties of 15+ – Click here for reservations \nBirthday Parties Available – CLICK HERE \nIs your group looking for a fun event and earn money? – Click here for more information!
URL:https://www.unitedskates.com/columbus/event/fathers-day-skate-party-2/
LOCATION:United Skates Of America Columbus\, 3362 Refugee Rd\, Columbus\, OH\, 43232\, United States
CATEGORIES:Family Events,Public Skates,Special Events
ATTACH;FMTTYPE=image/jpeg:https://unitedskates-assets.sfo3.digitaloceanspaces.com/wp-content/uploads/sites/6/2024/05/Fathers-Day-Skate-2024.jpg
END:VEVENT
BEGIN:VEVENT
DTSTART;VALUE=DATE:20240618
DTEND;VALUE=DATE:20240623
DTSTAMP:20260425T125737
CREATED:20240528T165129Z
LAST-MODIFIED:20240528T192337Z
UID:15024-1718686800-1719032399@www.unitedskates.com
SUMMARY:JUNETEENTH CELEBRATION WEEK
DESCRIPTION:June 18th – June 21st\, 2024\nCome Celebrate with us at United Skates for the Holiday Week!!\n\nTuesday: 12:00-2:30pm & 6:00-8:30pm. Special Event Adult Skate 9pm-12am\nWednesday: 12:00-2:30pm & 6:00-8:30pm\nThursday: 12:00-2:30pm & 6:00-8:30pm\nFriday: 12:00-2:30pm & 6:00-9:00pm *Legends of Hip-Hop Celebration
URL:https://www.unitedskates.com/columbus/event/juneteenth-celebration-week/
LOCATION:United Skates Of America Columbus\, 3362 Refugee Rd\, Columbus\, OH\, 43232\, United States
CATEGORIES:Adult Events,Family Events,Public Skates,Special Events
ATTACH;FMTTYPE=image/jpeg:https://unitedskates-assets.sfo3.digitaloceanspaces.com/wp-content/uploads/sites/6/2024/05/Juneteenth-week-2024-1.jpg
END:VEVENT
BEGIN:VEVENT
DTSTART;TZID=America/New_York:20240618T210000
DTEND;TZID=America/New_York:20240619T000000
DTSTAMP:20260425T125737
CREATED:20240528T185000Z
LAST-MODIFIED:20240528T193251Z
UID:15069-1718744400-1718755200@www.unitedskates.com
SUMMARY:Juneteenth Adult Skate Party
DESCRIPTION:Juneteenth Adult Skate Party\n\nAdmission $10.00\nSkate Rental $5.00\n\n*Adult Skates are for ages 18+ only. Must show a valid photo ID.\nAll adult skaters are required to fill out our Waiver of Liability form – Now available online! CLICK HERE
URL:https://www.unitedskates.com/columbus/event/juneteenth-adult-skate-party-2/
LOCATION:United Skates Of America Columbus\, 3362 Refugee Rd\, Columbus\, OH\, 43232\, United States
CATEGORIES:Adult Events,Special Events
ATTACH;FMTTYPE=image/jpeg:https://unitedskates-assets.sfo3.digitaloceanspaces.com/wp-content/uploads/sites/6/2024/05/Juneteenth-Adult-2024-1.jpg
END:VEVENT
BEGIN:VEVENT
DTSTART;TZID=America/New_York:20240619T180000
DTEND;TZID=America/New_York:20240619T203000
DTSTAMP:20260425T125737
CREATED:20240528T173212Z
LAST-MODIFIED:20240528T173212Z
UID:15028-1718820000-1718829000@www.unitedskates.com
SUMMARY:Juneteenth Family Skate
DESCRIPTION:Wednesday June 19th\, 2024\n6:00pm – 8:30pm\n\n\nCelebrate the Holiday with us!\n\n\n$7 Admission\n\n\n$5.00 Skate Rental\n\n\nHalf Price Games on Select games for the entire session\n\n\nAll guests ages 3-17 Must pay admission & skate rental (or bring their own). Non-Skating Adults may enter at no charge\nAll Adult skaters 18+ are required to fill out our Liability Waiver – Now available online. CLICK HERE\nGroup rates available for parties of 10+ – Click here for reservations\nBirthday Parties Available – CLICK HERE\nIs your group looking for a fun event and earn money? – Click here for more information!
URL:https://www.unitedskates.com/columbus/event/juneteenth-family-skate/
LOCATION:United Skates Of America Columbus\, 3362 Refugee Rd\, Columbus\, OH\, 43232\, United States
CATEGORIES:Family Events,Public Skates,Special Events
ATTACH;FMTTYPE=image/jpeg:https://unitedskates-assets.sfo3.digitaloceanspaces.com/wp-content/uploads/sites/6/2024/05/Juneteenth-2024.jpg
END:VEVENT
BEGIN:VEVENT
DTSTART;TZID=America/New_York:20240621T180000
DTEND;TZID=America/New_York:20240621T210000
DTSTAMP:20260425T125737
CREATED:20240528T185430Z
LAST-MODIFIED:20240528T185430Z
UID:15099-1718992800-1719003600@www.unitedskates.com
SUMMARY:Legend of Hip-Hop Skate
DESCRIPTION:Legends of HIP-HOP Skate\nFriday June 21st\, 2024\n6:00-9:00pm\n\n\n$10.00 Admission\n\n\nSkate Rental $5.00\n\n\nAll guests ages 3-17 Must pay admission & skate rental (or bring their own). Non-Skating Adults may enter at no charge\nAll Adult skaters 18+ are required to fill out our Liability Waiver – Now available online. CLICK HERE\nGroup rates available for parties of 15+ – Click here for reservations\nBirthday Parties Available – CLICK HERE\nIs your group looking for a fun event and earn money? – Click here for more information!
URL:https://www.unitedskates.com/columbus/event/legend-of-hip-hop-skate/
LOCATION:United Skates Of America Columbus\, 3362 Refugee Rd\, Columbus\, OH\, 43232\, United States
CATEGORIES:Family Events,Public Skates,Special Events
ATTACH;FMTTYPE=image/jpeg:https://unitedskates-assets.sfo3.digitaloceanspaces.com/wp-content/uploads/sites/6/2024/05/Legends-of-HipHop-062124.jpg
END:VEVENT
BEGIN:VEVENT
DTSTART;TZID=America/New_York:20240625T180000
DTEND;TZID=America/New_York:20240625T203000
DTSTAMP:20260425T125737
CREATED:20240529T165933Z
LAST-MODIFIED:20240529T165933Z
UID:15139-1719338400-1719347400@www.unitedskates.com
SUMMARY:Legends Skate Event
DESCRIPTION:Tuesday June 25th\, 2024\n6:00-8:30pm\nCelebrate the Music of Prince & Michael Jackson. Skate top the best Legends!\n\n\nAdmission – Two for $10 or One for $6\n\n\nSkate Rental $5\n\n\nAll guests ages 3-17 Must pay admission & skate rental (or bring their own). Non-Skating Adults may enter at no charge\nAll Adult skaters 18+ are required to fill out our Liability Waiver – Now available online. CLICK HERE\nGroup rates available for parties of 10+ – Click here for reservations\nBirthday Parties Available – CLICK HERE\nIs your group looking for a fun event and earn money? – Click here for more information!
URL:https://www.unitedskates.com/columbus/event/legends-skate-event/
LOCATION:United Skates Of America Columbus\, 3362 Refugee Rd\, Columbus\, OH\, 43232\, United States
CATEGORIES:Family Events,Public Skates,Special Events
ATTACH;FMTTYPE=image/jpeg:https://unitedskates-assets.sfo3.digitaloceanspaces.com/wp-content/uploads/sites/6/2024/05/Legends-tribute-skate-prince-MJ-062524.jpg
END:VEVENT
END:VCALENDAR