BEGIN:VCALENDAR
VERSION:2.0
PRODID:-//Rink 1 - Columbus - ECPv6.15.20//NONSGML v1.0//EN
CALSCALE:GREGORIAN
METHOD:PUBLISH
X-ORIGINAL-URL:https://www.unitedskates.com/columbus
X-WR-CALDESC:Events for Rink 1 - Columbus
REFRESH-INTERVAL;VALUE=DURATION:PT1H
X-Robots-Tag:noindex
X-PUBLISHED-TTL:PT1H
BEGIN:VTIMEZONE
TZID:America/New_York
BEGIN:DAYLIGHT
TZOFFSETFROM:-0500
TZOFFSETTO:-0400
TZNAME:EDT
DTSTART:20230312T070000
END:DAYLIGHT
BEGIN:STANDARD
TZOFFSETFROM:-0400
TZOFFSETTO:-0500
TZNAME:EST
DTSTART:20231105T060000
END:STANDARD
BEGIN:DAYLIGHT
TZOFFSETFROM:-0500
TZOFFSETTO:-0400
TZNAME:EDT
DTSTART:20240310T070000
END:DAYLIGHT
BEGIN:STANDARD
TZOFFSETFROM:-0400
TZOFFSETTO:-0500
TZNAME:EST
DTSTART:20241103T060000
END:STANDARD
BEGIN:DAYLIGHT
TZOFFSETFROM:-0500
TZOFFSETTO:-0400
TZNAME:EDT
DTSTART:20250309T070000
END:DAYLIGHT
BEGIN:STANDARD
TZOFFSETFROM:-0400
TZOFFSETTO:-0500
TZNAME:EST
DTSTART:20251102T060000
END:STANDARD
END:VTIMEZONE
BEGIN:VEVENT
DTSTART;VALUE=DATE:20240618
DTEND;VALUE=DATE:20240623
DTSTAMP:20260425T125846
CREATED:20240528T165129Z
LAST-MODIFIED:20240528T192337Z
UID:15024-1718686800-1719032399@www.unitedskates.com
SUMMARY:JUNETEENTH CELEBRATION WEEK
DESCRIPTION:June 18th – June 21st\, 2024\nCome Celebrate with us at United Skates for the Holiday Week!!\n\nTuesday: 12:00-2:30pm & 6:00-8:30pm. Special Event Adult Skate 9pm-12am\nWednesday: 12:00-2:30pm & 6:00-8:30pm\nThursday: 12:00-2:30pm & 6:00-8:30pm\nFriday: 12:00-2:30pm & 6:00-9:00pm *Legends of Hip-Hop Celebration
URL:https://www.unitedskates.com/columbus/event/juneteenth-celebration-week/
LOCATION:United Skates Of America Columbus\, 3362 Refugee Rd\, Columbus\, OH\, 43232\, United States
CATEGORIES:Adult Events,Family Events,Public Skates,Special Events
ATTACH;FMTTYPE=image/jpeg:https://unitedskates-assets.sfo3.digitaloceanspaces.com/wp-content/uploads/sites/6/2024/05/Juneteenth-week-2024-1.jpg
END:VEVENT
BEGIN:VEVENT
DTSTART;TZID=America/New_York:20240619T180000
DTEND;TZID=America/New_York:20240619T203000
DTSTAMP:20260425T125846
CREATED:20240528T173212Z
LAST-MODIFIED:20240528T173212Z
UID:15028-1718820000-1718829000@www.unitedskates.com
SUMMARY:Juneteenth Family Skate
DESCRIPTION:Wednesday June 19th\, 2024\n6:00pm – 8:30pm\n\n\nCelebrate the Holiday with us!\n\n\n$7 Admission\n\n\n$5.00 Skate Rental\n\n\nHalf Price Games on Select games for the entire session\n\n\nAll guests ages 3-17 Must pay admission & skate rental (or bring their own). Non-Skating Adults may enter at no charge\nAll Adult skaters 18+ are required to fill out our Liability Waiver – Now available online. CLICK HERE\nGroup rates available for parties of 10+ – Click here for reservations\nBirthday Parties Available – CLICK HERE\nIs your group looking for a fun event and earn money? – Click here for more information!
URL:https://www.unitedskates.com/columbus/event/juneteenth-family-skate/
LOCATION:United Skates Of America Columbus\, 3362 Refugee Rd\, Columbus\, OH\, 43232\, United States
CATEGORIES:Family Events,Public Skates,Special Events
ATTACH;FMTTYPE=image/jpeg:https://unitedskates-assets.sfo3.digitaloceanspaces.com/wp-content/uploads/sites/6/2024/05/Juneteenth-2024.jpg
END:VEVENT
END:VCALENDAR