BEGIN:VCALENDAR
VERSION:2.0
PRODID:-//Rink 1 - Columbus - ECPv6.15.20//NONSGML v1.0//EN
CALSCALE:GREGORIAN
METHOD:PUBLISH
X-ORIGINAL-URL:https://www.unitedskates.com/columbus
X-WR-CALDESC:Events for Rink 1 - Columbus
REFRESH-INTERVAL;VALUE=DURATION:PT1H
X-Robots-Tag:noindex
X-PUBLISHED-TTL:PT1H
BEGIN:VTIMEZONE
TZID:America/New_York
BEGIN:DAYLIGHT
TZOFFSETFROM:-0500
TZOFFSETTO:-0400
TZNAME:EDT
DTSTART:20230312T070000
END:DAYLIGHT
BEGIN:STANDARD
TZOFFSETFROM:-0400
TZOFFSETTO:-0500
TZNAME:EST
DTSTART:20231105T060000
END:STANDARD
BEGIN:DAYLIGHT
TZOFFSETFROM:-0500
TZOFFSETTO:-0400
TZNAME:EDT
DTSTART:20240310T070000
END:DAYLIGHT
BEGIN:STANDARD
TZOFFSETFROM:-0400
TZOFFSETTO:-0500
TZNAME:EST
DTSTART:20241103T060000
END:STANDARD
BEGIN:DAYLIGHT
TZOFFSETFROM:-0500
TZOFFSETTO:-0400
TZNAME:EDT
DTSTART:20250309T070000
END:DAYLIGHT
BEGIN:STANDARD
TZOFFSETFROM:-0400
TZOFFSETTO:-0500
TZNAME:EST
DTSTART:20251102T060000
END:STANDARD
END:VTIMEZONE
BEGIN:VEVENT
DTSTART;TZID=America/New_York:20240504T120000
DTEND;TZID=America/New_York:20240504T150000
DTSTAMP:20260424T151723
CREATED:20240414T160221Z
LAST-MODIFIED:20240414T171145Z
UID:14642-1714824000-1714834800@www.unitedskates.com
SUMMARY:Teacher Appreciation Skate
DESCRIPTION:Teacher Appreciation Skate\nFamily Skate & Birthday Parties : Top 40 Pop\n\n\n$10.00 Admission\n\n\n$5.00 Skate Rental\n\n\nTEACHERS – Show your school ID for 1/2 priced admission\, plus a FREE Slice of Cheese Pizza & Drink\n\nTickets available online or at door – https://www.eventbrite.com/e/teacher-appreciation-skate-at-united-skates-columbus-tickets-882901501157?aff=oddtdtcreator\n\nAll guests ages 3-17 Must pay admission & skate rental (or bring their own). Non-Skating Adults may enter at no charge\nAll Adult skaters 18+ are required to fill out our Liability Waiver – Now available online. CLICK HERE\nGroup rates available for parties of 15+ – Click here for reservations\nBirthday Parties Available – CLICK HERE\nIs your group looking for a fun event and earn money? – Click here for more information!
URL:https://www.unitedskates.com/columbus/event/teacher-appreciation-skate/
LOCATION:United Skates Of America Columbus\, 3362 Refugee Rd\, Columbus\, OH\, 43232\, United States
CATEGORIES:Family Events,Public Skates,Special Events
ATTACH;FMTTYPE=image/jpeg:https://unitedskates-assets.sfo3.digitaloceanspaces.com/wp-content/uploads/sites/6/2024/04/r1.-Teacher-Appreciation-Skate-1.jpg
END:VEVENT
END:VCALENDAR