BEGIN:VCALENDAR
VERSION:2.0
PRODID:-//Rink 1 - Columbus - ECPv6.15.20//NONSGML v1.0//EN
CALSCALE:GREGORIAN
METHOD:PUBLISH
X-WR-CALNAME:Rink 1 - Columbus
X-ORIGINAL-URL:https://www.unitedskates.com/columbus
X-WR-CALDESC:Events for Rink 1 - Columbus
REFRESH-INTERVAL;VALUE=DURATION:PT1H
X-Robots-Tag:noindex
X-PUBLISHED-TTL:PT1H
BEGIN:VTIMEZONE
TZID:America/New_York
BEGIN:DAYLIGHT
TZOFFSETFROM:-0500
TZOFFSETTO:-0400
TZNAME:EDT
DTSTART:20230312T070000
END:DAYLIGHT
BEGIN:STANDARD
TZOFFSETFROM:-0400
TZOFFSETTO:-0500
TZNAME:EST
DTSTART:20231105T060000
END:STANDARD
BEGIN:DAYLIGHT
TZOFFSETFROM:-0500
TZOFFSETTO:-0400
TZNAME:EDT
DTSTART:20240310T070000
END:DAYLIGHT
BEGIN:STANDARD
TZOFFSETFROM:-0400
TZOFFSETTO:-0500
TZNAME:EST
DTSTART:20241103T060000
END:STANDARD
BEGIN:DAYLIGHT
TZOFFSETFROM:-0500
TZOFFSETTO:-0400
TZNAME:EDT
DTSTART:20250309T070000
END:DAYLIGHT
BEGIN:STANDARD
TZOFFSETFROM:-0400
TZOFFSETTO:-0500
TZNAME:EST
DTSTART:20251102T060000
END:STANDARD
END:VTIMEZONE
BEGIN:VEVENT
DTSTART;TZID=America/New_York:20240419T180000
DTEND;TZID=America/New_York:20240419T210000
DTSTAMP:20260425T081241
CREATED:20240325T174302Z
LAST-MODIFIED:20240325T174715Z
UID:14552-1713549600-1713560400@www.unitedskates.com
SUMMARY:Pajama Jam GLOW Hip-Hop Skate
DESCRIPTION:Family HIP-HOP Pajama Jam Skate \nFriday April 19th\, 2024\n\n\n$10.00 Admission\n\n\nWear Your Favorite Pajamas for a FREE GLOW STICK\n\n\nSkate Rental $5.00\n\n\nGame\, Prizes\, & More for Pajama Participants!\n\n\nAll guests ages 3-17 Must pay admission & skate rental (or bring their own). Non-Skating Adults may enter at no charge All Adult skaters 18+ are required to fill out our Liability Waiver – Now available online. CLICK HERE \nGroup rates available for parties of 15+ – Click here for reservations \nBirthday Parties Available – CLICK HERE \nIs your group looking for a fun event and earn money? – Click here for more information!
URL:https://www.unitedskates.com/columbus/event/pajama-jam-glow-hip-hop-skate/
LOCATION:United Skates Of America Columbus\, 3362 Refugee Rd\, Columbus\, OH\, 43232\, United States
CATEGORIES:Family Events,Public Skates,Special Events
ATTACH;FMTTYPE=image/jpeg:https://unitedskates-assets.sfo3.digitaloceanspaces.com/wp-content/uploads/sites/6/2024/03/Pajamas-Jam-Skate-041924.jpg
END:VEVENT
END:VCALENDAR