BEGIN:VCALENDAR
VERSION:2.0
PRODID:-//Rink 1 - Columbus - ECPv6.15.20//NONSGML v1.0//EN
CALSCALE:GREGORIAN
METHOD:PUBLISH
X-ORIGINAL-URL:https://www.unitedskates.com/columbus
X-WR-CALDESC:Events for Rink 1 - Columbus
REFRESH-INTERVAL;VALUE=DURATION:PT1H
X-Robots-Tag:noindex
X-PUBLISHED-TTL:PT1H
BEGIN:VTIMEZONE
TZID:America/New_York
BEGIN:DAYLIGHT
TZOFFSETFROM:-0500
TZOFFSETTO:-0400
TZNAME:EDT
DTSTART:20230312T070000
END:DAYLIGHT
BEGIN:STANDARD
TZOFFSETFROM:-0400
TZOFFSETTO:-0500
TZNAME:EST
DTSTART:20231105T060000
END:STANDARD
BEGIN:DAYLIGHT
TZOFFSETFROM:-0500
TZOFFSETTO:-0400
TZNAME:EDT
DTSTART:20240310T070000
END:DAYLIGHT
BEGIN:STANDARD
TZOFFSETFROM:-0400
TZOFFSETTO:-0500
TZNAME:EST
DTSTART:20241103T060000
END:STANDARD
BEGIN:DAYLIGHT
TZOFFSETFROM:-0500
TZOFFSETTO:-0400
TZNAME:EDT
DTSTART:20250309T070000
END:DAYLIGHT
BEGIN:STANDARD
TZOFFSETFROM:-0400
TZOFFSETTO:-0500
TZNAME:EST
DTSTART:20251102T060000
END:STANDARD
END:VTIMEZONE
BEGIN:VEVENT
DTSTART;TZID=America/New_York:20240302T120000
DTEND;TZID=America/New_York:20240302T150000
DTSTAMP:20260424T203106
CREATED:20240201T183026Z
LAST-MODIFIED:20240201T183309Z
UID:14258-1709380800-1709391600@www.unitedskates.com
SUMMARY:BSA Scout Appreciation Weekend Skate
DESCRIPTION:BSA Weekend Skating! 🛼\nCome with your Troop\, or just a few scout mates! Discounted Rollerskating with advance reservation!\n\n\nSaturday March 2nd\, 2024 12:00pm-3:00pm\n\n\nSunday March 3rd\, 2024\, 1:00-3:30pm\n\n\n$10 Admission includes skate rental & 20 Game Credits!\nCome Skate\, Play & Celebrate the BSA!!\nRSVP Required for discounted rate – SIGN UP HERE IN ADVANCE
URL:https://www.unitedskates.com/columbus/event/bsa-scout-appreciation-weekend-skate/
LOCATION:United Skates Of America Columbus\, 3362 Refugee Rd\, Columbus\, OH\, 43232\, United States
CATEGORIES:Family Events,Public Skates,Special Events
ATTACH;FMTTYPE=image/jpeg:https://unitedskates-assets.sfo3.digitaloceanspaces.com/wp-content/uploads/sites/6/2024/02/BSA-Scout-Weekend-0324.jpg
END:VEVENT
BEGIN:VEVENT
DTSTART;TZID=America/New_York:20240309T120000
DTEND;TZID=America/New_York:20240309T150000
DTSTAMP:20260424T203106
CREATED:20240229T203346Z
LAST-MODIFIED:20240229T203346Z
UID:14309-1709985600-1709996400@www.unitedskates.com
SUMMARY:Luau Skate with STITCH
DESCRIPTION:Saturday March 9th\, 2024\n12:00pm-3:00pm\nTop 40 Pop\n\n\nCome Meet\, Greet & Skate with STITCH!\n\n\n$10.00 Admission\n\n\n$5.00 Skate Rental\n\n\nAll guests ages 3-17 Must pay admission & skate rental (or bring their own). Non-Skating Adults may enter at no charge\nAll Adult skaters 18+ are required to fill out our Liability Waiver – Now available online. CLICK HERE\nGroup rates available for parties of 15+ – Click here for reservations\nBirthday Parties Available – CLICK HERE\nIs your group looking for a fun event and earn money? – Click here for more information!
URL:https://www.unitedskates.com/columbus/event/luau-skate-with-stitch/
LOCATION:United Skates Of America Columbus\, 3362 Refugee Rd\, Columbus\, OH\, 43232\, United States
CATEGORIES:Public Skates,Special Events
ATTACH;FMTTYPE=image/jpeg:https://unitedskates-assets.sfo3.digitaloceanspaces.com/wp-content/uploads/sites/6/2024/02/skate-luau-with-Stitch-030924.jpg
END:VEVENT
BEGIN:VEVENT
DTSTART;TZID=America/New_York:20240317T130000
DTEND;TZID=America/New_York:20240317T153000
DTSTAMP:20260424T203106
CREATED:20240201T193626Z
LAST-MODIFIED:20240229T211255Z
UID:14266-1710680400-1710689400@www.unitedskates.com
SUMMARY:Shamrock Skate and Roll
DESCRIPTION:Sunday March 17th\, 2024\nFamily Hip-Hop\n\n\n$10.00 Admission *Wear Green for $2.00 off admission & Free Glow Stick\n\n\n$5.00 Skate Rental\n\n\nAll children ages 3-17 Must pay admission & skate rental (or bring their own) Non-Skating Adults may enter for free.\n*Birthday Party Reservations Available! Click HERE to reserve\nAdult Skaters are required to complete our Waiver of Liability form – Now available online! CLICK HERE
URL:https://www.unitedskates.com/columbus/event/shamrock-skate-roll/
LOCATION:United Skates Of America Columbus\, 3362 Refugee Rd\, Columbus\, OH\, 43232\, United States
CATEGORIES:Family Events,Public Skates,Special Events
ATTACH;FMTTYPE=image/jpeg:https://unitedskates-assets.sfo3.digitaloceanspaces.com/wp-content/uploads/sites/6/2024/02/shamrock-n-roll-skate-.jpeg
END:VEVENT
BEGIN:VEVENT
DTSTART;TZID=America/New_York:20240324T130000
DTEND;TZID=America/New_York:20240324T153000
DTSTAMP:20260424T203106
CREATED:20240229T212648Z
LAST-MODIFIED:20240229T213620Z
UID:14314-1711285200-1711294200@www.unitedskates.com
SUMMARY:March Madness Skate
DESCRIPTION:Sunday March 24th\, 2024\n1:00pm-3:30pm\nFamily Hip-Hop\n\n\n$10.00 Admission \n\n\n*Wear your favorite Sports Jersey & get $2.00 off admission\n\n\n$5.00 Skate Rental\n\n\nCome skate & Cheer on your favorite college basketball team at United Skates!!\nAll children ages 3-17 Must pay admission & skate rental (or bring their own) Non-Skating Adults may enter for free.\n*Birthday Party Reservations Available! Click HERE to reserve\nAdult Skaters are required to complete our Waiver of Liability form – Now available online! CLICK HERE
URL:https://www.unitedskates.com/columbus/event/march-madness-skate/
LOCATION:United Skates Of America Columbus\, 3362 Refugee Rd\, Columbus\, OH\, 43232\, United States
CATEGORIES:Family Events,Public Skates,Special Events
ATTACH;FMTTYPE=image/jpeg:https://unitedskates-assets.sfo3.digitaloceanspaces.com/wp-content/uploads/sites/6/2024/02/march-madness.032424.jpg
END:VEVENT
BEGIN:VEVENT
DTSTART;VALUE=DATE:20240326
DTEND;VALUE=DATE:20240407
DTSTAMP:20260424T203106
CREATED:20240314T183113Z
LAST-MODIFIED:20240314T183114Z
UID:14462-1711429200-1712379599@www.unitedskates.com
SUMMARY:Spring Break Roller Skating
DESCRIPTION:Tuesday March 26th – Friday April 5th\nJoin us for Family Fun\, Special Events & Discounted Group Rates over Spring Break 24\nGroup rates available for parties of 15+ – Click here for reservations\nBirthday Parties Available – CLICK HERE\nIs your group looking for a fun event and earn money? – Click here for more information!
URL:https://www.unitedskates.com/columbus/event/spring-break-roller-skating/
LOCATION:United Skates Of America Columbus\, 3362 Refugee Rd\, Columbus\, OH\, 43232\, United States
CATEGORIES:Family Events,Public Skates,Special Events
ATTACH;FMTTYPE=image/jpeg:https://unitedskates-assets.sfo3.digitaloceanspaces.com/wp-content/uploads/sites/6/2024/03/Spring-Break-2024-Calendar-Front-rink-1-1.jpg
END:VEVENT
BEGIN:VEVENT
DTSTART;TZID=America/New_York:20240326T133000
DTEND;TZID=America/New_York:20240326T160000
DTSTAMP:20260424T203106
CREATED:20240314T175341Z
LAST-MODIFIED:20240314T175342Z
UID:14385-1711459800-1711468800@www.unitedskates.com
SUMMARY:SB 2 For $10 Tuesday
DESCRIPTION:Spring Break Tuesdays!!\n1:30-4pm\n6-8:30pm\n\n\nAdmission – Two for $10 or One for $5\n\n\nSkate Rental $5\n\n\nAll guests ages 3-17 Must pay admission & skate rental (or bring their own). Non-Skating Adults may enter at no charge\nAll Adult skaters 18+ are required to fill out our Liability Waiver – Now available online. CLICK HERE\nSpring Break Group rates available for parties of 10+ – Click here for reservations\nBirthday Parties Available – CLICK HERE\nIs your group looking for a fun event and earn money? – Click here for more information!
URL:https://www.unitedskates.com/columbus/event/sb-2-for-10-tuesday/2024-03-26/
LOCATION:United Skates Of America Columbus\, 3362 Refugee Rd\, Columbus\, OH\, 43232\, United States
CATEGORIES:Family Events,Public Skates,Special Events
ATTACH;FMTTYPE=image/jpeg:https://unitedskates-assets.sfo3.digitaloceanspaces.com/wp-content/uploads/sites/6/2024/03/R1.-SB-Two-for-10-Tuesday-24.jpg
END:VEVENT
BEGIN:VEVENT
DTSTART;TZID=America/New_York:20240327T133000
DTEND;TZID=America/New_York:20240327T160000
DTSTAMP:20260424T203106
CREATED:20240314T180218Z
LAST-MODIFIED:20240314T180218Z
UID:14391-1711546200-1711555200@www.unitedskates.com
SUMMARY:SB Daytime Skating
DESCRIPTION:Spring Break Daytime Skates\nWednesday March 27th\, Thursday March 28th\, & Friday March 29th\n1:30-4:00pm\n\n\nAdmission $10\n\n\nSkate Rental $5\n\n\nAll guests ages 3-17 Must pay admission & skate rental (or bring their own). Non-Skating Adults may enter at no charge\nAll Adult skaters 18+ are required to fill out our Liability Waiver – Now available online. CLICK HERE\nGroup rates available for parties of 10+ – Click here for reservations\nBirthday Parties Available – CLICK HERE\nIs your group looking for a fun event and earn money? – Click here for more information!
URL:https://www.unitedskates.com/columbus/event/sb-daytime-skating/2024-03-27/
LOCATION:United Skates Of America Columbus\, 3362 Refugee Rd\, Columbus\, OH\, 43232\, United States
CATEGORIES:Family Events,Public Skates,Special Events
ATTACH;FMTTYPE=image/jpeg:https://unitedskates-assets.sfo3.digitaloceanspaces.com/wp-content/uploads/sites/6/2024/03/Spring-Roller-Skate-MARCH-2024.jpg
END:VEVENT
BEGIN:VEVENT
DTSTART;VALUE=DATE:20240329
DTEND;VALUE=DATE:20240402
DTSTAMP:20260424T203106
CREATED:20240314T183320Z
LAST-MODIFIED:20240314T183320Z
UID:14465-1711688400-1711947599@www.unitedskates.com
SUMMARY:Open Skating over Easter Weekend 🐰🐣🐥
DESCRIPTION:Friday March 29th – Sunday March 31st \nJoin us for Family Fun\, Special Events & Discounted Group Rates over Spring Break 24\nGroup rates available for parties of 15+ – Click here for reservations\nBirthday Parties Available – CLICK HERE\nIs your group looking for a fun event and earn money? – Click here for more information!
URL:https://www.unitedskates.com/columbus/event/open-skating-over-easter-weekend-%f0%9f%90%b0%f0%9f%90%a3%f0%9f%90%a5/
LOCATION:United Skates Of America Columbus\, 3362 Refugee Rd\, Columbus\, OH\, 43232\, United States
CATEGORIES:Family Events,Public Skates,Special Events
ATTACH;FMTTYPE=image/jpeg:https://unitedskates-assets.sfo3.digitaloceanspaces.com/wp-content/uploads/sites/6/2024/03/Easter-Weekend-2024.jpg
END:VEVENT
BEGIN:VEVENT
DTSTART;TZID=America/New_York:20240329T110000
DTEND;TZID=America/New_York:20240329T130000
DTSTAMP:20260424T203106
CREATED:20240314T180426Z
LAST-MODIFIED:20240314T180427Z
UID:14396-1711710000-1711717200@www.unitedskates.com
SUMMARY:Donut Skate with Trolls
DESCRIPTION:Friday March 29th\, 2024\n11:00am-1:00pm\n\n\nAdmission $6.00 includes FREE Donut!\n\n\nSkate Rental $5\n\n\nAll guests ages 3-17 Must pay admission & skate rental (or bring their own). Non-Skating Adults may enter at no charge\nAll Adult skaters 18+ are required to fill out our Liability Waiver – Now available online. CLICK HERE\nGroup rates available for parties of 10+ – Click here for reservations\nBirthday Parties Available – CLICK HERE\nIs your group looking for a fun event and earn money? – Click here for more information!
URL:https://www.unitedskates.com/columbus/event/donut-skate-with-trolls/
LOCATION:United Skates Of America Columbus\, 3362 Refugee Rd\, Columbus\, OH\, 43232\, United States
CATEGORIES:Family Events,Public Skates,Special Events
ATTACH;FMTTYPE=image/jpeg:https://unitedskates-assets.sfo3.digitaloceanspaces.com/wp-content/uploads/sites/6/2024/03/Donuts-with-Trolls-032924.jpg
END:VEVENT
BEGIN:VEVENT
DTSTART;TZID=America/New_York:20240330T120000
DTEND;TZID=America/New_York:20240330T150000
DTSTAMP:20260424T203106
CREATED:20240314T181026Z
LAST-MODIFIED:20240314T181321Z
UID:14402-1711800000-1711810800@www.unitedskates.com
SUMMARY:Easter Bunny and Craft Skate
DESCRIPTION:Family Top 40 Pop\n\n\n$10.00 Admission includes Easter Bunny Visits & Free Craft\n\n\n$5.00 Skate Rental\n\n\nAll guests ages 3-17 Must pay admission & skate rental (or bring their own). Non-Skating Adults may enter at no charge\nAll Adult skaters 18+ are required to fill out our Liability Waiver – Now available online. CLICK HERE\nGroup rates available for parties of 15+ – Click here for reservations\nBirthday Parties Available – CLICK HERE\nIs your group looking for a fun event and earn money? – Click here for more information!
URL:https://www.unitedskates.com/columbus/event/easter-bunny-craft-skate/
LOCATION:United Skates Of America Columbus\, 3362 Refugee Rd\, Columbus\, OH\, 43232\, United States
CATEGORIES:Family Events,Public Skates,Special Events
ATTACH;FMTTYPE=image/jpeg:https://unitedskates-assets.sfo3.digitaloceanspaces.com/wp-content/uploads/sites/6/2024/03/Skate-Craft-with-Easter-Bunny-033024.jpg
END:VEVENT
BEGIN:VEVENT
DTSTART;TZID=America/New_York:20240331T160000
DTEND;TZID=America/New_York:20240331T190000
DTSTAMP:20260424T203106
CREATED:20240314T182840Z
LAST-MODIFIED:20240314T182840Z
UID:14459-1711900800-1711911600@www.unitedskates.com
SUMMARY:Easter Sunday Skating
DESCRIPTION:Sunday March 31st\, 2024\n4:00-7:00pm\nFamily Hip-Hop Skate with the Easter Bunny\n\n\n$10.00 Admission\n\n\n$5.00 Skate Rental\n\n\nAll guests ages 3-17 Must pay admission & skate rental (or bring their own). Non-Skating Adults may enter at no charge\nAll Adult skaters 18+ are required to fill out our Liability Waiver – Now available online. CLICK HERE\nGroup rates available for parties of 15+ – Click here for reservations\nBirthday Parties Available – CLICK HERE\nIs your group looking for a fun event and earn money? – Click here for more information!
URL:https://www.unitedskates.com/columbus/event/easter-sunday-skating/
LOCATION:United Skates Of America Columbus\, 3362 Refugee Rd\, Columbus\, OH\, 43232\, United States
CATEGORIES:Family Events,Public Skates,Special Events
ATTACH;FMTTYPE=image/jpeg:https://unitedskates-assets.sfo3.digitaloceanspaces.com/wp-content/uploads/sites/6/2024/03/Easter-Sunday-Skate-2024.jpg
END:VEVENT
END:VCALENDAR