BEGIN:VCALENDAR
VERSION:2.0
PRODID:-//Rink 1 - Columbus - ECPv6.15.20//NONSGML v1.0//EN
CALSCALE:GREGORIAN
METHOD:PUBLISH
X-WR-CALNAME:Rink 1 - Columbus
X-ORIGINAL-URL:https://www.unitedskates.com/columbus
X-WR-CALDESC:Events for Rink 1 - Columbus
REFRESH-INTERVAL;VALUE=DURATION:PT1H
X-Robots-Tag:noindex
X-PUBLISHED-TTL:PT1H
BEGIN:VTIMEZONE
TZID:America/New_York
BEGIN:DAYLIGHT
TZOFFSETFROM:-0500
TZOFFSETTO:-0400
TZNAME:EDT
DTSTART:20230312T070000
END:DAYLIGHT
BEGIN:STANDARD
TZOFFSETFROM:-0400
TZOFFSETTO:-0500
TZNAME:EST
DTSTART:20231105T060000
END:STANDARD
BEGIN:DAYLIGHT
TZOFFSETFROM:-0500
TZOFFSETTO:-0400
TZNAME:EDT
DTSTART:20240310T070000
END:DAYLIGHT
BEGIN:STANDARD
TZOFFSETFROM:-0400
TZOFFSETTO:-0500
TZNAME:EST
DTSTART:20241103T060000
END:STANDARD
BEGIN:DAYLIGHT
TZOFFSETFROM:-0500
TZOFFSETTO:-0400
TZNAME:EDT
DTSTART:20250309T070000
END:DAYLIGHT
BEGIN:STANDARD
TZOFFSETFROM:-0400
TZOFFSETTO:-0500
TZNAME:EST
DTSTART:20251102T060000
END:STANDARD
END:VTIMEZONE
BEGIN:VEVENT
DTSTART;VALUE=DATE:20240326
DTEND;VALUE=DATE:20240407
DTSTAMP:20260424T134104
CREATED:20240314T183113Z
LAST-MODIFIED:20240314T183114Z
UID:14462-1711429200-1712379599@www.unitedskates.com
SUMMARY:Spring Break Roller Skating
DESCRIPTION:Tuesday March 26th – Friday April 5th\nJoin us for Family Fun\, Special Events & Discounted Group Rates over Spring Break 24\nGroup rates available for parties of 15+ – Click here for reservations\nBirthday Parties Available – CLICK HERE\nIs your group looking for a fun event and earn money? – Click here for more information!
URL:https://www.unitedskates.com/columbus/event/spring-break-roller-skating/
LOCATION:United Skates Of America Columbus\, 3362 Refugee Rd\, Columbus\, OH\, 43232\, United States
CATEGORIES:Family Events,Public Skates,Special Events
ATTACH;FMTTYPE=image/jpeg:https://unitedskates-assets.sfo3.digitaloceanspaces.com/wp-content/uploads/sites/6/2024/03/Spring-Break-2024-Calendar-Front-rink-1-1.jpg
END:VEVENT
BEGIN:VEVENT
DTSTART;VALUE=DATE:20240329
DTEND;VALUE=DATE:20240402
DTSTAMP:20260424T134104
CREATED:20240314T183320Z
LAST-MODIFIED:20240314T183320Z
UID:14465-1711688400-1711947599@www.unitedskates.com
SUMMARY:Open Skating over Easter Weekend 🐰🐣🐥
DESCRIPTION:Friday March 29th – Sunday March 31st \nJoin us for Family Fun\, Special Events & Discounted Group Rates over Spring Break 24\nGroup rates available for parties of 15+ – Click here for reservations\nBirthday Parties Available – CLICK HERE\nIs your group looking for a fun event and earn money? – Click here for more information!
URL:https://www.unitedskates.com/columbus/event/open-skating-over-easter-weekend-%f0%9f%90%b0%f0%9f%90%a3%f0%9f%90%a5/
LOCATION:United Skates Of America Columbus\, 3362 Refugee Rd\, Columbus\, OH\, 43232\, United States
CATEGORIES:Family Events,Public Skates,Special Events
ATTACH;FMTTYPE=image/jpeg:https://unitedskates-assets.sfo3.digitaloceanspaces.com/wp-content/uploads/sites/6/2024/03/Easter-Weekend-2024.jpg
END:VEVENT
BEGIN:VEVENT
DTSTART;TZID=America/New_York:20240329T110000
DTEND;TZID=America/New_York:20240329T130000
DTSTAMP:20260424T134104
CREATED:20240314T180426Z
LAST-MODIFIED:20240314T180427Z
UID:14396-1711710000-1711717200@www.unitedskates.com
SUMMARY:Donut Skate with Trolls
DESCRIPTION:Friday March 29th\, 2024\n11:00am-1:00pm\n\n\nAdmission $6.00 includes FREE Donut!\n\n\nSkate Rental $5\n\n\nAll guests ages 3-17 Must pay admission & skate rental (or bring their own). Non-Skating Adults may enter at no charge\nAll Adult skaters 18+ are required to fill out our Liability Waiver – Now available online. CLICK HERE\nGroup rates available for parties of 10+ – Click here for reservations\nBirthday Parties Available – CLICK HERE\nIs your group looking for a fun event and earn money? – Click here for more information!
URL:https://www.unitedskates.com/columbus/event/donut-skate-with-trolls/
LOCATION:United Skates Of America Columbus\, 3362 Refugee Rd\, Columbus\, OH\, 43232\, United States
CATEGORIES:Family Events,Public Skates,Special Events
ATTACH;FMTTYPE=image/jpeg:https://unitedskates-assets.sfo3.digitaloceanspaces.com/wp-content/uploads/sites/6/2024/03/Donuts-with-Trolls-032924.jpg
END:VEVENT
END:VCALENDAR