BEGIN:VCALENDAR
VERSION:2.0
PRODID:-//Rink 1 - Columbus - ECPv6.15.20//NONSGML v1.0//EN
CALSCALE:GREGORIAN
METHOD:PUBLISH
X-WR-CALNAME:Rink 1 - Columbus
X-ORIGINAL-URL:https://www.unitedskates.com/columbus
X-WR-CALDESC:Events for Rink 1 - Columbus
REFRESH-INTERVAL;VALUE=DURATION:PT1H
X-Robots-Tag:noindex
X-PUBLISHED-TTL:PT1H
BEGIN:VTIMEZONE
TZID:America/New_York
BEGIN:DAYLIGHT
TZOFFSETFROM:-0500
TZOFFSETTO:-0400
TZNAME:EDT
DTSTART:20230312T070000
END:DAYLIGHT
BEGIN:STANDARD
TZOFFSETFROM:-0400
TZOFFSETTO:-0500
TZNAME:EST
DTSTART:20231105T060000
END:STANDARD
BEGIN:DAYLIGHT
TZOFFSETFROM:-0500
TZOFFSETTO:-0400
TZNAME:EDT
DTSTART:20240310T070000
END:DAYLIGHT
BEGIN:STANDARD
TZOFFSETFROM:-0400
TZOFFSETTO:-0500
TZNAME:EST
DTSTART:20241103T060000
END:STANDARD
BEGIN:DAYLIGHT
TZOFFSETFROM:-0500
TZOFFSETTO:-0400
TZNAME:EDT
DTSTART:20250309T070000
END:DAYLIGHT
BEGIN:STANDARD
TZOFFSETFROM:-0400
TZOFFSETTO:-0500
TZNAME:EST
DTSTART:20251102T060000
END:STANDARD
END:VTIMEZONE
BEGIN:VEVENT
DTSTART;TZID=America/New_York:20240302T120000
DTEND;TZID=America/New_York:20240302T150000
DTSTAMP:20260424T134057
CREATED:20240201T183026Z
LAST-MODIFIED:20240201T183309Z
UID:14258-1709380800-1709391600@www.unitedskates.com
SUMMARY:BSA Scout Appreciation Weekend Skate
DESCRIPTION:BSA Weekend Skating! 🛼\nCome with your Troop\, or just a few scout mates! Discounted Rollerskating with advance reservation!\n\n\nSaturday March 2nd\, 2024 12:00pm-3:00pm\n\n\nSunday March 3rd\, 2024\, 1:00-3:30pm\n\n\n$10 Admission includes skate rental & 20 Game Credits!\nCome Skate\, Play & Celebrate the BSA!!\nRSVP Required for discounted rate – SIGN UP HERE IN ADVANCE
URL:https://www.unitedskates.com/columbus/event/bsa-scout-appreciation-weekend-skate/
LOCATION:United Skates Of America Columbus\, 3362 Refugee Rd\, Columbus\, OH\, 43232\, United States
CATEGORIES:Family Events,Public Skates,Special Events
ATTACH;FMTTYPE=image/jpeg:https://unitedskates-assets.sfo3.digitaloceanspaces.com/wp-content/uploads/sites/6/2024/02/BSA-Scout-Weekend-0324.jpg
END:VEVENT
END:VCALENDAR