BEGIN:VCALENDAR
VERSION:2.0
PRODID:-//Rink 1 - Columbus - ECPv6.15.20//NONSGML v1.0//EN
CALSCALE:GREGORIAN
METHOD:PUBLISH
X-WR-CALNAME:Rink 1 - Columbus
X-ORIGINAL-URL:https://www.unitedskates.com/columbus
X-WR-CALDESC:Events for Rink 1 - Columbus
REFRESH-INTERVAL;VALUE=DURATION:PT1H
X-Robots-Tag:noindex
X-PUBLISHED-TTL:PT1H
BEGIN:VTIMEZONE
TZID:America/New_York
BEGIN:DAYLIGHT
TZOFFSETFROM:-0500
TZOFFSETTO:-0400
TZNAME:EDT
DTSTART:20220313T070000
END:DAYLIGHT
BEGIN:STANDARD
TZOFFSETFROM:-0400
TZOFFSETTO:-0500
TZNAME:EST
DTSTART:20221106T060000
END:STANDARD
BEGIN:DAYLIGHT
TZOFFSETFROM:-0500
TZOFFSETTO:-0400
TZNAME:EDT
DTSTART:20230312T070000
END:DAYLIGHT
BEGIN:STANDARD
TZOFFSETFROM:-0400
TZOFFSETTO:-0500
TZNAME:EST
DTSTART:20231105T060000
END:STANDARD
BEGIN:DAYLIGHT
TZOFFSETFROM:-0500
TZOFFSETTO:-0400
TZNAME:EDT
DTSTART:20240310T070000
END:DAYLIGHT
BEGIN:STANDARD
TZOFFSETFROM:-0400
TZOFFSETTO:-0500
TZNAME:EST
DTSTART:20241103T060000
END:STANDARD
END:VTIMEZONE
BEGIN:VEVENT
DTSTART;TZID=America/New_York:20230630T180000
DTEND;TZID=America/New_York:20230630T210000
DTSTAMP:20260422T191159
CREATED:20230626T211350Z
LAST-MODIFIED:20230626T211406Z
UID:11629-1688148000-1688158800@www.unitedskates.com
SUMMARY:50Th Anniversary of Hip-Hop Skate Party
DESCRIPTION:Come Skate & Celebrate 50 Years of Great Hip=Hop Musicv at United Sjated This weekemd\n\n\nFriday June 30th\n\n\n 6:00-9:00pm\n\n\n$9.00 Admission / $5.00 Skate Rental\n\n\n\n\n\n\nSaturday July 1st\n\n\n4:00-7:00pm\n\n\n$9.00 Admission / $5.00 Skate Rental\n\n\n\n\n7:30pm-10:00pm\n\n\n$11.00 Admission / $5.00 Skate Rental\n\n\n\n\n\n\nSunday July 2nd\n\n\n4:00-7:00pm\n\n\n$9.00 Admission / $5.00 Skate Rental\n\n\n\n\n\n\nAll guests ages 3-17 Must pay admission & skate rental (or bring their own). Non-Skating Adults may enter at no charge\nAll Adult skaters 18+ are required to fill out our Liability Waiver – Now available online. CLICK HERE\nGroup rates available for parties of 10+ – Click here for reservations\nBirthday Parties Available – CLICK HERE\nIs your group looking for a fun event and earn money? – Click here for more information!
URL:https://www.unitedskates.com/columbus/event/50th-anniversary-of-hip-hop-skate-party/2023-06-30/
LOCATION:United Skates Of America Columbus\, 3362 Refugee Rd\, Columbus\, OH\, 43232\, United States
CATEGORIES:Family Events,Public Skates,Special Events
ATTACH;FMTTYPE=image/jpeg:https://unitedskates-assets.sfo3.digitaloceanspaces.com/wp-content/uploads/sites/6/2023/06/Hip-Hop-50th-Anniversary-2023-RINK-1.jpg
END:VEVENT
END:VCALENDAR